Workbook

Sheet POCO_CTES
A8: CO-PO MAPPING
A9: M.ARCH.(PROJECT MANAGEMENT )
A10: SEMESTER | B10: CO | C10: PO-1 | D10: PO-2 | E10: PO-3 | F10: PO-4 | G10: PO-5 | H10: PO-6 | I10: PO-7 | J10: PO-8
C11: Domain Knowledge - Humane & Sustainable Dev. | D11: Technical Knowledge base of craft,culture & technology of the discipline | E11: Creative & Critical thinking and Problem solving | F11: Individual & Teamwork communication skills | G11: Digital Competency | H11: Leadership readiness & Professionalism | I11: Intercultural and Ethical Competence | J11: Social Responsibility
A12: SEMESTER- 1 | B12: TH-01 (Management Theories - Principles & Practices) | D12: 3 | F12: 2 | I12: 3 | J12: 2
B13: TH-02 (Law-1:Legal Framework in Construction) | C13: 3 | D13: 3 | J13: 3
B14: TH-03 (Project Planning & Sch.Monitoring & Control) | C14: 3 | E14: 3 | G14: 2
B15: ST-01 (Const.Material & its Mgmt) | C15: 3 | D15: 3 | E15: 2 | F15: 3 | H15: 2
B16: ST-02 (Comp.App.in const.) | D16: 3 | G16: 3
B17: EL-01 (Elective-1) | C17: 3 | D17: 3
B18: EL-02 (Elective-2) | C18: 3 | D18: 3 | E18: 3
A19: SEMESTER- 2 | B19: TH-04 (Project Acocunts & Economics) | D19: 1 | E19: 3 | G19: 2 | I19: 3 | J19: 1
B20: TH-05 (Law 2: Contract Management) | C20: 3 | D20: 3 | F20: 3 | H20: 2 | I20: 2 | J20: 3
B21: TH-06 (Construction Equipment & Personnel Mgmt.) | C21: 3 | D21: 3 | E21: 1 | F21: 3 | G21: 2 | H21: 3
B22: ST-03 (Advancre Construction Methods & Techniques) | D22: 3 | E22: 2 | F22: 3 | G22: 2 | H22: 3 | I22: 2
B23: ST-04 (Research Methods in Construction.) | D23: 3 | G23: 3 | I23: 3 | J23: 3
B24: EL-03 (Elective-1) | D24: 3 | E24: 3 | G24: 2
B25: EL-04 (Elective-2) | D25: 3 | E25: 3 | G25: 3
A26: SEMESTER- 3 | B26: TH-07 (Project Appraisal & Finance Management) | D26: 1 | E26: 3 | G26: 2 | I26: 3 | J26: 1
B27: TH-08 (Construction Marketing Managment) | C27: 3 | D27: 1 | E27: 2 | F27: 3 | H27: 3 | I27: 2 | J27: 2
B28: TH-09 (Managerial Decision Making) | D28: 3 | E28: 3 | H28: 2
B29: ST-05 (Construction Management Studio) | D29: 3 | E29: 3 | F29: 3 | G29: 2 | H29: 3 | I29: 2
B30: ST-06 (Dissertation Stage - I) | D30: 3 | E30: 3 | F30: 3 | G30: 3 | I30: 3 | J30: 3
B31: EL-05 (Elective-1) | D31: 3 | E31: 3 | G31: 2
B32: EL-06 (Elective-2) | D32: 3 | E32: 3 | G32: 3
A33: SEMESTER- 4 | B33: ST-07 (Dissertation Stage - II) | D33: 3 | E33: 3 | F33: 3 | G33: 3 | I33: 3 | J33: 3
B34: EL-07 (Elective-1) | D34: 3 | E34: 3 | G34: 2
B35: EL-08 (Elective-2) | D35: 3 | E35: 3 | G35: 3
C36: =SUM(C12:C35) -> 24 | D36: =SUM(D12:D35) -> 63 | E36: =SUM(E12:E35) -> 49 | F36: =SUM(F12:F35) -> 26 | G36: =SUM(G12:G35) -> 39 | H36: =SUM(H12:H35) -> 18 | I36: =SUM(I12:I35) -> 26 | J36: =SUM(J12:J35) -> 21
A37: AVG.MAPPING | C37: =C36/8 -> 3 | D37: =D36/23 -> 2.7391304 | E37: =E36/18 -> 2.7222222 | F37: =F36/9 -> 2.8888889 | G37: =G36/16 -> 2.4375 | H37: =H36/7 -> 2.5714286 | I37: =I36/10 -> 2.6 | J37: =J36/9 -> 2.3333333
L136: =L135/180*100 -> 0 | N136: =N135/180*100 -> 0 | P136: =P135/180*100 -> 0

Sheet AY 19-20
C2: Chembur Trombay Education Society's
C3: CTES C O L L E G E O F A R C H I T E C T U R E | J3: CO - PO MAPPING AY 2019 - 2020
C5: N. G. Acharya Marg, Chembur, Mumbai 400071
C6: Approved by Council of Architecture
C7: (Affiliated to University of Mumbai)
A9: SEMESTER-I
A10: 43800
A11: Roll No. | B11: Student Name | C11: Management Theories - Principles & Practices (Th - 01) | E11: Law - 1 : Legal Frame work for Construction (Th - 02) | G11: Project Planning & Scheduling, Monitoring & Control (Th - 03) | I11: Construction Materials And its Management (St - 01) | K11: Computer Application in Construction Management (St-02) | M11: Elective - 1 (El -01) | O11: Elective - 2 (El -02)
A12: M.PM-19001 | B12: Agarwal Nikunj Manmohan | C12: 0.74 | D12: =IF(C12>=55%,"Y","N") -> Y | E12: 0.52 | F12: =IF(E12>=55%,"Y","N") -> N | G12: 0.66 | H12: =IF(G12>=55%,"Y","N") -> Y | I12: 0.59 | J12: =IF(I12>=55%,"Y","N") -> Y | K12: 0.65 | L12: =IF(K12>=55%,"Y","N") -> Y | M12: 0.55 | N12: =IF(M12>=55%,"Y","N") -> Y | O12: 0.63 | P12: =IF(O12>=55%,"Y","N") -> Y
A13: M.PM-19002 | B13: Bhavsar Radha Aniket | C13: 0.63 | D13: =IF(C13>=55%,"Y","N") -> Y | E13: 0.52 | F13: =IF(E13>=55%,"Y","N") -> N | G13: 0.59 | H13: =IF(G13>=55%,"Y","N") -> Y | I13: 0.78 | J13: =IF(I13>=55%,"Y","N") -> Y | K13: 0.66 | L13: =IF(K13>=55%,"Y","N") -> Y | M13: 0.81 | N13: =IF(M13>=55%,"Y","N") -> Y | O13: 0.64 | P13: =IF(O13>=55%,"Y","N") -> Y
A14: M.PM-19004 | B14: Deshmukh Pradip Digambar | C14: 0.6 | D14: =IF(C14>=55%,"Y","N") -> Y | E14: 0.53 | F14: =IF(E14>=55%,"Y","N") -> N | G14: 0.63 | H14: =IF(G14>=55%,"Y","N") -> Y | I14: 0.67 | J14: =IF(I14>=55%,"Y","N") -> Y | K14: 0.64 | L14: =IF(K14>=55%,"Y","N") -> Y | M14: 0.57 | N14: =IF(M14>=55%,"Y","N") -> Y | O14: 0.65 | P14: =IF(O14>=55%,"Y","N") -> Y
A15: M.PM-19005 | B15: Gada Zeel Praveen | C15: 0.68 | D15: =IF(C15>=55%,"Y","N") -> Y | E15: 0.56 | F15: =IF(E15>=55%,"Y","N") -> Y | G15: 0.56 | H15: =IF(G15>=55%,"Y","N") -> Y | I15: 0.83 | J15: =IF(I15>=55%,"Y","N") -> Y | K15: 0.7 | L15: =IF(K15>=55%,"Y","N") -> Y | M15: 0.5 | N15: =IF(M15>=55%,"Y","N") -> N | O15: 0.63 | P15: =IF(O15>=55%,"Y","N") -> Y
A16: M.PM-19012 | B16: Gunjan Narsinghani | C16: 0.71 | D16: =IF(C16>=55%,"Y","N") -> Y | E16: 0.6 | F16: =IF(E16>=55%,"Y","N") -> Y | G16: 0.59 | H16: =IF(G16>=55%,"Y","N") -> Y | I16: 0.76 | J16: =IF(I16>=55%,"Y","N") -> Y | K16: 0.67 | L16: =IF(K16>=55%,"Y","N") -> Y | M16: 0.64 | N16: =IF(M16>=55%,"Y","N") -> Y | O16: 0.71 | P16: =IF(O16>=55%,"Y","N") -> Y
A17: M.PM-19006 | B17: Jain Bhavika Kushal | C17: 0.68 | D17: =IF(C17>=55%,"Y","N") -> Y | E17: 0.67 | F17: =IF(E17>=55%,"Y","N") -> Y | G17: 0.73 | H17: =IF(G17>=55%,"Y","N") -> Y | I17: 0.69 | J17: =IF(I17>=55%,"Y","N") -> Y | K17: 0.71 | L17: =IF(K17>=55%,"Y","N") -> Y | M17: 0.65 | N17: =IF(M17>=55%,"Y","N") -> Y | O17: 0.62 | P17: =IF(O17>=55%,"Y","N") -> Y
A18: M.PM-19007 | B18: Keluskar Shrutika Kiran | C18: 0.68 | D18: =IF(C18>=55%,"Y","N") -> Y | E18: 0.66 | F18: =IF(E18>=55%,"Y","N") -> Y | G18: 0.66 | H18: =IF(G18>=55%,"Y","N") -> Y | I18: 0.89 | J18: =IF(I18>=55%,"Y","N") -> Y | K18: 0.75 | L18: =IF(K18>=55%,"Y","N") -> Y | M18: 0.67 | N18: =IF(M18>=55%,"Y","N") -> Y | O18: 0.76 | P18: =IF(O18>=55%,"Y","N") -> Y
A19: M.PM-19008 | B19: Kulkarni Atharva Bipin | C19: 0.66 | D19: =IF(C19>=55%,"Y","N") -> Y | E19: 0.54 | F19: =IF(E19>=55%,"Y","N") -> N | G19: 0.54 | H19: =IF(G19>=55%,"Y","N") -> N | I19: 0.67 | J19: =IF(I19>=55%,"Y","N") -> Y | K19: 0.66 | L19: =IF(K19>=55%,"Y","N") -> Y | M19: 0.53 | N19: =IF(M19>=55%,"Y","N") -> N | O19: 0.63 | P19: =IF(O19>=55%,"Y","N") -> Y
A20: M.PM-19009 | B20: Maniyar Shahnawaz Ismail | C20: 0.74 | D20: =IF(C20>=55%,"Y","N") -> Y | E20: 0.6 | F20: =IF(E20>=55%,"Y","N") -> Y | G20: 0.58 | H20: =IF(G20>=55%,"Y","N") -> Y | I20: 0.64 | J20: =IF(I20>=55%,"Y","N") -> Y | K20: 0.67 | L20: =IF(K20>=55%,"Y","N") -> Y | M20: 0.69 | N20: =IF(M20>=55%,"Y","N") -> Y | O20: 0.63 | P20: =IF(O20>=55%,"Y","N") -> Y
A21: M.PM-19010 | B21: Merchant Muhammad Ali Mohd Jaffer | C21: 0.75 | D21: =IF(C21>=55%,"Y","N") -> Y | E21: 0.62 | F21: =IF(E21>=55%,"Y","N") -> Y | G21: 0.7 | H21: =IF(G21>=55%,"Y","N") -> Y | I21: 0.8 | J21: =IF(I21>=55%,"Y","N") -> Y | K21: 0.79 | L21: =IF(K21>=55%,"Y","N") -> Y | M21: 0.57 | N21: =IF(M21>=55%,"Y","N") -> Y | O21: 0.72 | P21: =IF(O21>=55%,"Y","N") -> Y
A22: M.PM-19011 | B22: Monteiro Roland Richard | C22: 0.77 | D22: =IF(C22>=55%,"Y","N") -> Y | E22: 0.68 | F22: =IF(E22>=55%,"Y","N") -> Y | G22: 0.62 | H22: =IF(G22>=55%,"Y","N") -> Y | I22: 0.84 | J22: =IF(I22>=55%,"Y","N") -> Y | K22: 0.72 | L22: =IF(K22>=55%,"Y","N") -> Y | M22: 0.68 | N22: =IF(M22>=55%,"Y","N") -> Y | O22: 0.65 | P22: =IF(O22>=55%,"Y","N") -> Y
A23: M.PM-19015 | B23: Nitya Pratap | C23: 0.77 | D23: =IF(C23>=55%,"Y","N") -> Y | E23: 0.65 | F23: =IF(E23>=55%,"Y","N") -> Y | G23: 0.68 | H23: =IF(G23>=55%,"Y","N") -> Y | I23: 0.8 | J23: =IF(I23>=55%,"Y","N") -> Y | K23: 0.66 | L23: =IF(K23>=55%,"Y","N") -> Y | M23: 0.63 | N23: =IF(M23>=55%,"Y","N") -> Y | O23: 0.71 | P23: =IF(O23>=55%,"Y","N") -> Y
... A27: M.PM-19017 | B27: Rooge Pallavi Avinash | C27: 0.73 | D27: =IF(C27>=55%,"Y","N") -> Y | E27: 0.57 | F27: =IF(E27>=55%,"Y","N") -> Y | G27: 0.64 | H27: =IF(G27>=55%,"Y","N") -> Y | I27: 0.6 | J27: =IF(I27>=55%,"Y","N") -> Y | K27: 0.64 | L27: =IF(K27>=55%,"Y","N") -> Y | M27: 0.51 | N27: =IF(M27>=55%,"Y","N") -> N | O27: 0.61 | P27: =IF(O27>=55%,"Y","N") -> Y
A32: No.of Students scoring 55% and Above | D32: =COUNTIF(D12:D31,"Y") -> 16 | F32: =COUNTIF(F12:F31,"Y") -> 11 | H32: =COUNTIF(H12:H31,"Y") -> 14 | J32: =COUNTIF(J12:J31,"Y") -> 16 | L32: =COUNTIF(L12:L31,"Y") -> 16 | N32: =COUNTIF(N12:N31,"Y") -> 12 | P32: =COUNTIF(P12:P31,"Y") -> 16
A33: % of Students Scoring 55% and above | D33: =(D32/16)*100 -> 100 | F33: =(F32/16)*100 -> 68.75 | H33: =(H32/16)*100 -> 87.5 | J33: =(J32/16)*100 -> 100 | L33: =(L32/16)*100 -> 100 | N33: =(N32/16)*100 -> 75 | P33: =(P32/16)*100 -> 100
A34: Attainment for PO-1 | C34: =POCO_CTES!$C$12 -> 0 | D34: =C34*($D$33/100) -> 0 | E34: =POCO_CTES!$C$13 -> 3 | F34: =E34*($F$33/100) -> 2.0625 | G34: =POCO_CTES!$C$14 -> 3 | H34: =G34*($H$33/100) -> 2.625 | I34: =POCO_CTES!$C$15 -> 3 | J34: =I34*($J$33/100) -> 3 | K34: =POCO_CTES!$C$16 -> 0 | L34: =K34*($L$33/100) -> 0 | M34: =POCO_CTES!$C$17 -> 3 | N34: =M34*($N$33/100) -> 2.25 | O34: =POCO_CTES!$C$18 -> 3 | P34: =O34*($P$33/100) -> 3
A35: Attainment for PO-2 | C35: =POCO_CTES!$D$12 -> 3 | D35: =C35*($D$33/100) -> 3 | E35: =POCO_CTES!$D$13 -> 3 | F35: =E35*($F$33/100) -> 2.0625 | G35: =POCO_CTES!$D$14 -> 0 | H35: =G35*($H$33/100) -> 0 | I35: =POCO_CTES!$D$15 -> 3 | J35: =I35*($J$33/100) -> 3 | K35: =POCO_CTES!$D$16 -> 3 | L35: =K35*($L$33/100) -> 3 | M35: =POCO_CTES!$D$17 -> 3 | N35: =M35*($N$33/100) -> 2.25 | O35: =POCO_CTES!$D$18 -> 3 | P35: =O35*($P$33/100) -> 3
A36: Attainment for PO-3 | C36: =POCO_CTES!$E$12 -> 0 | D36: =C36*($D$33/100) -> 0 | E36: =POCO_CTES!$E$13 -> 0 | F36: =E36*($F$33/100) -> 0 | G36: =POCO_CTES!$E$14 -> 3 | H36: =G36*($H$33/100) -> 2.625 | I36: =POCO_CTES!$E$15 -> 2 | J36: =I36*($J$33/100) -> 2 | K36: =POCO_CTES!$E$16 -> 0 | L36: =K36*($L$33/100) -> 0 | M36: =POCO_CTES!$E$17 -> 0 | N36: =M36*($N$33/100) -> 0 | O36: =POCO_CTES!$E$18 -> 3 | P36: =O36*($P$33/100) -> 3
A37: Attainment for PO-4 | C37: =POCO_CTES!$F$12 -> 2 | D37: =C37*($D$33/100) -> 2 | E37: =POCO_CTES!$F$13 -> 0 | F37: =E37*($F$33/100) -> 0 | G37: =POCO_CTES!$F$14 -> 0 | H37: =G37*($H$33/100) -> 0 | I37: =POCO_CTES!$F$15 -> 3 | J37: =I37*($J$33/100) -> 3 | K37: =POCO_CTES!$F$16 -> 0 | L37: =K37*($L$33/100) -> 0 | M37: =POCO_CTES!$F$17 -> 0 | N37: =M37*($N$33/100) -> 0 | O37: =POCO_CTES!$F$18 -> 0 | P37: =O37*($P$33/100) -> 0
A38: Attainment for PO-5 | C38: =POCO_CTES!$G$12 -> 0 | D38: =C38*($D$33/100) -> 0 | E38: =POCO_CTES!$G$13 -> 0 | F38: =E38*($F$33/100) -> 0 | G38: =POCO_CTES!$G$14 -> 2 | H38: =G38*($H$33/100) -> 1.75 | I38: =POCO_CTES!$G$15 -> 0 | J38: =I38*($J$33/100) -> 0 | K38: =POCO_CTES!$G$16 -> 3 | L38: =K38*($L$33/100) -> 3 | M38: =POCO_CTES!$G$17 -> 0 | N38: =M38*($N$33/100) -> 0 | O38: =POCO_CTES!$G$18 -> 0 | P38: =O38*($P$33/100) -> 0
A39: Attainment for PO-6 | C39: =POCO_CTES!$H$12 -> 0 | D39: =C39*($D$33/100) -> 0 | E39: =POCO_CTES!$H$13 -> 0 | F39: =E39*($F$33/100) -> 0 | G39: =POCO_CTES!$H$14 -> 0 | H39: =G39*($H$33/100) -> 0 | I39: =POCO_CTES!$H$15 -> 2 | J39: =I39*($J$33/100) -> 2 | K39: =POCO_CTES!$H$16 -> 0 | L39: =K39*($L$33/100) -> 0 | M39: =POCO_CTES!$H$17 -> 0 | N39: =M39*($N$33/100) -> 0 | O39: =POCO_CTES!$H$18 -> 0 | P39: =O39*($P$33/100) -> 0 | Q39: `
A40: Attainment for PO-7 | C40: =POCO_CTES!$I$12 -> 3 | D40: =C40*($D$33/100) -> 3 | E40: =POCO_CTES!$I$13 -> 0 | F40: =E40*($F$33/100) -> 0 | G40: =POCO_CTES!$I$14 -> 0 | H40: =G40*($H$33/100) -> 0 | I40: =POCO_CTES!$I$15 -> 0 | J40: =I40*($J$33/100) -> 0 | K40: =POCO_CTES!$I$16 -> 0 | L40: =K40*($L$33/100) -> 0 | M40: =POCO_CTES!$I$17 -> 0 | N40: =M40*($N$33/100) -> 0 | O40: =POCO_CTES!$I$18 -> 0 | P40: =O40*($P$33/100) -> 0
A41: Attainment for PO-8 | C41: =POCO_CTES!$J$12 -> 2 | D41: =C41*($D$33/100) -> 2 | E41: =POCO_CTES!$J$13 -> 3 | F41: =E41*($F$33/100) -> 2.0625 | G41: =POCO_CTES!$J$14 -> 0 | H41: =G41*($H$33/100) -> 0 | I41: =POCO_CTES!$J$15 -> 0 | J41: =I41*($J$33/100) -> 0 | K41: =POCO_CTES!$J$16 -> 0 | L41: =K41*($L$33/100) -> 0 | M41: =POCO_CTES!$J$17 -> 0 | N41: =M41*($N$33/100) -> 0 | O41: =POCO_CTES!$J$18 -> 0 | P41: =O41*($P$33/100) -> 0
A42: Total of the Marks obtained by all students | C42: =SUM(C12:C31) -> 11.31 | E42: =SUM(E12:E31) -> 9.47 | G42: =SUM(G12:G31) -> 9.96 | I42: =SUM(I12:I31) -> 11.71 | K42: =SUM(K12:K31) -> 10.99 | M42: =SUM(M12:M31) -> 10.02 | O42: =SUM(O12:O31) -> 10.58
A43: Teacher Attainment(Percentage) | C43: =C42/16*100 -> 70.6875 | E43: =E42/16*100 -> 59.1875 | G43: =G42/16*100 -> 62.25 | I43: =I42/16*100 -> 73.1875 | K43: =K42/16*100 -> 68.6875 | M43: =M42/16*100 -> 62.625 | O43: =O42/16*100 -> 66.125 | Q43: `
A45: SEMESTER-III
A46: DD-MM-YYYY
A47: Roll No. | B47: Student Name | C47: Project Appraisal and Finance Management (Th- 07) | E47: Construction Marketing Management (Th- 08) | G47: Managerial Decision Making (Th- 09) | I47: Construction Management Studio (St- 05) | K47: Dissertation Stage- I (St-06) | M47: Elective- 1 (El- 09) | O47: Elective- 2 (El- 10)
A68: No.of Students scoring 55% and Above | D68: =COUNTIF(D48:D67,"Y") -> 0 | F68: =COUNTIF(F48:F67,"Y") -> 0 | H68: =COUNTIF(H48:H67,"Y") -> 0 | J68: =COUNTIF(J48:J67,"Y") -> 0 | L68: =COUNTIF(L48:L67,"Y") -> 0 | N68: =COUNTIF(N48:N67,"Y") -> 0 | P68: =COUNTIF(P48:P67,"Y") -> 0
A69: % of Students Scoring 55% and above | D69: =(D68/12)*100 -> 0 | F69: =(F68/12)*100 -> 0 | H69: =(H68/12)*100 -> 0 | J69: =(J68/12)*100 -> 0 | L69: =(L68/12)*100 -> 0 | N69: =(N68/12)*100 -> 0 | P69: =(P68/12)*100 -> 0
A70: Attainment for PO-1 | C70: =POCO_CTES!$C$26 -> 0 | D70: =C70*($D$69/100) -> 0 | E70: =POCO_CTES!$C$27 -> 3 | F70: =E70*($F$69/100) -> 0 | G70: =POCO_CTES!$C$28 -> 0 | H70: =G70*($H$69/100) -> 0 | I70: =POCO_CTES!$C$29 -> 0 | J70: =I70*($J$69/100) -> 0 | K70: =POCO_CTES!$C$30 -> 0 | L70: =K70*($L$69/100) -> 0 | M70: =POCO_CTES!$C$31 -> 0 | N70: =M70*($N$69/100) -> 0 | O70: =POCO_CTES!$C$32 -> 0 | P70: =O70*($P$69/100) -> 0
A71: Attainment for PO-2 | C71: =POCO_CTES!$D$26 -> 1 | D71: =C71*($D$69/100) -> 0 | E71: =POCO_CTES!$D$27 -> 1 | F71: =E71*($F$69/100) -> 0 | G71: =POCO_CTES!$D$28 -> 3 | H71: =G71*($H$69/100) -> 0 | I71: =POCO_CTES!$D$29 -> 3 | J71: =I71*($J$69/100) -> 0 | K71: =POCO_CTES!$D$30 -> 3 | L71: =K71*($L$69/100) -> 0 | M71: =POCO_CTES!$D$31 -> 3 | N71: =M71*($N$69/100) -> 0 | O71: =POCO_CTES!$D$32 -> 3 | P71: =O71*($P$69/100) -> 0
A72: Attainment for PO-3 | C72: =POCO_CTES!$E$26 -> 3 | D72: =C72*($D$69/100) -> 0 | E72: =POCO_CTES!$E$27 -> 2 | F72: =E72*($F$69/100) -> 0 | G72: =POCO_CTES!$E$28 -> 3 | H72: =G72*($H$69/100) -> 0 | I72: =POCO_CTES!$E$29 -> 3 | J72: =I72*($J$69/100) -> 0 | K72: =POCO_CTES!$E$30 -> 3 | L72: =K72*($L$69/100) -> 0 | M72: =POCO_CTES!$E$31 -> 3 | N72: =M72*($N$69/100) -> 0 | O72: =POCO_CTES!$E$32 -> 3 | P72: =O72*($P$69/100) -> 0
A73: Attainment for PO-4 | C73: =POCO_CTES!$F$26 -> 0 | D73: =C73*($D$69/100) -> 0 | E73: =POCO_CTES!$F$27 -> 3 | F73: =E73*($F$69/100) -> 0 | G73: =POCO_CTES!$F$28 -> 0 | H73: =G73*($H$69/100) -> 0 | I73: =POCO_CTES!$F$29 -> 3 | J73: =I73*($J$69/100) -> 0 | K73: =POCO_CTES!$F$30 -> 3 | L73: =K73*($L$69/100) -> 0 | M73: =POCO_CTES!$F$31 -> 0 | N73: =M73*($N$69/100) -> 0 | O73: =POCO_CTES!$F$32 -> 0 | P73: =O73*($P$69/100) -> 0
A74: Attainment for PO-5 | C74: =POCO_CTES!$G$26 -> 2 | D74: =C74*($D$69/100) -> 0 | E74: =POCO_CTES!$G$27 -> 0 | F74: =E74*($F$69/100) -> 0 | G74: =POCO_CTES!$G$28 -> 0 | H74: =G74*($H$69/100) -> 0 | I74: =POCO_CTES!$G$29 -> 2 | J74: =I74*($J$69/100) -> 0 | K74: =POCO_CTES!$G$30 -> 3 | L74: =K74*($L$69/100) -> 0 | M74: =POCO_CTES!$G$31 -> 2 | N74: =M74*($N$69/100) -> 0 | O74: =POCO_CTES!$G$32 -> 3 | P74: =O74*($P$69/100) -> 0
A75: Attainment for PO-6 | C75: =POCO_CTES!$H$26 -> 0 | D75: =C75*($D$69/100) -> 0 | E75: =POCO_CTES!$H$27 -> 3 | F75: =E75*($F$69/100) -> 0 | G75: =POCO_CTES!$H$28 -> 2 | H75: =G75*($H$69/100) -> 0 | I75: =POCO_CTES!$H$29 -> 3 | J75: =I75*($J$69/100) -> 0 | K75: =POCO_CTES!$H$30 -> 0 | L75: =K75*($L$69/100) -> 0 | M75: =POCO_CTES!$H$31 -> 0 | N75: =M75*($N$69/100) -> 0 | O75: =POCO_CTES!$H$32 -> 0 | P75: =O75*($P$69/100) -> 0
A76: Attainment for PO-7 | C76: =POCO_CTES!$I$26 -> 3 | D76: =C76*($D$69/100) -> 0 | E76: =POCO_CTES!$I$27 -> 2 | F76: =E76*($F$69/100) -> 0 | G76: =POCO_CTES!$I$28 -> 0 | H76: =G76*($H$69/100) -> 0 | I76: =POCO_CTES!$I$29 -> 2 | J76: =I76*($J$69/100) -> 0 | K76: =POCO_CTES!$I$30 -> 3 | L76: =K76*($L$69/100) -> 0 | M76: =POCO_CTES!$I$31 -> 0 | N76: =M76*($N$69/100) -> 0 | O76: =POCO_CTES!$I$32 -> 0 | P76: =O76*($P$69/100) -> 0
A77: Attainment for PO-8 | C77: =POCO_CTES!$J$26 -> 1 | D77: =C77*($D$69/100) -> 0 | E77: =POCO_CTES!$J$27 -> 2 | F77: =E77*($F$69/100) -> 0 | G77: =POCO_CTES!$J$28 -> 0 | H77: =G77*($H$69/100) -> 0 | I77: =POCO_CTES!$J$29 -> 0 | J77: =I77*($J$69/100) -> 0 | K77: =POCO_CTES!$J$30 -> 3 | L77: =K77*($L$69/100) -> 0 | M77: =POCO_CTES!$J$31 -> 0 | N77: =M77*($N$69/100) -> 0 | O77: =POCO_CTES!$J$32 -> 0 | P77: =O77*($P$69/100) -> 0
A78: Total of the Marks obtained by all students | C78: =SUM(C48:C63) -> 0 | E78: =SUM(E48:E63) -> 0 | G78: =SUM(G48:G63) -> 0 | I78: =SUM(I48:I63) -> 0 | K78: =SUM(K48:K63) -> 0 | M78: =SUM(M48:M63) -> 0 | O78: =SUM(O48:O63) -> 0
A79: Teacher Attainment(Percentage) | C79: =C78/12*100 -> 0 | E79: =E78/12*100 -> 0 | G79: =G78/12*100 -> 0 | I79: =I78/12*100 -> 0 | K79: =K78/12*100 -> 0 | M79: =M78/12*100 -> 0 | O79: =O78/12*100 -> 0 | Q79: `
A81: SEMESTER-II
A82: 43922
A83: Roll No. | B83: Student Name | C83: Project Accounts & Economics (Th- 04) | E83: Law 2:Contract Management (Th- 05) | G83: Construction Equipment and Personnel Management (Th- 06) | I83: Advanced Construction Methods and Techniques (St- 03) | K83: Research Methods in Construction (St- 04) | M83: Elective 1 (El- 05) | O83: Elective 2 (El- 06)
A84: M.PM-19001 | B84: Agarwal Nikunj Manmohan | C84: 0.7 | D84: =IF(C84>=55%,"Y","N") -> Y | E84: 0.68 | F84: =IF(E84>=55%,"Y","N") -> Y | G84: 0.73 | H84: =IF(G84>=55%,"Y","N") -> Y | I84: 0.64 | J84: =IF(I84>=55%,"Y","N") -> Y | K84: 0.62 | L84: =IF(K84>=55%,"Y","N") -> Y | M84: 0.76 | N84: =IF(M84>=55%,"Y","N") -> Y | O84: 0.58 | P84: =IF(O84>=55%,"Y","N") -> Y
A85: M.PM-19002 | B85: Bhavsar Radha Aniket | C85: 0.73 | D85: =IF(C85>=55%,"Y","N") -> Y | E85: 0.72 | F85: =IF(E85>=55%,"Y","N") -> Y | G85: 0.7 | H85: =IF(G85>=55%,"Y","N") -> Y | I85: 0.7 | J85: =IF(I85>=55%,"Y","N") -> Y | K85: 0.71 | L85: =IF(K85>=55%,"Y","N") -> Y | M85: 0.76 | N85: =IF(M85>=55%,"Y","N") -> Y | O85: 0.74 | P85: =IF(O85>=55%,"Y","N") -> Y
A86: M.PM-19004 | B86: Deshmukh Pradip Digambar | C86: 0.71 | D86: =IF(C86>=55%,"Y","N") -> Y | E86: 0.7 | F86: =IF(E86>=55%,"Y","N") -> Y | G86: 0.62 | H86: =IF(G86>=55%,"Y","N") -> Y | I86: 0.63 | J86: =IF(I86>=55%,"Y","N") -> Y | K86: 0.59 | L86: =IF(K86>=55%,"Y","N") -> Y | M86: 0.76 | N86: =IF(M86>=55%,"Y","N") -> Y | O86: 0.56 | P86: =IF(O86>=55%,"Y","N") -> Y
A87: M.PM-19005 | B87: Gada Zeel Praveen | C87: 0.72 | D87: =IF(C87>=55%,"Y","N") -> Y | E87: 0.72 | F87: =IF(E87>=55%,"Y","N") -> Y | G87: 0.73 | H87: =IF(G87>=55%,"Y","N") -> Y | I87: 0.7 | J87: =IF(I87>=55%,"Y","N") -> Y | K87: 0.72 | L87: =IF(K87>=55%,"Y","N") -> Y | M87: 0.76 | N87: =IF(M87>=55%,"Y","N") -> Y | O87: 0.74 | P87: =IF(O87>=55%,"Y","N") -> Y
A88: M.PM-19012 | B88: Gunjan Narsinghani | C88: 0.73 | D88: =IF(C88>=55%,"Y","N") -> Y | E88: 0.73 | F88: =IF(E88>=55%,"Y","N") -> Y | G88: 0.75 | H88: =IF(G88>=55%,"Y","N") -> Y | I88: 0.67 | J88: =IF(I88>=55%,"Y","N") -> Y | K88: 0.66 | L88: =IF(K88>=55%,"Y","N") -> Y | M88: 0.8 | N88: =IF(M88>=55%,"Y","N") -> Y | O88: 0.8 | P88: =IF(O88>=55%,"Y","N") -> Y
A89: M.PM-19006 | B89: Jain Bhavika Kushal | C89: 0.76 | D89: =IF(C89>=55%,"Y","N") -> Y | E89: 0.75 | F89: =IF(E89>=55%,"Y","N") -> Y | G89: 0.76 | H89: =IF(G89>=55%,"Y","N") -> Y | I89: 0.74 | J89: =IF(I89>=55%,"Y","N") -> Y | K89: 0.74 | L89: =IF(K89>=55%,"Y","N") -> Y | M89: 0.76 | N89: =IF(M89>=55%,"Y","N") -> Y | O89: 0.74 | P89: =IF(O89>=55%,"Y","N") -> Y
A90: M.PM-19007 | B90: Keluskar Shrutika Kiran | C90: 0.76 | D90: =IF(C90>=55%,"Y","N") -> Y | E90: 0.76 | F90: =IF(E90>=55%,"Y","N") -> Y | G90: 0.75 | H90: =IF(G90>=55%,"Y","N") -> Y | I90: 0.7 | J90: =IF(I90>=55%,"Y","N") -> Y | K90: 0.78 | L90: =IF(K90>=55%,"Y","N") -> Y | M90: 0.8 | N90: =IF(M90>=55%,"Y","N") -> Y | O90: 0.82 | P90: =IF(O90>=55%,"Y","N") -> Y
A91: M.PM-19008 | B91: Kulkarni Atharva Bipin | C91: 0.72 | D91: =IF(C91>=55%,"Y","N") -> Y | E91: 0.67 | F91: =IF(E91>=55%,"Y","N") -> Y | G91: 0.65 | H91: =IF(G91>=55%,"Y","N") -> Y | I91: 0.64 | J91: =IF(I91>=55%,"Y","N") -> Y | K91: 0.66 | L91: =IF(K91>=55%,"Y","N") -> Y | M91: 0.76 | N91: =IF(M91>=55%,"Y","N") -> Y | O91: 0.6 | P91: =IF(O91>=55%,"Y","N") -> Y
A92: M.PM-19009 | B92: Maniyar Shahnawaz Ismail | C92: 0.74 | D92: =IF(C92>=55%,"Y","N") -> Y | E92: 0.73 | F92: =IF(E92>=55%,"Y","N") -> Y | G92: 0.74 | H92: =IF(G92>=55%,"Y","N") -> Y | I92: 0.68 | J92: =IF(I92>=55%,"Y","N") -> Y | K92: 0.61 | L92: =IF(K92>=55%,"Y","N") -> Y | M92: 0.76 | N92: =IF(M92>=55%,"Y","N") -> Y | O92: 0.6 | P92: =IF(O92>=55%,"Y","N") -> Y
A93: M.PM-19010 | B93: Merchant Muhammad Ali Mohd Jaffer | C93: 0.76 | D93: =IF(C93>=55%,"Y","N") -> Y | E93: 0.74 | F93: =IF(E93>=55%,"Y","N") -> Y | G93: 0.72 | H93: =IF(G93>=55%,"Y","N") -> Y | I93: 0.67 | J93: =IF(I93>=55%,"Y","N") -> Y | K93: 0.64 | L93: =IF(K93>=55%,"Y","N") -> Y | M93: 0.8 | N93: =IF(M93>=55%,"Y","N") -> Y | O93: 0.82 | P93: =IF(O93>=55%,"Y","N") -> Y
A94: M.PM-19011 | B94: Monteiro Roland Richard | C94: 0.76 | D94: =IF(C94>=55%,"Y","N") -> Y | E94: 0.75 | F94: =IF(E94>=55%,"Y","N") -> Y | G94: 0.73 | H94: =IF(G94>=55%,"Y","N") -> Y | I94: 0.75 | J94: =IF(I94>=55%,"Y","N") -> Y | K94: 0.74 | L94: =IF(K94>=55%,"Y","N") -> Y | M94: 0.76 | N94: =IF(M94>=55%,"Y","N") -> Y | O94: 0.74 | P94: =IF(O94>=55%,"Y","N") -> Y
A95: M.PM-19015 | B95: Nitya Pratap | C95: 0.77 | D95: =IF(C95>=55%,"Y","N") -> Y | E95: 0.76 | F95: =IF(E95>=55%,"Y","N") -> Y | G95: 0.76 | H95: =IF(G95>=55%,"Y","N") -> Y | I95: 0.67 | J95: =IF(I95>=55%,"Y","N") -> Y | K95: 0.75 | L95: =IF(K95>=55%,"Y","N") -> Y | M95: 0.8 | N95: =IF(M95>=55%,"Y","N") -> Y | O95: 0.82 | P95: =IF(O95>=55%,"Y","N") -> Y
... A99: M.PM-19017 | B99: Rooge Pallavi Avinash | C99: 0.73 | D99: =IF(C99>=55%,"Y","N") -> Y | E99: 0.68 | F99: =IF(E99>=55%,"Y","N") -> Y | G99: 0.64 | H99: =IF(G99>=55%,"Y","N") -> Y | I99: 0.63 | J99: =IF(I99>=55%,"Y","N") -> Y | K99: 0.63 | L99: =IF(K99>=55%,"Y","N") -> Y | M99: 0.76 | N99: =IF(M99>=55%,"Y","N") -> Y | O99: 0.58 | P99: =IF(O99>=55%,"Y","N") -> Y
A104: No.of Students scoring 55% and Above | D104: =COUNTIF(D84:D103,"Y") -> 16 | F104: =COUNTIF(F84:F103,"Y") -> 16 | H104: =COUNTIF(H84:H103,"Y") -> 16 | J104: =COUNTIF(J84:J103,"Y") -> 16 | L104: =COUNTIF(L84:L103,"Y") -> 16 | N104: =COUNTIF(N84:N103,"Y") -> 16 | P104: =COUNTIF(P84:P103,"Y") -> 16
A105: % of Students Scoring 55% and above | D105: =(D104/16)*100 -> 100 | F105: =(F104/16)*100 -> 100 | H105: =(H104/16)*100 -> 100 | J105: =(J104/16)*100 -> 100 | L105: =(L104/16)*100 -> 100 | N105: =(N104/16)*100 -> 100 | P105: =(P104/16)*100 -> 100
A106: Attainment for PO-1 | C106: =POCO_CTES!$C$19 -> 0 | D106: =C106*($D$105/100) -> 0 | E106: =POCO_CTES!$C$20 -> 3 | F106: =E106*($F$105/100) -> 3 | G106: =POCO_CTES!$C$21 -> 3 | H106: =G106*($H$105/100) -> 3 | I106: =POCO_CTES!$C$22 -> 0 | J106: =I106*($J$105/100) -> 0 | K106: =POCO_CTES!$C$23 -> 0 | L106: =K106*($L$105/100) -> 0 | M106: =POCO_CTES!$C$24 -> 0 | N106: =M106*($N$105/100) -> 0 | O106: =POCO_CTES!$C$25 -> 0 | P106: =O106*($P$105/100) -> 0
A107: Attainment for PO-2 | C107: =POCO_CTES!$D$19 -> 1 | D107: =C107*($D$105/100) -> 1 | E107: =POCO_CTES!$D$20 -> 3 | F107: =E107*($F$105/100) -> 3 | G107: =POCO_CTES!$D$21 -> 3 | H107: =G107*($H$105/100) -> 3 | I107: =POCO_CTES!$D$22 -> 3 | J107: =I107*($J$105/100) -> 3 | K107: =POCO_CTES!$D$23 -> 3 | L107: =K107*($L$105/100) -> 3 | M107: =POCO_CTES!$D$24 -> 3 | N107: =M107*($N$105/100) -> 3 | O107: =POCO_CTES!$D$25 -> 3 | P107: =O107*($P$105/100) -> 3
A108: Attainment for PO-3 | C108: =POCO_CTES!$E$19 -> 3 | D108: =C108*($D$105/100) -> 3 | E108: =POCO_CTES!$E$20 -> 0 | F108: =E108*($F$105/100) -> 0 | G108: =POCO_CTES!$E$21 -> 1 | H108: =G108*($H$105/100) -> 1 | I108: =POCO_CTES!$E$22 -> 2 | J108: =I108*($J$105/100) -> 2 | K108: =POCO_CTES!$E$23 -> 0 | L108: =K108*($L$105/100) -> 0 | M108: =POCO_CTES!$E$24 -> 3 | N108: =M108*($N$105/100) -> 3 | O108: =POCO_CTES!$E$25 -> 3 | P108: =O108*($P$105/100) -> 3
A109: Attainment for PO-4 | C109: =POCO_CTES!$F$19 -> 0 | D109: =C109*($D$105/100) -> 0 | E109: =POCO_CTES!$F$20 -> 3 | F109: =E109*($F$105/100) -> 3 | G109: =POCO_CTES!$F$21 -> 3 | H109: =G109*($H$105/100) -> 3 | I109: =POCO_CTES!$F$22 -> 3 | J109: =I109*($J$105/100) -> 3 | K109: =POCO_CTES!$F$23 -> 0 | L109: =K109*($L$105/100) -> 0 | M109: =POCO_CTES!$F$24 -> 0 | N109: =M109*($N$105/100) -> 0 | O109: =POCO_CTES!$F$25 -> 0 | P109: =O109*($P$105/100) -> 0
A110: Attainment for PO-5 | C110: =POCO_CTES!$G$19 -> 2 | D110: =C110*($D$105/100) -> 2 | E110: =POCO_CTES!$G$20 -> 0 | F110: =E110*($F$105/100) -> 0 | G110: =POCO_CTES!$G$21 -> 2 | H110: =G110*($H$105/100) -> 2 | I110: =POCO_CTES!$G$22 -> 2 | J110: =I110*($J$105/100) -> 2 | K110: =POCO_CTES!$G$23 -> 3 | L110: =K110*($L$105/100) -> 3 | M110: =POCO_CTES!$G$24 -> 2 | N110: =M110*($N$105/100) -> 2 | O110: =POCO_CTES!$G$25 -> 3 | P110: =O110*($P$105/100) -> 3
A111: Attainment for PO-6 | C111: =POCO_CTES!$H$19 -> 0 | D111: =C111*($D$105/100) -> 0 | E111: =POCO_CTES!$H$20 -> 2 | F111: =E111*($F$105/100) -> 2 | G111: =POCO_CTES!$H$21 -> 3 | H111: =G111*($H$105/100) -> 3 | I111: =POCO_CTES!$H$22 -> 3 | J111: =I111*($J$105/100) -> 3 | K111: =POCO_CTES!$H$23 -> 0 | L111: =K111*($L$105/100) -> 0 | M111: =POCO_CTES!$H$24 -> 0 | N111: =M111*($N$105/100) -> 0 | O111: =POCO_CTES!$H$25 -> 0 | P111: =O111*($P$105/100) -> 0
A112: Attainment for PO-7 | C112: =POCO_CTES!$I$19 -> 3 | D112: =C112*($D$105/100) -> 3 | E112: =POCO_CTES!$I$20 -> 2 | F112: =E112*($F$105/100) -> 2 | G112: =POCO_CTES!$I$21 -> 0 | H112: =G112*($H$105/100) -> 0 | I112: =POCO_CTES!$I$22 -> 2 | J112: =I112*($J$105/100) -> 2 | K112: =POCO_CTES!$I$23 -> 3 | L112: =K112*($L$105/100) -> 3 | M112: =POCO_CTES!$I$24 -> 0 | N112: =M112*($N$105/100) -> 0 | O112: =POCO_CTES!$I$25 -> 0 | P112: =O112*($P$105/100) -> 0
A113: Attainment for PO-8 | C113: =POCO_CTES!$J$19 -> 1 | D113: =C113*($D$105/100) -> 1 | E113: =POCO_CTES!$J$20 -> 3 | F113: =E113*($F$105/100) -> 3 | G113: =POCO_CTES!$J$21 -> 0 | H113: =G113*($H$105/100) -> 0 | I113: =POCO_CTES!$J$22 -> 0 | J113: =I113*($J$105/100) -> 0 | K113: =POCO_CTES!$J$23 -> 3 | L113: =K113*($L$105/100) -> 3 | M113: =POCO_CTES!$J$24 -> 0 | N113: =M113*($N$105/100) -> 0 | O113: =POCO_CTES!$J$25 -> 0 | P113: =O113*($P$105/100) -> 0
A114: Total of the Marks obtained by all students | C114: =SUM(C84:C104) -> 11.82 | E114: =SUM(E84:E104) -> 11.57 | G114: =SUM(G84:G104) -> 11.45 | I114: =SUM(I84:I104) -> 10.86 | K114: =SUM(K84:K104) -> 11.02 | M114: =SUM(M84:M104) -> 12.36 | O114: =SUM(O84:O104) -> 11.26
A115: Teacher Attainment(Percentage) | C115: =(C114/16)*100 -> 73.875 | E115: =(E114/16)*100 -> 72.3125 | G115: =(G114/16)*100 -> 71.5625 | I115: =(I114/16)*100 -> 67.875 | K115: =(K114/16)*100 -> 68.875 | M115: =(M114/16)*100 -> 77.25 | O115: =(O114/16)*100 -> 70.375
A117: SEMESTER-IV
A118: DD-MM-YYYY
A119: Roll No. | B119: Student Name | C119: Dissertation Stage-II (St- 07) | E119: Elective 1 (El- 13) | G119: Elective 2 (El- 14)
A140: No.of Students scoring 55% and Above | D140: =COUNTIF(D120:D138,"Y") -> 0 | F140: =COUNTIF(F120:F138,"Y") -> 0 | H140: =COUNTIF(H120:H138,"Y") -> 0
A141: % of Students Scoring 55% and above | D141: =(D140/11)*100 -> 0 | F141: =(F140/11)*100 -> 0 | H141: =(H140/11)*100 -> 0
A142: Attainment for PO-1 | C142: =POCO_CTES!$C$33 -> 0 | D142: =C142*($D$141/100) -> 0 | E142: =POCO_CTES!$C$34 -> 0 | F142: =E142*($F$141/100) -> 0 | G142: =POCO_CTES!$C$35 -> 0 | H142: =G142*($H$141/100) -> 0
A143: Attainment for PO-2 | C143: =POCO_CTES!$D$33 -> 3 | D143: =C143*($D$141/100) -> 0 | E143: =POCO_CTES!$D$34 -> 3 | F143: =E143*($F$141/100) -> 0 | G143: =POCO_CTES!$D$35 -> 3 | H143: =G143*($H$141/100) -> 0
A144: Attainment for PO-3 | C144: =POCO_CTES!$E$33 -> 3 | D144: =C144*($D$141/100) -> 0 | E144: =POCO_CTES!$E$34 -> 3 | F144: =E144*($F$141/100) -> 0 | G144: =POCO_CTES!$E$35 -> 3 | H144: =G144*($H$141/100) -> 0
A145: Attainment for PO-4 | C145: =POCO_CTES!$F$33 -> 3 | D145: =C145*($D$141/100) -> 0 | E145: =POCO_CTES!$F$34 -> 0 | F145: =E145*($F$141/100) -> 0 | G145: =POCO_CTES!$F$35 -> 0 | H145: =G145*($H$141/100) -> 0
A146: Attainment for PO-5 | C146: =POCO_CTES!$G33 -> 3 | D146: =C146*($D$141/100) -> 0 | E146: =POCO_CTES!$G34 -> 2 | F146: =E146*($F$141/100) -> 0 | G146: =POCO_CTES!$G35 -> 3 | H146: =G146*($H$141/100) -> 0
A147: Attainment for PO-6 | C147: =POCO_CTES!$H$33 -> 0 | D147: =C147*($D$141/100) -> 0 | E147: =POCO_CTES!$H$34 -> 0 | F147: =E147*($F$141/100) -> 0 | G147: =POCO_CTES!$H$35 -> 0 | H147: =G147*($H$141/100) -> 0
A148: Attainment for PO-7 | C148: =POCO_CTES!$I$33 -> 3 | D148: =C148*($D$141/100) -> 0 | E148: =POCO_CTES!$I$34 -> 0 | F148: =E148*($F$141/100) -> 0 | G148: =POCO_CTES!$I$35 -> 0 | H148: =G148*($H$141/100) -> 0
A149: Attainment for PO-8 | C149: =POCO_CTES!$J$33 -> 3 | D149: =C149*($D$141/100) -> 0 | E149: =POCO_CTES!$J$34 -> 0 | F149: =E149*($F$141/100) -> 0 | G149: =POCO_CTES!$J$35 -> 0 | H149: =G149*($H$141/100) -> 0
A150: Total of the Marks obtained by all students | C150: =SUM(C120:C138) -> 0 | E150: =SUM(E120:E138) -> 0 | G150: =SUM(G120:G138) -> 0
A151: Teacher Attainment(Percentage) | C151: =(C150/11)*100 -> 0 | E151: =(E150/11)*100 -> 0 | G151: =(G150/11)*100 -> 0
A154: PO ATTAINMENT FOR AY 2019-20
A155: SEMESTER | B155: CO | C155: PO-1 | D155: PO-2 | E155: PO-3 | F155: PO-4 | G155: PO-5 | H155: PO-6 | I155: PO-7 | J155: PO-8
A156: SEMESTER- 1 | B156: TH-01 (Management Theories - Principles & Practices) | C156: =D34 -> 0 | D156: =D35 -> 3 | E156: =D36 -> 0 | F156: =D37 -> 2 | G156: =D38 -> 0 | H156: =D39 -> 0 | I156: =D40 -> 3 | J156: =D41 -> 2
B157: TH-02 (Law-1:Legal Framework in Construction) | C157: =F34 -> 2.0625 | D157: =F35 -> 2.0625 | E157: =F36 -> 0 | F157: =F37 -> 0 | G157: =F38 -> 0 | H157: =F39 -> 0 | I157: =F40 -> 0 | J157: =F41 -> 2.0625
B158: TH-03 (Project Planning & Sch.Monitoring & Control) | C158: =H34 -> 2.625 | D158: =H35 -> 0 | E158: =H36 -> 2.625 | F158: =H37 -> 0 | G158: =H38 -> 1.75 | H158: =H39 -> 0 | I158: =H40 -> 0 | J158: =H41 -> 0
B159: ST-01 (Const.Material & its Mgmt) | C159: =J34 -> 3 | D159: =J35 -> 3 | E159: =J36 -> 2 | F159: =J37 -> 3 | G159: =J38 -> 0 | H159: =J39 -> 2 | I159: =J40 -> 0 | J159: =J41 -> 0
B160: ST-02 (Comp.App.in const.) | C160: =L34 -> 0 | D160: =L35 -> 3 | E160: =L36 -> 0 | F160: =L37 -> 0 | G160: =L38 -> 3 | H160: =L39 -> 0 | I160: =L40 -> 0 | J160: =L41 -> 0
B161: EL-01 (Elective-1) | C161: =N34 -> 2.25 | D161: =N35 -> 2.25 | E161: =N36 -> 0 | F161: =N37 -> 0 | G161: =N38 -> 0 | H161: =N39 -> 0 | I161: =N40 -> 0 | J161: =N41 -> 0
B162: EL-02 (Elective-2) | C162: =P34 -> 3 | D162: =P35 -> 3 | E162: =P36 -> 3 | F162: =P37 -> 0 | G162: =P38 -> 0 | H162: =P39 -> 0 | I162: =P40 -> 0 | J162: =P41 -> 0
...

Sheet AY 20-21
C2: Chembur Trombay Education Society's
C3: CTES C O L L E G E O F A R C H I T E C T U R E | J3: CO - PO MAPPING AY 2020 - 2021
C5: N. G. Acharya Marg, Chembur, Mumbai 400071
C6: Approved by Council of Architecture
C7: (Affiliated to University of Mumbai)
A9: SEMESTER-I
A10: 44317
A11: Roll No. | B11: Student Name | C11: Management Theories - Principles & Practices (Th - 01) | E11: Law - 1 : Legal Frame work for Construction (Th - 02) | G11: Project Planning & Scheduling, Monitoring & Control (Th - 03) | I11: Construction Materials And its Management (St - 01) | K11: Computer Application in Construction Management (St-02) | M11: Elective - 1 (El -01) | O11: Elective - 2 (El -02)
A12: M.PM - 20001 | B12: Bansod Jagruti Sahebrao Vandana | C12: 0.63 | D12: =IF(C12>=55%,"Y","N") -> Y | E12: 0.64 | F12: =IF(E12>=55%,"Y","N") -> Y | G12: 0.73 | H12: =IF(G12>=55%,"Y","N") -> Y | I12: 0.67 | J12: =IF(I12>=55%,"Y","N") -> Y | K12: 0.665 | L12: =IF(K12>=55%,"Y","N") -> Y | M12: 0.725 | N12: =IF(M12>=55%,"Y","N") -> Y | O12: 0.72 | P12: =IF(O12>=55%,"Y","N") -> Y
A13: M.PM - 20002 | B13: Bettina Rachel Jacob Sally | C13: 0.75 | D13: =IF(C13>=55%,"Y","N") -> Y | E13: 0.645 | F13: =IF(E13>=55%,"Y","N") -> Y | G13: 0.85 | H13: =IF(G13>=55%,"Y","N") -> Y | I13: 0.73 | J13: =IF(I13>=55%,"Y","N") -> Y | K13: 0.7 | L13: =IF(K13>=55%,"Y","N") -> Y | M13: 0.705 | N13: =IF(M13>=55%,"Y","N") -> Y | O13: 0.76 | P13: =IF(O13>=55%,"Y","N") -> Y
A14: M.PM - 20003 | B14: Bijayeeni U S | C14: 0.72 | D14: =IF(C14>=55%,"Y","N") -> Y | E14: 0.72 | F14: =IF(E14>=55%,"Y","N") -> Y | G14: 0.82 | H14: =IF(G14>=55%,"Y","N") -> Y | I14: 0.67 | J14: =IF(I14>=55%,"Y","N") -> Y | K14: 0.7 | L14: =IF(K14>=55%,"Y","N") -> Y | M14: 0.725 | N14: =IF(M14>=55%,"Y","N") -> Y | O14: 0.81 | P14: =IF(O14>=55%,"Y","N") -> Y
A15: M.PM - 20004 | B15: Chaudhari Vedant Dilip Vaishali | C15: 0.72 | D15: =IF(C15>=55%,"Y","N") -> Y | E15: 0.61 | F15: =IF(E15>=55%,"Y","N") -> Y | G15: 0.69 | H15: =IF(G15>=55%,"Y","N") -> Y | I15: 0.73 | J15: =IF(I15>=55%,"Y","N") -> Y | K15: 0.67 | L15: =IF(K15>=55%,"Y","N") -> Y | M15: 0.705 | N15: =IF(M15>=55%,"Y","N") -> Y | O15: 0.66 | P15: =IF(O15>=55%,"Y","N") -> Y
A16: M.PM - 20005 | B16: Dhage Yogesh Girish Minal | C16: 0.73 | D16: =IF(C16>=55%,"Y","N") -> Y | E16: 0.67 | F16: =IF(E16>=55%,"Y","N") -> Y | G16: 0.72 | H16: =IF(G16>=55%,"Y","N") -> Y | I16: 0.75 | J16: =IF(I16>=55%,"Y","N") -> Y | K16: 0.725 | L16: =IF(K16>=55%,"Y","N") -> Y | M16: 0.675 | N16: =IF(M16>=55%,"Y","N") -> Y | O16: 0.65 | P16: =IF(O16>=55%,"Y","N") -> Y
A17: M.PM - 20006 | B17: Farooqui Ubaid Shabbir Ahmad Nasreen | C17: 0.63 | D17: =IF(C17>=55%,"Y","N") -> Y | E17: 0.66 | F17: =IF(E17>=55%,"Y","N") -> Y | G17: 0.77 | H17: =IF(G17>=55%,"Y","N") -> Y | I17: 0.71 | J17: =IF(I17>=55%,"Y","N") -> Y | K17: 0.685 | L17: =IF(K17>=55%,"Y","N") -> Y | M17: 0.83 | N17: =IF(M17>=55%,"Y","N") -> Y | O17: 0.74 | P17: =IF(O17>=55%,"Y","N") -> Y
A18: M.PM - 20007 | B18: Goraksha Minal Subhash Shubhangi | C18: 0.77 | D18: =IF(C18>=55%,"Y","N") -> Y | E18: 0.72 | F18: =IF(E18>=55%,"Y","N") -> Y | G18: 0.81 | H18: =IF(G18>=55%,"Y","N") -> Y | I18: 0.71 | J18: =IF(I18>=55%,"Y","N") -> Y | K18: 0.69 | L18: =IF(K18>=55%,"Y","N") -> Y | M18: 0.83 | N18: =IF(M18>=55%,"Y","N") -> Y | O18: 0.76 | P18: =IF(O18>=55%,"Y","N") -> Y
A19: M.PM - 20008 | B19: Gosavi Mamata Ganesh Mayuri | C19: 0.65 | D19: =IF(C19>=55%,"Y","N") -> Y | E19: 0.68 | F19: =IF(E19>=55%,"Y","N") -> Y | G19: 0.67 | H19: =IF(G19>=55%,"Y","N") -> Y | I19: 0.67 | J19: =IF(I19>=55%,"Y","N") -> Y | K19: 0.645 | L19: =IF(K19>=55%,"Y","N") -> Y | M19: 0.695 | N19: =IF(M19>=55%,"Y","N") -> Y | O19: 0.74 | P19: =IF(O19>=55%,"Y","N") -> Y
A20: M.PM - 20009 | B20: Jain Komal Kunal Anita | C20: 0.65 | D20: =IF(C20>=55%,"Y","N") -> Y | E20: 0.65 | F20: =IF(E20>=55%,"Y","N") -> Y | G20: 0.67 | H20: =IF(G20>=55%,"Y","N") -> Y | I20: 0.75 | J20: =IF(I20>=55%,"Y","N") -> Y | K20: 0.655 | L20: =IF(K20>=55%,"Y","N") -> Y | M20: 0.675 | N20: =IF(M20>=55%,"Y","N") -> Y | O20: 0.64 | P20: =IF(O20>=55%,"Y","N") -> Y
A21: M.PM - 20010 | B21: Kandalgaonkar Sumit Hemant Sujata | C21: 0.72 | D21: =IF(C21>=55%,"Y","N") -> Y | E21: 0.625 | F21: =IF(E21>=55%,"Y","N") -> Y | G21: 0.76 | H21: =IF(G21>=55%,"Y","N") -> Y | I21: 0.73 | J21: =IF(I21>=55%,"Y","N") -> Y | K21: 0.69 | L21: =IF(K21>=55%,"Y","N") -> Y | M21: 0.695 | N21: =IF(M21>=55%,"Y","N") -> Y | O21: 0.63 | P21: =IF(O21>=55%,"Y","N") -> Y
A22: M.PM - 20011 | B22: Karani Shruti Uttam Hemaliben | C22: 0.71 | D22: =IF(C22>=55%,"Y","N") -> Y | E22: 0.69 | F22: =IF(E22>=55%,"Y","N") -> Y | G22: 0.88 | H22: =IF(G22>=55%,"Y","N") -> Y | I22: 0.71 | J22: =IF(I22>=55%,"Y","N") -> Y | K22: 0.7 | L22: =IF(K22>=55%,"Y","N") -> Y | M22: 0.83 | N22: =IF(M22>=55%,"Y","N") -> Y | O22: 0.62 | P22: =IF(O22>=55%,"Y","N") -> Y
A23: M.PM - 20012 | B23: Kokate Dhanashri Sunil Sadhana | C23: 0.65 | D23: =IF(C23>=55%,"Y","N") -> Y | E23: 0.6 | F23: =IF(E23>=55%,"Y","N") -> Y | G23: 0.58 | H23: =IF(G23>=55%,"Y","N") -> Y | I23: 0.67 | J23: =IF(I23>=55%,"Y","N") -> Y | K23: 0.68 | L23: =IF(K23>=55%,"Y","N") -> Y | M23: 0.715 | N23: =IF(M23>=55%,"Y","N") -> Y | O23: 0.61 | P23: =IF(O23>=55%,"Y","N") -> Y
... A31: M.PM - 20020 | B31: Shetty Shrishti Shivaji Sunila | C31: 0.69 | D31: =IF(C31>=55%,"Y","N") -> Y | E31: 0.655 | F31: =IF(E31>=55%,"Y","N") -> Y | G31: 0.62 | H31: =IF(G31>=55%,"Y","N") -> Y | I31: 0.75 | J31: =IF(I31>=55%,"Y","N") -> Y | K31: 0.705 | L31: =IF(K31>=55%,"Y","N") -> Y | M31: 0.67 | N31: =IF(M31>=55%,"Y","N") -> Y | O31: 0.72 | P31: =IF(O31>=55%,"Y","N") -> Y
A32: No.of Students scoring 55% and Above | D32: =COUNTIF(D12:D31,"Y") -> 20 | F32: =COUNTIF(F12:F31,"Y") -> 19 | H32: =COUNTIF(H12:H31,"Y") -> 20 | J32: =COUNTIF(J12:J31,"Y") -> 20 | L32: =COUNTIF(L12:L31,"Y") -> 20 | N32: =COUNTIF(N12:N31,"Y") -> 20 | P32: =COUNTIF(P12:P31,"Y") -> 19
A33: % of Students Scoring 55% and above | D33: =(D32/20)*100 -> 100 | F33: =(F32/20)*100 -> 95 | H33: =(H32/20)*100 -> 100 | J33: =(J32/20)*100 -> 100 | L33: =(L32/20)*100 -> 100 | N33: =(N32/20)*100 -> 100 | P33: =(P32/20)*100 -> 95
A34: Attainment for PO-1 | C34: =POCO_CTES!$C$12 -> 0 | D34: =C34*($D$33/100) -> 0 | E34: =POCO_CTES!$C$13 -> 3 | F34: =E34*($F$33/100) -> 2.85 | G34: =POCO_CTES!$C$14 -> 3 | H34: =G34*($H$33/100) -> 3 | I34: =POCO_CTES!$C$15 -> 3 | J34: =I34*($J$33/100) -> 3 | K34: =POCO_CTES!$C$16 -> 0 | L34: =K34*($L$33/100) -> 0 | M34: =POCO_CTES!$C$17 -> 3 | N34: =M34*($N$33/100) -> 3 | O34: =POCO_CTES!$C$18 -> 3 | P34: =O34*($P$33/100) -> 2.85
A35: Attainment for PO-2 | C35: =POCO_CTES!$D$12 -> 3 | D35: =C35*($D$33/100) -> 3 | E35: =POCO_CTES!$D$13 -> 3 | F35: =E35*($F$33/100) -> 2.85 | G35: =POCO_CTES!$D$14 -> 0 | H35: =G35*($H$33/100) -> 0 | I35: =POCO_CTES!$D$15 -> 3 | J35: =I35*($J$33/100) -> 3 | K35: =POCO_CTES!$D$16 -> 3 | L35: =K35*($L$33/100) -> 3 | M35: =POCO_CTES!$D$17 -> 3 | N35: =M35*($N$33/100) -> 3 | O35: =POCO_CTES!$D$18 -> 3 | P35: =O35*($P$33/100) -> 2.85
A36: Attainment for PO-3 | C36: =POCO_CTES!$E$12 -> 0 | D36: =C36*($D$33/100) -> 0 | E36: =POCO_CTES!$E$13 -> 0 | F36: =E36*($F$33/100) -> 0 | G36: =POCO_CTES!$E$14 -> 3 | H36: =G36*($H$33/100) -> 3 | I36: =POCO_CTES!$E$15 -> 2 | J36: =I36*($J$33/100) -> 2 | K36: =POCO_CTES!$E$16 -> 0 | L36: =K36*($L$33/100) -> 0 | M36: =POCO_CTES!$E$17 -> 0 | N36: =M36*($N$33/100) -> 0 | O36: =POCO_CTES!$E$18 -> 3 | P36: =O36*($P$33/100) -> 2.85
A37: Attainment for PO-4 | C37: =POCO_CTES!$F$12 -> 2 | D37: =C37*($D$33/100) -> 2 | E37: =POCO_CTES!$F$13 -> 0 | F37: =E37*($F$33/100) -> 0 | G37: =POCO_CTES!$F$14 -> 0 | H37: =G37*($H$33/100) -> 0 | I37: =POCO_CTES!$F$15 -> 3 | J37: =I37*($J$33/100) -> 3 | K37: =POCO_CTES!$F$16 -> 0 | L37: =K37*($L$33/100) -> 0 | M37: =POCO_CTES!$F$17 -> 0 | N37: =M37*($N$33/100) -> 0 | O37: =POCO_CTES!$F$18 -> 0 | P37: =O37*($P$33/100) -> 0
A38: Attainment for PO-5 | C38: =POCO_CTES!$G$12 -> 0 | D38: =C38*($D$33/100) -> 0 | E38: =POCO_CTES!$G$13 -> 0 | F38: =E38*($F$33/100) -> 0 | G38: =POCO_CTES!$G$14 -> 2 | H38: =G38*($H$33/100) -> 2 | I38: =POCO_CTES!$G$15 -> 0 | J38: =I38*($J$33/100) -> 0 | K38: =POCO_CTES!$G$16 -> 3 | L38: =K38*($L$33/100) -> 3 | M38: =POCO_CTES!$G$17 -> 0 | N38: =M38*($N$33/100) -> 0 | O38: =POCO_CTES!$G$18 -> 0 | P38: =O38*($P$33/100) -> 0
A39: Attainment for PO-6 | C39: =POCO_CTES!$H$12 -> 0 | D39: =C39*($D$33/100) -> 0 | E39: =POCO_CTES!$H$13 -> 0 | F39: =E39*($F$33/100) -> 0 | G39: =POCO_CTES!$H$14 -> 0 | H39: =G39*($H$33/100) -> 0 | I39: =POCO_CTES!$H$15 -> 2 | J39: =I39*($J$33/100) -> 2 | K39: =POCO_CTES!$H$16 -> 0 | L39: =K39*($L$33/100) -> 0 | M39: =POCO_CTES!$H$17 -> 0 | N39: =M39*($N$33/100) -> 0 | O39: =POCO_CTES!$H$18 -> 0 | P39: =O39*($P$33/100) -> 0 | Q39: `
A40: Attainment for PO-7 | C40: =POCO_CTES!$I$12 -> 3 | D40: =C40*($D$33/100) -> 3 | E40: =POCO_CTES!$I$13 -> 0 | F40: =E40*($F$33/100) -> 0 | G40: =POCO_CTES!$I$14 -> 0 | H40: =G40*($H$33/100) -> 0 | I40: =POCO_CTES!$I$15 -> 0 | J40: =I40*($J$33/100) -> 0 | K40: =POCO_CTES!$I$16 -> 0 | L40: =K40*($L$33/100) -> 0 | M40: =POCO_CTES!$I$17 -> 0 | N40: =M40*($N$33/100) -> 0 | O40: =POCO_CTES!$I$18 -> 0 | P40: =O40*($P$33/100) -> 0
A41: Attainment for PO-8 | C41: =POCO_CTES!$J$12 -> 2 | D41: =C41*($D$33/100) -> 2 | E41: =POCO_CTES!$J$13 -> 3 | F41: =E41*($F$33/100) -> 2.85 | G41: =POCO_CTES!$J$14 -> 0 | H41: =G41*($H$33/100) -> 0 | I41: =POCO_CTES!$J$15 -> 0 | J41: =I41*($J$33/100) -> 0 | K41: =POCO_CTES!$J$16 -> 0 | L41: =K41*($L$33/100) -> 0 | M41: =POCO_CTES!$J$17 -> 0 | N41: =M41*($N$33/100) -> 0 | O41: =POCO_CTES!$J$18 -> 0 | P41: =O41*($P$33/100) -> 0
A42: Total of the Marks obtained by all students | C42: =SUM(C12:C31) -> 14.08 | E42: =SUM(E12:E31) -> 13.05 | G42: =SUM(G12:G31) -> 14.77 | I42: =SUM(I12:I31) -> 14.3 | K42: =SUM(K12:K31) -> 13.755 | M42: =SUM(M12:M31) -> 14.595 | O42: =SUM(O12:O31) -> 13.62
A43: Teacher Attainment(Percentage) | C43: =C42/20*100 -> 70.4 | E43: =E42/20*100 -> 65.25 | G43: =G42/20*100 -> 73.85 | I43: =I42/20*100 -> 71.5 | K43: =K42/20*100 -> 68.775 | M43: =M42/20*100 -> 72.975 | O43: =O42/20*100 -> 68.1 | Q43: `
A45: SEMESTER-III
A46: 44166
A47: Roll No. | B47: Student Name | C47: Project Appraisal and Finance Management (Th- 07) | E47: Construction Marketing Management (Th- 08) | G47: Managerial Decision Making (Th- 09) | I47: Construction Management Studio (St- 05) | K47: Dissertation Stage- I (St-06) | M47: Elective- 1 (El- 09) | O47: Elective- 2 (El- 10)
A48: M.PM-19001 | B48: Agarwal Nikunj Manmohan | C48: 0.69 | D48: =IF(C48>=55%,"Y","N") -> Y | E48: 0.77 | F48: =IF(E48>=55%,"Y","N") -> Y | G48: 0.58 | H48: =IF(G48>=55%,"Y","N") -> Y | I48: 0.63 | J48: =IF(I48>=55%,"Y","N") -> Y | K48: 0.57 | L48: =IF(K48>=50%,"Y","N") -> Y | M48: 0.62 | N48: =IF(M48>=55%,"Y","N") -> Y | O48: 0.65 | P48: =IF(O48>=55%,"Y","N") -> Y
A49: M.PM-19002 | B49: Bhavsar Radha Aniket | C49: 0.68 | D49: =IF(C49>=55%,"Y","N") -> Y | E49: 0.73 | F49: =IF(E49>=55%,"Y","N") -> Y | G49: 0.68 | H49: =IF(G49>=55%,"Y","N") -> Y | I49: 0.74 | J49: =IF(I49>=55%,"Y","N") -> Y | K49: 0.62 | L49: =IF(K49>=55%,"Y","N") -> Y | M49: 0.74 | N49: =IF(M49>=55%,"Y","N") -> Y | O49: 0.74 | P49: =IF(O49>=55%,"Y","N") -> Y
A50: M.PM-19004 | B50: Deshmukh Pradip Digambar | C50: 0.7 | D50: =IF(C50>=55%,"Y","N") -> Y | E50: 0.79 | F50: =IF(E50>=55%,"Y","N") -> Y | G50: 0.46 | H50: =IF(G50>=55%,"Y","N") -> N | I50: 0.63 | J50: =IF(I50>=55%,"Y","N") -> Y | K50: 0.55 | L50: =IF(K50>=55%,"Y","N") -> Y | M50: 0.6 | N50: =IF(M50>=55%,"Y","N") -> Y | O50: 0.68 | P50: =IF(O50>=55%,"Y","N") -> Y
A51: M.PM-19005 | B51: Gada Zeel Praveen | C51: 0.62 | D51: =IF(C51>=55%,"Y","N") -> Y | E51: 0.73 | F51: =IF(E51>=55%,"Y","N") -> Y | G51: 0.57 | H51: =IF(G51>=55%,"Y","N") -> Y | I51: 0.71 | J51: =IF(I51>=55%,"Y","N") -> Y | K51: 0.6 | L51: =IF(K51>=55%,"Y","N") -> Y | M51: 0.77 | N51: =IF(M51>=55%,"Y","N") -> Y | O51: 0.76 | P51: =IF(O51>=55%,"Y","N") -> Y
A52: M.PM-19012 | B52: Gunjan Narsinghani | C52: 0.74 | D52: =IF(C52>=55%,"Y","N") -> Y | E52: 0.73 | F52: =IF(E52>=55%,"Y","N") -> Y | G52: 0.54 | H52: =IF(G52>=55%,"Y","N") -> N | I52: 0.73 | J52: =IF(I52>=55%,"Y","N") -> Y | K52: 0.59 | L52: =IF(K52>=55%,"Y","N") -> Y | M52: 0.61 | N52: =IF(M52>=55%,"Y","N") -> Y | O52: 0.66 | P52: =IF(O52>=55%,"Y","N") -> Y
A53: M.PM-19006 | B53: Jain Bhavika Kushal | C53: 0.81 | D53: =IF(C53>=55%,"Y","N") -> Y | E53: 0.78 | F53: =IF(E53>=55%,"Y","N") -> Y | G53: 0.79 | H53: =IF(G53>=55%,"Y","N") -> Y | I53: 0.71 | J53: =IF(I53>=55%,"Y","N") -> Y | K53: 0.64 | L53: =IF(K53>=55%,"Y","N") -> Y | M53: 0.81 | N53: =IF(M53>=55%,"Y","N") -> Y | O53: 0.84 | P53: =IF(O53>=55%,"Y","N") -> Y
A54: M.PM-19007 | B54: Keluskar Shrutika Kiran | C54: 0.65 | D54: =IF(C54>=55%,"Y","N") -> Y | E54: 0.76 | F54: =IF(E54>=55%,"Y","N") -> Y | G54: 0.69 | H54: =IF(G54>=55%,"Y","N") -> Y | I54: 0.73 | J54: =IF(I54>=55%,"Y","N") -> Y | K54: 0.68 | L54: =IF(K54>=55%,"Y","N") -> Y | M54: 0.65 | N54: =IF(M54>=55%,"Y","N") -> Y | O54: 0.72 | P54: =IF(O54>=55%,"Y","N") -> Y
A55: M.PM-19008 | B55: Kulkarni Atharva Bipin | C55: 0.66 | D55: =IF(C55>=55%,"Y","N") -> Y | E55: 0.76 | F55: =IF(E55>=55%,"Y","N") -> Y | G55: 0.59 | H55: =IF(G55>=55%,"Y","N") -> Y | I55: 0.61 | J55: =IF(I55>=55%,"Y","N") -> Y | K55: 0.62 | L55: =IF(K55>=55%,"Y","N") -> Y | M55: 0.68 | N55: =IF(M55>=55%,"Y","N") -> Y | O55: 0.71 | P55: =IF(O55>=55%,"Y","N") -> Y
A56: M.PM-19009 | B56: Maniyar Shahnawaz Ismail | C56: 0.78 | D56: =IF(C56>=55%,"Y","N") -> Y | E56: 0.73 | F56: =IF(E56>=55%,"Y","N") -> Y | G56: 0.66 | H56: =IF(G56>=55%,"Y","N") -> Y | I56: 0.61 | J56: =IF(I56>=55%,"Y","N") -> Y | K56: 0.57 | L56: =IF(K56>=55%,"Y","N") -> Y | M56: 0.61 | N56: =IF(M56>=55%,"Y","N") -> Y | O56: 0.64 | P56: =IF(O56>=55%,"Y","N") -> Y
A57: M.PM-19010 | B57: Merchant Muhammad Ali Mohd Jaffer | C57: 0.62 | D57: =IF(C57>=55%,"Y","N") -> Y | E57: 0.75 | F57: =IF(E57>=55%,"Y","N") -> Y | G57: 0.69 | H57: =IF(G57>=55%,"Y","N") -> Y | I57: 0.75 | J57: =IF(I57>=55%,"Y","N") -> Y | K57: 0.61 | L57: =IF(K57>=55%,"Y","N") -> Y | M57: 0.63 | N57: =IF(M57>=55%,"Y","N") -> Y | O57: 0.69 | P57: =IF(O57>=55%,"Y","N") -> Y
A58: M.PM-19011 | B58: Monteiro Roland Richard | C58: 0.64 | D58: =IF(C58>=55%,"Y","N") -> Y | E58: 0.75 | F58: =IF(E58>=55%,"Y","N") -> Y | G58: 0.51 | H58: =IF(G58>=55%,"Y","N") -> N | I58: 0.74 | J58: =IF(I58>=55%,"Y","N") -> Y | K58: 0.53 | L58: =IF(K58>=55%,"Y","N") -> N | M58: 0.79 | N58: =IF(M58>=55%,"Y","N") -> Y | O58: 0.82 | P58: =IF(O58>=55%,"Y","N") -> Y
A59: M.PM-19015 | B59: Nitya Pratap | C59: 0.69 | D59: =IF(C59>=55%,"Y","N") -> Y | E59: 0.81 | F59: =IF(E59>=55%,"Y","N") -> Y | G59: 0.68 | H59: =IF(G59>=55%,"Y","N") -> Y | I59: 0.75 | J59: =IF(I59>=55%,"Y","N") -> Y | K59: 0.7 | L59: =IF(K59>=55%,"Y","N") -> Y | M59: 0.66 | N59: =IF(M59>=55%,"Y","N") -> Y | O59: 0.66 | P59: =IF(O59>=55%,"Y","N") -> Y
A60: M.PM-19013 | B60: Pathak Pallavi Prashant | C60: 0.84 | D60: =IF(C60>=55%,"Y","N") -> Y | E60: 0.81 | F60: =IF(E60>=55%,"Y","N") -> Y | G60: 0.92 | H60: =IF(G60>=55%,"Y","N") -> Y | I60: 0.74 | J60: =IF(I60>=55%,"Y","N") -> Y | K60: 0.78 | L60: =IF(K60>=55%,"Y","N") -> Y | M60: 0.83 | N60: =IF(M60>=55%,"Y","N") -> Y | O60: 0.81 | P60: =IF(O60>=55%,"Y","N") -> Y
... A63: M.PM-19017 | B63: Rooge Pallavi Avinash | C63: 0.72 | D63: =IF(C63>=55%,"Y","N") -> Y | E63: 0.71 | F63: =IF(E63>=55%,"Y","N") -> Y | G63: 0.53 | H63: =IF(G63>=55%,"Y","N") -> N | I63: 0.61 | J63: =IF(I63>=55%,"Y","N") -> Y | K63: 0.51 | L63: =IF(K63>=55%,"Y","N") -> N | M63: 0.59 | N63: =IF(M63>=55%,"Y","N") -> Y | O63: 0.68 | P63: =IF(O63>=55%,"Y","N") -> Y
A68: No.of Students scoring 55% and Above | D68: =COUNTIF(D48:D63,"Y") -> 16 | F68: =COUNTIF(F48:F63,"Y") -> 16 | H68: =COUNTIF(H48:H63,"Y") -> 11 | J68: =COUNTIF(J48:J63,"Y") -> 16 | L68: =COUNTIF(L48:L63,"Y") -> 13 | N68: =COUNTIF(N48:N63,"Y") -> 16 | P68: =COUNTIF(P48:P63,"Y") -> 16
A69: % of Students Scoring 55% and above | D69: =(D68/20)*100 -> 80 | F69: =(F68/20)*100 -> 80 | H69: =(H68/20)*100 -> 55 | J69: =(J68/20)*100 -> 80 | L69: =(L68/20)*100 -> 65 | N69: =(N68/20)*100 -> 80 | P69: =(P68/20)*100 -> 80
A70: Attainment for PO-1 | C70: =POCO_CTES!$C$26 -> 0 | D70: =C70*($D$69/100) -> 0 | E70: =POCO_CTES!$C$27 -> 3 | F70: =E70*($F$69/100) -> 2.4 | G70: =POCO_CTES!$C$28 -> 0 | H70: =G70*($H$69/100) -> 0 | I70: =POCO_CTES!$C$29 -> 0 | J70: =I70*($J$69/100) -> 0 | K70: =POCO_CTES!$C$30 -> 0 | L70: =K70*($L$69/100) -> 0 | M70: =POCO_CTES!$C$31 -> 0 | N70: =M70*($N$69/100) -> 0 | O70: =POCO_CTES!$C$32 -> 0 | P70: =O70*($P$69/100) -> 0
A71: Attainment for PO-2 | C71: =POCO_CTES!$D$26 -> 1 | D71: =C71*($D$69/100) -> 0.8 | E71: =POCO_CTES!$D$27 -> 1 | F71: =E71*($F$69/100) -> 0.8 | G71: =POCO_CTES!$D$28 -> 3 | H71: =G71*($H$69/100) -> 1.65 | I71: =POCO_CTES!$D$29 -> 3 | J71: =I71*($J$69/100) -> 2.4 | K71: =POCO_CTES!$D$30 -> 3 | L71: =K71*($L$69/100) -> 1.95 | M71: =POCO_CTES!$D$31 -> 3 | N71: =M71*($N$69/100) -> 2.4 | O71: =POCO_CTES!$D$32 -> 3 | P71: =O71*($P$69/100) -> 2.4
A72: Attainment for PO-3 | C72: =POCO_CTES!$E$26 -> 3 | D72: =C72*($D$69/100) -> 2.4 | E72: =POCO_CTES!$E$27 -> 2 | F72: =E72*($F$69/100) -> 1.6 | G72: =POCO_CTES!$E$28 -> 3 | H72: =G72*($H$69/100) -> 1.65 | I72: =POCO_CTES!$E$29 -> 3 | J72: =I72*($J$69/100) -> 2.4 | K72: =POCO_CTES!$E$30 -> 3 | L72: =K72*($L$69/100) -> 1.95 | M72: =POCO_CTES!$E$31 -> 3 | N72: =M72*($N$69/100) -> 2.4 | O72: =POCO_CTES!$E$32 -> 3 | P72: =O72*($P$69/100) -> 2.4
A73: Attainment for PO-4 | C73: =POCO_CTES!$F$26 -> 0 | D73: =C73*($D$69/100) -> 0 | E73: =POCO_CTES!$F$27 -> 3 | F73: =E73*($F$69/100) -> 2.4 | G73: =POCO_CTES!$F$28 -> 0 | H73: =G73*($H$69/100) -> 0 | I73: =POCO_CTES!$F$29 -> 3 | J73: =I73*($J$69/100) -> 2.4 | K73: =POCO_CTES!$F$30 -> 3 | L73: =K73*($L$69/100) -> 1.95 | M73: =POCO_CTES!$F$31 -> 0 | N73: =M73*($N$69/100) -> 0 | O73: =POCO_CTES!$F$32 -> 0 | P73: =O73*($P$69/100) -> 0
A74: Attainment for PO-5 | C74: =POCO_CTES!$G$26 -> 2 | D74: =C74*($D$69/100) -> 1.6 | E74: =POCO_CTES!$G$27 -> 0 | F74: =E74*($F$69/100) -> 0 | G74: =POCO_CTES!$G$28 -> 0 | H74: =G74*($H$69/100) -> 0 | I74: =POCO_CTES!$G$29 -> 2 | J74: =I74*($J$69/100) -> 1.6 | K74: =POCO_CTES!$G$30 -> 3 | L74: =K74*($L$69/100) -> 1.95 | M74: =POCO_CTES!$G$31 -> 2 | N74: =M74*($N$69/100) -> 1.6 | O74: =POCO_CTES!$G$32 -> 3 | P74: =O74*($P$69/100) -> 2.4
A75: Attainment for PO-6 | C75: =POCO_CTES!$H$26 -> 0 | D75: =C75*($D$69/100) -> 0 | E75: =POCO_CTES!$H$27 -> 3 | F75: =E75*($F$69/100) -> 2.4 | G75: =POCO_CTES!$H$28 -> 2 | H75: =G75*($H$69/100) -> 1.1 | I75: =POCO_CTES!$H$29 -> 3 | J75: =I75*($J$69/100) -> 2.4 | K75: =POCO_CTES!$H$30 -> 0 | L75: =K75*($L$69/100) -> 0 | M75: =POCO_CTES!$H$31 -> 0 | N75: =M75*($N$69/100) -> 0 | O75: =POCO_CTES!$H$32 -> 0 | P75: =O75*($P$69/100) -> 0
A76: Attainment for PO-7 | C76: =POCO_CTES!$I$26 -> 3 | D76: =C76*($D$69/100) -> 2.4 | E76: =POCO_CTES!$I$27 -> 2 | F76: =E76*($F$69/100) -> 1.6 | G76: =POCO_CTES!$I$28 -> 0 | H76: =G76*($H$69/100) -> 0 | I76: =POCO_CTES!$I$29 -> 2 | J76: =I76*($J$69/100) -> 1.6 | K76: =POCO_CTES!$I$30 -> 3 | L76: =K76*($L$69/100) -> 1.95 | M76: =POCO_CTES!$I$31 -> 0 | N76: =M76*($N$69/100) -> 0 | O76: =POCO_CTES!$I$32 -> 0 | P76: =O76*($P$69/100) -> 0
A77: Attainment for PO-8 | C77: =POCO_CTES!$J$26 -> 1 | D77: =C77*($D$69/100) -> 0.8 | E77: =POCO_CTES!$J$27 -> 2 | F77: =E77*($F$69/100) -> 1.6 | G77: =POCO_CTES!$J$28 -> 0 | H77: =G77*($H$69/100) -> 0 | I77: =POCO_CTES!$J$29 -> 0 | J77: =I77*($J$69/100) -> 0 | K77: =POCO_CTES!$J$30 -> 3 | L77: =K77*($L$69/100) -> 1.95 | M77: =POCO_CTES!$J$31 -> 0 | N77: =M77*($N$69/100) -> 0 | O77: =POCO_CTES!$J$32 -> 0 | P77: =O77*($P$69/100) -> 0
A78: Total of the Marks obtained by all students | C78: =SUM(C48:C63) -> 11.19 | E78: =SUM(E48:E63) -> 12.05 | G78: =SUM(G48:G63) -> 9.99 | I78: =SUM(I48:I63) -> 11.05 | K78: =SUM(K48:K63) -> 9.63 | M78: =SUM(M48:M63) -> 10.73 | O78: =SUM(O48:O63) -> 11.34
A79: Teacher Attainment(Percentage) | C79: =C78/16*100 -> 69.9375 | E79: =E78/16*100 -> 75.3125 | G79: =G78/16*100 -> 62.4375 | I79: =I78/16*100 -> 69.0625 | K79: =K78/16*100 -> 60.1875 | M79: =M78/16*100 -> 67.0625 | O79: =O78/16*100 -> 70.875 | Q79: `
A81: SEMESTER-II
A82: 44409
A83: Roll No. | B83: Student Name | C83: Project Accounts & Economics (Th- 04) | E83: Law 2:Contract Management (Th- 05) | G83: Construction Equipment and Personnel Management (Th- 06) | I83: Advanced Construction Methods and Techniques (St- 03) | K83: Research Methods in Construction (St- 04) | M83: Elective 1 (El- 05) | O83: Elective 2 (El- 06)
A84: M.PM - 20001 | B84: Bansod Jagruti Sahebrao Vandana | C84: 0.72 | D84: =IF(C84>=55%,"Y","N") -> Y | E84: 0.63 | F84: =IF(E84>=55%,"Y","N") -> Y | G84: 0.71 | H84: =IF(G84>=55%,"Y","N") -> Y | I84: 0.66 | J84: =IF(I84>=55%,"Y","N") -> Y | K84: 0.62 | L84: =IF(K84>=55%,"Y","N") -> Y | M84: 0.7 | N84: =IF(M84>=55%,"Y","N") -> Y | O84: 0.7 | P84: =IF(O84>=55%,"Y","N") -> Y
A85: M.PM - 20002 | B85: Bettina Rachel Jacob Sally | C85: 0.69 | D85: =IF(C85>=55%,"Y","N") -> Y | E85: 0.72 | F85: =IF(E85>=55%,"Y","N") -> Y | G85: 0.79 | H85: =IF(G85>=55%,"Y","N") -> Y | I85: 0.75 | J85: =IF(I85>=55%,"Y","N") -> Y | K85: 0.67 | L85: =IF(K85>=55%,"Y","N") -> Y | M85: 0.7 | N85: =IF(M85>=55%,"Y","N") -> Y | O85: 0.8 | P85: =IF(O85>=55%,"Y","N") -> Y
A86: M.PM - 20003 | B86: Bijayeeni U S | C86: 0.86 | D86: =IF(C86>=55%,"Y","N") -> Y | E86: 0.76 | F86: =IF(E86>=55%,"Y","N") -> Y | G86: 0.77 | H86: =IF(G86>=55%,"Y","N") -> Y | I86: 0.75 | J86: =IF(I86>=55%,"Y","N") -> Y | K86: 0.65 | L86: =IF(K86>=55%,"Y","N") -> Y | M86: 0.7 | N86: =IF(M86>=55%,"Y","N") -> Y | O86: 0.8 | P86: =IF(O86>=55%,"Y","N") -> Y
A87: M.PM - 20004 | B87: Chaudhari Vedant Dilip Vaishali | C87: 0.83 | D87: =IF(C87>=55%,"Y","N") -> Y | E87: 0.74 | F87: =IF(E87>=55%,"Y","N") -> Y | G87: 0.76 | H87: =IF(G87>=55%,"Y","N") -> Y | I87: 0.69 | J87: =IF(I87>=55%,"Y","N") -> Y | K87: 0.7 | L87: =IF(K87>=55%,"Y","N") -> Y | M87: 0.57 | N87: =IF(M87>=55%,"Y","N") -> Y | O87: 0.65 | P87: =IF(O87>=55%,"Y","N") -> Y
A88: M.PM - 20005 | B88: Dhage Yogesh Girish Minal | C88: 0.9 | D88: =IF(C88>=55%,"Y","N") -> Y | E88: 0.65 | F88: =IF(E88>=55%,"Y","N") -> Y | G88: 0.77 | H88: =IF(G88>=55%,"Y","N") -> Y | I88: 0.81 | J88: =IF(I88>=55%,"Y","N") -> Y | K88: 0.58 | L88: =IF(K88>=55%,"Y","N") -> Y | M88: 0.85 | N88: =IF(M88>=55%,"Y","N") -> Y | O88: 0.75 | P88: =IF(O88>=55%,"Y","N") -> Y
A89: M.PM - 20006 | B89: Farooqui Ubaid Shabbir Ahmad Nasreen | C89: 0.84 | D89: =IF(C89>=55%,"Y","N") -> Y | E89: 0.53 | F89: =IF(E89>=55%,"Y","N") -> N | G89: 0.71 | H89: =IF(G89>=55%,"Y","N") -> Y | I89: 0.7 | J89: =IF(I89>=55%,"Y","N") -> Y | K89: 0.64 | L89: =IF(K89>=55%,"Y","N") -> Y | M89: 0.7 | N89: =IF(M89>=55%,"Y","N") -> Y | O89: 0.65 | P89: =IF(O89>=55%,"Y","N") -> Y
A90: M.PM - 20007 | B90: Goraksha Minal Subhash Shubhangi | C90: 0.84 | D90: =IF(C90>=55%,"Y","N") -> Y | E90: 0.66 | F90: =IF(E90>=55%,"Y","N") -> Y | G90: 0.65 | H90: =IF(G90>=55%,"Y","N") -> Y | I90: 0.78 | J90: =IF(I90>=55%,"Y","N") -> Y | K90: 0.61 | L90: =IF(K90>=55%,"Y","N") -> Y | M90: 0.7 | N90: =IF(M90>=55%,"Y","N") -> Y | O90: 0.8 | P90: =IF(O90>=55%,"Y","N") -> Y
A91: M.PM - 20008 | B91: Gosavi Mamata Ganesh Mayuri | C91: 0.62 | D91: =IF(C91>=55%,"Y","N") -> Y | E91: 0.55 | F91: =IF(E91>=55%,"Y","N") -> Y | G91: 0.62 | H91: =IF(G91>=55%,"Y","N") -> Y | I91: 0.65 | J91: =IF(I91>=55%,"Y","N") -> Y | K91: 0.55 | L91: =IF(K91>=55%,"Y","N") -> Y | M91: 0.7 | N91: =IF(M91>=55%,"Y","N") -> Y | O91: 0.6 | P91: =IF(O91>=55%,"Y","N") -> Y
A92: M.PM - 20009 | B92: Jain Komal Kunal Anita | C92: 0.9 | D92: =IF(C92>=55%,"Y","N") -> Y | E92: 0.64 | F92: =IF(E92>=55%,"Y","N") -> Y | G92: 0.72 | H92: =IF(G92>=55%,"Y","N") -> Y | I92: 0.72 | J92: =IF(I92>=55%,"Y","N") -> Y | K92: 0.63 | L92: =IF(K92>=55%,"Y","N") -> Y | M92: 0.7 | N92: =IF(M92>=55%,"Y","N") -> Y | O92: 0.65 | P92: =IF(O92>=55%,"Y","N") -> Y
A93: M.PM - 20010 | B93: Kandalgaonkar Sumit Hemant Sujata | C93: 0.84 | D93: =IF(C93>=55%,"Y","N") -> Y | E93: 0.62 | F93: =IF(E93>=55%,"Y","N") -> Y | G93: 0.74 | H93: =IF(G93>=55%,"Y","N") -> Y | I93: 0.67 | J93: =IF(I93>=55%,"Y","N") -> Y | K93: 0.55 | L93: =IF(K93>=55%,"Y","N") -> Y | M93: 0.7 | N93: =IF(M93>=55%,"Y","N") -> Y | O93: 0.65 | P93: =IF(O93>=55%,"Y","N") -> Y
A94: M.PM - 20011 | B94: Karani Shruti Uttam Hemaliben | C94: 0.92 | D94: =IF(C94>=55%,"Y","N") -> Y | E94: 0.63 | F94: =IF(E94>=55%,"Y","N") -> Y | G94: 0.78 | H94: =IF(G94>=55%,"Y","N") -> Y | I94: 0.74 | J94: =IF(I94>=55%,"Y","N") -> Y | K94: 0.7 | L94: =IF(K94>=55%,"Y","N") -> Y | M94: 0.7 | N94: =IF(M94>=55%,"Y","N") -> Y | O94: 0.65 | P94: =IF(O94>=55%,"Y","N") -> Y
A95: M.PM - 20012 | B95: Kokate Dhanashri Sunil Sadhana | C95: 0.74 | D95: =IF(C95>=55%,"Y","N") -> Y | E95: 0.63 | F95: =IF(E95>=55%,"Y","N") -> Y | G95: 0.71 | H95: =IF(G95>=55%,"Y","N") -> Y | I95: 0.7 | J95: =IF(I95>=55%,"Y","N") -> Y | K95: 0.58 | L95: =IF(K95>=55%,"Y","N") -> Y | M95: 0.7 | N95: =IF(M95>=55%,"Y","N") -> Y | O95: 0.7 | P95: =IF(O95>=55%,"Y","N") -> Y
... A103: M.PM - 20020 | B103: Shetty Shrishti Shivaji Sunila | C103: 0.72 | D103: =IF(C103>=55%,"Y","N") -> Y | E103: 0.55 | F103: =IF(E103>=55%,"Y","N") -> Y | G103: 0.73 | H103: =IF(G103>=55%,"Y","N") -> Y | I103: 0.79 | J103: =IF(I103>=55%,"Y","N") -> Y | K103: 0.78 | L103: =IF(K103>=55%,"Y","N") -> Y | M103: 0.85 | N103: =IF(M103>=55%,"Y","N") -> Y | O103: 0.75 | P103: =IF(O103>=55%,"Y","N") -> Y
A104: No.of Students scoring 55% and Above | D104: =COUNTIF(D84:D103,"Y") -> 20 | F104: =COUNTIF(F84:F103,"Y") -> 19 | H104: =COUNTIF(H84:H103,"Y") -> 20 | J104: =COUNTIF(J84:J103,"Y") -> 20 | L104: =COUNTIF(L84:L103,"Y") -> 20 | N104: =COUNTIF(N84:N103,"Y") -> 20 | P104: =COUNTIF(P84:P103,"Y") -> 20
A105: % of Students Scoring 55% and above | D105: =(D104/20)*100 -> 100 | F105: =(F104/20)*100 -> 95 | H105: =(H104/20)*100 -> 100 | J105: =(J104/20)*100 -> 100 | L105: =(L104/20)*100 -> 100 | N105: =(N104/20)*100 -> 100 | P105: =(P104/20)*100 -> 100
A106: Attainment for PO-1 | C106: =POCO_CTES!$C$26 -> 0 | D106: =C106*($D$105/100) -> 0 | E106: =POCO_CTES!$C$27 -> 3 | F106: =E106*($F$105/100) -> 2.85 | G106: =POCO_CTES!$C$28 -> 0 | H106: =G106*($H$105/100) -> 0 | I106: =POCO_CTES!$C$29 -> 0 | J106: =I106*($J$105/100) -> 0 | K106: =POCO_CTES!$C$30 -> 0 | L106: =K106*($L$105/100) -> 0 | M106: =POCO_CTES!$C$31 -> 0 | N106: =M106*($N$105/100) -> 0 | O106: =POCO_CTES!$C$32 -> 0 | P106: =O106*($P$105/100) -> 0
A107: Attainment for PO-2 | C107: =POCO_CTES!$D$26 -> 1 | D107: =C107*($D$105/100) -> 1 | E107: =POCO_CTES!$D$27 -> 1 | F107: =E107*($F$105/100) -> 0.95 | G107: =POCO_CTES!$D$28 -> 3 | H107: =G107*($H$105/100) -> 3 | I107: =POCO_CTES!$D$29 -> 3 | J107: =I107*($J$105/100) -> 3 | K107: =POCO_CTES!$D$30 -> 3 | L107: =K107*($L$105/100) -> 3 | M107: =POCO_CTES!$D$31 -> 3 | N107: =M107*($N$105/100) -> 3 | O107: =POCO_CTES!$D$32 -> 3 | P107: =O107*($P$105/100) -> 3
A108: Attainment for PO-3 | C108: =POCO_CTES!$E$26 -> 3 | D108: =C108*($D$105/100) -> 3 | E108: =POCO_CTES!$E$27 -> 2 | F108: =E108*($F$105/100) -> 1.9 | G108: =POCO_CTES!$E$28 -> 3 | H108: =G108*($H$105/100) -> 3 | I108: =POCO_CTES!$E$29 -> 3 | J108: =I108*($J$105/100) -> 3 | K108: =POCO_CTES!$E$30 -> 3 | L108: =K108*($L$105/100) -> 3 | M108: =POCO_CTES!$E$31 -> 3 | N108: =M108*($N$105/100) -> 3 | O108: =POCO_CTES!$E$32 -> 3 | P108: =O108*($P$105/100) -> 3
A109: Attainment for PO-4 | C109: =POCO_CTES!$F$26 -> 0 | D109: =C109*($D$105/100) -> 0 | E109: =POCO_CTES!$F$27 -> 3 | F109: =E109*($F$105/100) -> 2.85 | G109: =POCO_CTES!$F$28 -> 0 | H109: =G109*($H$105/100) -> 0 | I109: =POCO_CTES!$F$29 -> 3 | J109: =I109*($J$105/100) -> 3 | K109: =POCO_CTES!$F$30 -> 3 | L109: =K109*($L$105/100) -> 3 | M109: =POCO_CTES!$F$31 -> 0 | N109: =M109*($N$105/100) -> 0 | O109: =POCO_CTES!$F$32 -> 0 | P109: =O109*($P$105/100) -> 0
A110: Attainment for PO-5 | C110: =POCO_CTES!$G$26 -> 2 | D110: =C110*($D$105/100) -> 2 | E110: =POCO_CTES!$G$27 -> 0 | F110: =E110*($F$105/100) -> 0 | G110: =POCO_CTES!$G$28 -> 0 | H110: =G110*($H$105/100) -> 0 | I110: =POCO_CTES!$G$29 -> 2 | J110: =I110*($J$105/100) -> 2 | K110: =POCO_CTES!$G$30 -> 3 | L110: =K110*($L$105/100) -> 3 | M110: =POCO_CTES!$G$31 -> 2 | N110: =M110*($N$105/100) -> 2 | O110: =POCO_CTES!$G$32 -> 3 | P110: =O110*($P$105/100) -> 3
A111: Attainment for PO-6 | C111: =POCO_CTES!$H$26 -> 0 | D111: =C111*($D$105/100) -> 0 | E111: =POCO_CTES!$H$27 -> 3 | F111: =E111*($F$105/100) -> 2.85 | G111: =POCO_CTES!$H$28 -> 2 | H111: =G111*($H$105/100) -> 2 | I111: =POCO_CTES!$H$29 -> 3 | J111: =I111*($J$105/100) -> 3 | K111: =POCO_CTES!$H$30 -> 0 | L111: =K111*($L$105/100) -> 0 | M111: =POCO_CTES!$H$31 -> 0 | N111: =M111*($N$105/100) -> 0 | O111: =POCO_CTES!$H$32 -> 0 | P111: =O111*($P$105/100) -> 0
A112: Attainment for PO-7 | C112: =POCO_CTES!$I$26 -> 3 | D112: =C112*($D$105/100) -> 3 | E112: =POCO_CTES!$I$27 -> 2 | F112: =E112*($F$105/100) -> 1.9 | G112: =POCO_CTES!$I$28 -> 0 | H112: =G112*($H$105/100) -> 0 | I112: =POCO_CTES!$I$29 -> 2 | J112: =I112*($J$105/100) -> 2 | K112: =POCO_CTES!$I$30 -> 3 | L112: =K112*($L$105/100) -> 3 | M112: =POCO_CTES!$I$31 -> 0 | N112: =M112*($N$105/100) -> 0 | O112: =POCO_CTES!$I$32 -> 0 | P112: =O112*($P$105/100) -> 0
A113: Attainment for PO-8 | C113: =POCO_CTES!$J$26 -> 1 | D113: =C113*($D$105/100) -> 1 | E113: =POCO_CTES!$J$27 -> 2 | F113: =E113*($F$105/100) -> 1.9 | G113: =POCO_CTES!$J$28 -> 0 | H113: =G113*($H$105/100) -> 0 | I113: =POCO_CTES!$J$29 -> 0 | J113: =I113*($J$105/100) -> 0 | K113: =POCO_CTES!$J$30 -> 3 | L113: =K113*($L$105/100) -> 3 | M113: =POCO_CTES!$J$31 -> 0 | N113: =M113*($N$105/100) -> 0 | O113: =POCO_CTES!$J$32 -> 0 | P113: =O113*($P$105/100) -> 0
A114: Total of the Marks obtained by all students | C114: =SUM(C84:C104) -> 15.98 | E114: =SUM(E84:E104) -> 12.85 | G114: =SUM(G84:G104) -> 14.7 | I114: =SUM(I84:I104) -> 14.51 | K114: =SUM(K84:K104) -> 13.17 | M114: =SUM(M84:M104) -> 14.47 | O114: =SUM(O84:O104) -> 14.1
A115: Teacher Attainment(Percentage) | C115: =(C114/20)*100 -> 79.9 | E115: =(E114/20)*100 -> 64.25 | G115: =(G114/20)*100 -> 73.5 | I115: =(I114/20)*100 -> 72.55 | K115: =(K114/20)*100 -> 65.85 | M115: =(M114/20)*100 -> 72.35 | O115: =(O114/20)*100 -> 70.5
A117: SEMESTER-IV
A118: 44317
A119: Roll No. | B119: Student Name | C119: Dissertation Stage-II (St- 07) | E119: Elective 1 (El- 13) | G119: Elective 2 (El- 14)
A120: M.PM-19001 | B120: Agarwal Nikunj Manmohan | C120: 0.668 | D120: =IF(C120>=55%,"Y","N") -> Y | E120: 0.77 | F120: =IF(E120>=55%,"Y","N") -> Y | G120: 0.55 | H120: =IF(G120>=55%,"Y","N") -> Y
A121: M.PM-19004 | B121: Deshmukh Pradip Digambar | C121: 0.656 | D121: =IF(C121>=55%,"Y","N") -> Y | E121: 0.77 | F121: =IF(E121>=55%,"Y","N") -> Y | G121: 0.56 | H121: =IF(G121>=55%,"Y","N") -> Y
A122: M.PM-19005 | B122: Gada Zeel Praveen | C122: 0.644 | D122: =IF(C122>=55%,"Y","N") -> Y | E122: 0.78 | F122: =IF(E122>=55%,"Y","N") -> Y | G122: 0.55 | H122: =IF(G122>=55%,"Y","N") -> Y
A123: M.PM-19006 | B123: Jain Bhavika Kushal | C123: 0.698 | D123: =IF(C123>=55%,"Y","N") -> Y | E123: 0.82 | F123: =IF(E123>=55%,"Y","N") -> Y | G123: 0.73 | H123: =IF(G123>=55%,"Y","N") -> Y
A124: M.PM-19007 | B124: Keluskar Shrutika Kiran | C124: 0.748 | D124: =IF(C124>=55%,"Y","N") -> Y | E124: 0.78 | F124: =IF(E124>=55%,"Y","N") -> Y | G124: 0.72 | H124: =IF(G124>=55%,"Y","N") -> Y
A125: M.PM-19008 | B125: Kulkarni Atharva Bipin | C125: 0.575 | D125: =IF(C125>=55%,"Y","N") -> Y | E125: 0.85 | F125: =IF(E125>=55%,"Y","N") -> Y | G125: 0.5 | H125: =IF(G125>=55%,"Y","N") -> N
A126: M.PM-19009 | B126: Maniyar Shahnawaz Ismail | C126: 0.723 | D126: =IF(C126>=55%,"Y","N") -> Y | E126: 0.84 | F126: =IF(E126>=55%,"Y","N") -> Y | G126: 0.6 | H126: =IF(G126>=55%,"Y","N") -> Y
...

Sheet AY 21-22
C2: Chembur Trombay Education Society's
C3: CTES C O L L E G E O F A R C H I T E C T U R E | J3: CO - PO MAPPING AY 2021- 2022
C5: N. G. Acharya Marg, Chembur, Mumbai 400071
C6: Approved by Council of Architecture
C7: (Affiliated to University of Mumbai)
A9: SEMESTER-I
A10: 44652
A11: Roll No. | B11: Student Name | C11: Management Theories - Principles & Practices (Th - 01) | E11: Law - 1 : Legal Frame work for Construction (Th - 02) | G11: Project Planning & Scheduling, Monitoring & Control (Th - 03) | I11: Construction Materials And its Management (St - 01) | K11: Computer Application in Construction Management (St-02) | M11: Elective - 1 (El -01) | O11: Elective - 2 (El -02)
A12: M.PM - 21001 | B12: GAIKHE ROHAN VITHOBA SUNANDA | C12: 0.68 | D12: =IF(C12>=55%,"Y","N") -> Y | E12: 0.6 | F12: =IF(E12>=55%,"Y","N") -> Y | G12: 0.68 | H12: =IF(G12>=55%,"Y","N") -> Y | I12: 0.74 | J12: =IF(I12>=55%,"Y","N") -> Y | K12: 0.72 | L12: =IF(K12>=55%,"Y","N") -> Y | M12: 0.7 | N12: =IF(M12>=55%,"Y","N") -> Y | O12: 0.72 | P12: =IF(O12>=55%,"Y","N") -> Y
A13: M.PM - 21002 | B13: GAIKWAD MADHURA VINAYAK MINAL | C13: 0.75 | D13: =IF(C13>=55%,"Y","N") -> Y | E13: 0.73 | F13: =IF(E13>=55%,"Y","N") -> Y | G13: 0.77 | H13: =IF(G13>=55%,"Y","N") -> Y | I13: 0.73 | J13: =IF(I13>=55%,"Y","N") -> Y | K13: 0.7 | L13: =IF(K13>=55%,"Y","N") -> Y | M13: 0.78 | N13: =IF(M13>=55%,"Y","N") -> Y | O13: 0.69 | P13: =IF(O13>=55%,"Y","N") -> Y
A14: M.PM - 21003 | B14: GANU PRAJAKTA PRAKASH PRACHI | C14: 0.63 | D14: =IF(C14>=55%,"Y","N") -> Y | E14: 0.65 | F14: =IF(E14>=55%,"Y","N") -> Y | G14: 0.83 | H14: =IF(G14>=55%,"Y","N") -> Y | I14: 0.54 | J14: =IF(I14>=55%,"Y","N") -> N | K14: 0.76 | L14: =IF(K14>=55%,"Y","N") -> Y | M14: 0.78 | N14: =IF(M14>=55%,"Y","N") -> Y | O14: 0.73 | P14: =IF(O14>=55%,"Y","N") -> Y
A15: M.PM - 21004 | B15: GAWAND VINAYA VILAS VARSHA | C15: 0.6 | D15: =IF(C15>=55%,"Y","N") -> Y | E15: 0.65 | F15: =IF(E15>=55%,"Y","N") -> Y | G15: 0.67 | H15: =IF(G15>=55%,"Y","N") -> Y | I15: 0.54 | J15: =IF(I15>=55%,"Y","N") -> N | K15: 0.7 | L15: =IF(K15>=55%,"Y","N") -> Y | M15: 0.74 | N15: =IF(M15>=55%,"Y","N") -> Y | O15: 0.7 | P15: =IF(O15>=55%,"Y","N") -> Y
A16: M.PM - 21005 | B16: KAKAD AARTI SUNIL SADHANA | C16: 0.54 | D16: =IF(C16>=55%,"Y","N") -> N | E16: 0.65 | F16: =IF(E16>=55%,"Y","N") -> Y | G16: 0.65 | H16: =IF(G16>=55%,"Y","N") -> Y | I16: 0.57 | J16: =IF(I16>=55%,"Y","N") -> Y | K16: 0.7 | L16: =IF(K16>=55%,"Y","N") -> Y | M16: 0.62 | N16: =IF(M16>=55%,"Y","N") -> Y | O16: 0.62 | P16: =IF(O16>=55%,"Y","N") -> Y
A17: M.PM - 21006 | B17: KARANI NIKITA DEEPAK MANISHA | C17: 0.71 | D17: =IF(C17>=55%,"Y","N") -> Y | E17: 0.79 | F17: =IF(E17>=55%,"Y","N") -> Y | G17: 0.84 | H17: =IF(G17>=55%,"Y","N") -> Y | I17: 0.55 | J17: =IF(I17>=55%,"Y","N") -> Y | K17: 0.83 | L17: =IF(K17>=55%,"Y","N") -> Y | M17: 0.82 | N17: =IF(M17>=55%,"Y","N") -> Y | O17: 0.67 | P17: =IF(O17>=55%,"Y","N") -> Y
A18: M.PM - 21007 | B18: MIRAJKAR AQSA GAZANFAR NOORJAHAN | C18: 0.7 | D18: =IF(C18>=55%,"Y","N") -> Y | E18: 0.77 | F18: =IF(E18>=55%,"Y","N") -> Y | G18: 0.74 | H18: =IF(G18>=55%,"Y","N") -> Y | I18: 0.74 | J18: =IF(I18>=55%,"Y","N") -> Y | K18: 0.7 | L18: =IF(K18>=55%,"Y","N") -> Y | M18: 0.78 | N18: =IF(M18>=55%,"Y","N") -> Y | O18: 0.7 | P18: =IF(O18>=55%,"Y","N") -> Y
A19: M.PM - 21008 | B19: DALVI PRACHI SANIL | C19: 0.78 | D19: =IF(C19>=55%,"Y","N") -> Y | E19: 0.83 | F19: =IF(E19>=55%,"Y","N") -> Y | G19: 0.71 | H19: =IF(G19>=55%,"Y","N") -> Y | I19: 0.66 | J19: =IF(I19>=55%,"Y","N") -> Y | K19: 0.75 | L19: =IF(K19>=55%,"Y","N") -> Y | M19: 0.78 | N19: =IF(M19>=55%,"Y","N") -> Y | O19: 0.68 | P19: =IF(O19>=55%,"Y","N") -> Y
A20: M.PM - 21009 | B20: SAMPAT JINAY RAJENDRA RASHMI | C20: 0.78 | D20: =IF(C20>=55%,"Y","N") -> Y | E20: 0.72 | F20: =IF(E20>=55%,"Y","N") -> Y | G20: 0.74 | H20: =IF(G20>=55%,"Y","N") -> Y | I20: 0.66 | J20: =IF(I20>=55%,"Y","N") -> Y | K20: 0.79 | L20: =IF(K20>=55%,"Y","N") -> Y | M20: 0.78 | N20: =IF(M20>=55%,"Y","N") -> Y | O20: 0.66 | P20: =IF(O20>=55%,"Y","N") -> Y
A21: M.PM - 21010 | B21: TAKLIKAR SHRADDHA SHRIKANT SHAILAJA | C21: 0.57 | D21: =IF(C21>=55%,"Y","N") -> Y | E21: 0.67 | F21: =IF(E21>=55%,"Y","N") -> Y | G21: 0.63 | H21: =IF(G21>=55%,"Y","N") -> Y | I21: 0.64 | J21: =IF(I21>=55%,"Y","N") -> Y | K21: 0.71 | L21: =IF(K21>=55%,"Y","N") -> Y | M21: 0.74 | N21: =IF(M21>=55%,"Y","N") -> Y | O21: 0.67 | P21: =IF(O21>=55%,"Y","N") -> Y
A22: M.PM - 21011 | B22: TAPKE RASHMI VIPUL | C22: 0.72 | D22: =IF(C22>=55%,"Y","N") -> Y | E22: 0.64 | F22: =IF(E22>=55%,"Y","N") -> Y | G22: 0.71 | H22: =IF(G22>=55%,"Y","N") -> Y | I22: 0.55 | J22: =IF(I22>=55%,"Y","N") -> Y | K22: 0.77 | L22: =IF(K22>=55%,"Y","N") -> Y | M22: 0.74 | N22: =IF(M22>=55%,"Y","N") -> Y | O22: 0.75 | P22: =IF(O22>=55%,"Y","N") -> Y
A23: M.PM - 21012 | B23: TAWDE ABHIJEET BHARAT SUCHITA | C23: 0.69 | D23: =IF(C23>=55%,"Y","N") -> Y | E23: 0.6 | F23: =IF(E23>=55%,"Y","N") -> Y | G23: 0.75 | H23: =IF(G23>=55%,"Y","N") -> Y | I23: 0.65 | J23: =IF(I23>=55%,"Y","N") -> Y | K23: 0.73 | L23: =IF(K23>=55%,"Y","N") -> Y | M23: 0.7 | N23: =IF(M23>=55%,"Y","N") -> Y | O23: 0.7 | P23: =IF(O23>=55%,"Y","N") -> Y
... A25: M.PM - 21014 | B25: WAGHDHARE PARIKSHIT VIJAY VAISHALI | C25: 0.77 | D25: =IF(C25>=55%,"Y","N") -> Y | E25: 0.82 | F25: =IF(E25>=55%,"Y","N") -> Y | G25: 0.85 | H25: =IF(G25>=55%,"Y","N") -> Y | I25: 0.77 | J25: =IF(I25>=55%,"Y","N") -> Y | K25: 0.74 | L25: =IF(K25>=55%,"Y","N") -> Y | M25: 0.82 | N25: =IF(M25>=55%,"Y","N") -> Y | O25: 0.74 | P25: =IF(O25>=55%,"Y","N") -> Y
A32: No.of Students scoring 55% and Above | D32: =COUNTIF(D12:D31,"Y") -> 13 | F32: =COUNTIF(F12:F31,"Y") -> 14 | H32: =COUNTIF(H12:H31,"Y") -> 14 | J32: =COUNTIF(J12:J31,"Y") -> 12 | L32: =COUNTIF(L12:L31,"Y") -> 14 | N32: =COUNTIF(N12:N31,"Y") -> 14 | P32: =COUNTIF(P12:P31,"Y") -> 14
A33: % of Students Scoring 55% and above | D33: =(D32/14)*100 -> 92.857143 | F33: =(F32/14)*100 -> 100 | H33: =(H32/14)*100 -> 100 | J33: =(J32/14)*100 -> 85.714286 | L33: =(L32/14)*100 -> 100 | N33: =(N32/14)*100 -> 100 | P33: =(P32/14)*100 -> 100
A34: Attainment for PO-1 | C34: =POCO_CTES!$C$12 -> 0 | D34: =C34*($D$33/100) -> 0 | E34: =POCO_CTES!$C$13 -> 3 | F34: =E34*($F$33/100) -> 3 | G34: =POCO_CTES!$C$14 -> 3 | H34: =G34*($H$33/100) -> 3 | I34: =POCO_CTES!$C$15 -> 3 | J34: =I34*($J$33/100) -> 2.5714286 | K34: =POCO_CTES!$C$16 -> 0 | L34: =K34*($L$33/100) -> 0 | M34: =POCO_CTES!$C$17 -> 3 | N34: =M34*($N$33/100) -> 3 | O34: =POCO_CTES!$C$18 -> 3 | P34: =O34*($P$33/100) -> 3
A35: Attainment for PO-2 | C35: =POCO_CTES!$D$12 -> 3 | D35: =C35*($D$33/100) -> 2.7857143 | E35: =POCO_CTES!$D$13 -> 3 | F35: =E35*($F$33/100) -> 3 | G35: =POCO_CTES!$D$14 -> 0 | H35: =G35*($H$33/100) -> 0 | I35: =POCO_CTES!$D$15 -> 3 | J35: =I35*($J$33/100) -> 2.5714286 | K35: =POCO_CTES!$D$16 -> 3 | L35: =K35*($L$33/100) -> 3 | M35: =POCO_CTES!$D$17 -> 3 | N35: =M35*($N$33/100) -> 3 | O35: =POCO_CTES!$D$18 -> 3 | P35: =O35*($P$33/100) -> 3
A36: Attainment for PO-3 | C36: =POCO_CTES!$E$12 -> 0 | D36: =C36*($D$33/100) -> 0 | E36: =POCO_CTES!$E$13 -> 0 | F36: =E36*($F$33/100) -> 0 | G36: =POCO_CTES!$E$14 -> 3 | H36: =G36*($H$33/100) -> 3 | I36: =POCO_CTES!$E$15 -> 2 | J36: =I36*($J$33/100) -> 1.7142857 | K36: =POCO_CTES!$E$16 -> 0 | L36: =K36*($L$33/100) -> 0 | M36: =POCO_CTES!$E$17 -> 0 | N36: =M36*($N$33/100) -> 0 | O36: =POCO_CTES!$E$18 -> 3 | P36: =O36*($P$33/100) -> 3
A37: Attainment for PO-4 | C37: =POCO_CTES!$F$12 -> 2 | D37: =C37*($D$33/100) -> 1.8571429 | E37: =POCO_CTES!$F$13 -> 0 | F37: =E37*($F$33/100) -> 0 | G37: =POCO_CTES!$F$14 -> 0 | H37: =G37*($H$33/100) -> 0 | I37: =POCO_CTES!$F$15 -> 3 | J37: =I37*($J$33/100) -> 2.5714286 | K37: =POCO_CTES!$F$16 -> 0 | L37: =K37*($L$33/100) -> 0 | M37: =POCO_CTES!$F$17 -> 0 | N37: =M37*($N$33/100) -> 0 | O37: =POCO_CTES!$F$18 -> 0 | P37: =O37*($P$33/100) -> 0
A38: Attainment for PO-5 | C38: =POCO_CTES!$G$12 -> 0 | D38: =C38*($D$33/100) -> 0 | E38: =POCO_CTES!$G$13 -> 0 | F38: =E38*($F$33/100) -> 0 | G38: =POCO_CTES!$G$14 -> 2 | H38: =G38*($H$33/100) -> 2 | I38: =POCO_CTES!$G$15 -> 0 | J38: =I38*($J$33/100) -> 0 | K38: =POCO_CTES!$G$16 -> 3 | L38: =K38*($L$33/100) -> 3 | M38: =POCO_CTES!$G$17 -> 0 | N38: =M38*($N$33/100) -> 0 | O38: =POCO_CTES!$G$18 -> 0 | P38: =O38*($P$33/100) -> 0
A39: Attainment for PO-6 | C39: =POCO_CTES!$H$12 -> 0 | D39: =C39*($D$33/100) -> 0 | E39: =POCO_CTES!$H$13 -> 0 | F39: =E39*($F$33/100) -> 0 | G39: =POCO_CTES!$H$14 -> 0 | H39: =G39*($H$33/100) -> 0 | I39: =POCO_CTES!$H$15 -> 2 | J39: =I39*($J$33/100) -> 1.7142857 | K39: =POCO_CTES!$H$16 -> 0 | L39: =K39*($L$33/100) -> 0 | M39: =POCO_CTES!$H$17 -> 0 | N39: =M39*($N$33/100) -> 0 | O39: =POCO_CTES!$H$18 -> 0 | P39: =O39*($P$33/100) -> 0 | Q39: `
A40: Attainment for PO-7 | C40: =POCO_CTES!$I$12 -> 3 | D40: =C40*($D$33/100) -> 2.7857143 | E40: =POCO_CTES!$I$13 -> 0 | F40: =E40*($F$33/100) -> 0 | G40: =POCO_CTES!$I$14 -> 0 | H40: =G40*($H$33/100) -> 0 | I40: =POCO_CTES!$I$15 -> 0 | J40: =I40*($J$33/100) -> 0 | K40: =POCO_CTES!$I$16 -> 0 | L40: =K40*($L$33/100) -> 0 | M40: =POCO_CTES!$I$17 -> 0 | N40: =M40*($N$33/100) -> 0 | O40: =POCO_CTES!$I$18 -> 0 | P40: =O40*($P$33/100) -> 0
A41: Attainment for PO-8 | C41: =POCO_CTES!$J$12 -> 2 | D41: =C41*($D$33/100) -> 1.8571429 | E41: =POCO_CTES!$J$13 -> 3 | F41: =E41*($F$33/100) -> 3 | G41: =POCO_CTES!$J$14 -> 0 | H41: =G41*($H$33/100) -> 0 | I41: =POCO_CTES!$J$15 -> 0 | J41: =I41*($J$33/100) -> 0 | K41: =POCO_CTES!$J$16 -> 0 | L41: =K41*($L$33/100) -> 0 | M41: =POCO_CTES!$J$17 -> 0 | N41: =M41*($N$33/100) -> 0 | O41: =POCO_CTES!$J$18 -> 0 | P41: =O41*($P$33/100) -> 0
A42: Total of the Marks obtained by all students | C42: =SUM(C12:C31) -> 9.57 | E42: =SUM(E12:E31) -> 9.77 | G42: =SUM(G12:G31) -> 10.31 | I42: =SUM(I12:I31) -> 8.93 | K42: =SUM(K12:K31) -> 10.31 | M42: =SUM(M12:M31) -> 10.6 | O42: =SUM(O12:O31) -> 9.69
A43: Teacher Attainment(Percentage) | C43: =C42/14*100 -> 68.357143 | E43: =E42/14*100 -> 69.785714 | G43: =G42/14*100 -> 73.642857 | I43: =I42/14*100 -> 63.785714 | K43: =K42/14*100 -> 73.642857 | M43: =M42/14*100 -> 75.714286 | O43: =O42/14*100 -> 69.214286 | Q43: `
A45: SEMESTER-III
A46: 44562
A47: Roll No. | B47: Student Name | C47: Project Appraisal and Finance Management (Th- 07) | E47: Construction Marketing Management (Th- 08) | G47: Managerial Decision Making (Th- 09) | I47: Construction Management Studio (St- 05) | K47: Dissertation Stage- I (St-06) | M47: Elective- 1 (El- 09) | O47: Elective- 2 (El- 10)
A48: M.PM - 20001 | B48: Bansod Jagruti Sahebrao Vandana | C48: 0.8 | D48: =IF(C48>=55%,"Y","N") -> Y | E48: 0.71 | F48: =IF(E48>=55%,"Y","N") -> Y | G48: 0.66 | H48: =IF(G48>=55%,"Y","N") -> Y | I48: 0.68 | J48: =IF(I48>=55%,"Y","N") -> Y | K48: 0.55 | L48: =IF(K48>=55%,"Y","N") -> Y | M48: 0.81 | N48: =IF(M48>=55%,"Y","N") -> Y | O48: 0.72 | P48: =IF(O48>=55%,"Y","N") -> Y
A49: M.PM - 20002 | B49: Bettina Rachel Jacob Sally | C49: 0.82 | D49: =IF(C49>=55%,"Y","N") -> Y | E49: 0.83 | F49: =IF(E49>=55%,"Y","N") -> Y | G49: 0.84 | H49: =IF(G49>=55%,"Y","N") -> Y | I49: 0.76 | J49: =IF(I49>=55%,"Y","N") -> Y | K49: 0.65 | L49: =IF(K49>=55%,"Y","N") -> Y | M49: 0.91 | N49: =IF(M49>=55%,"Y","N") -> Y | O49: 0.82 | P49: =IF(O49>=55%,"Y","N") -> Y
A50: M.PM - 20003 | B50: Bijayeeni U S | C50: 0.82 | D50: =IF(C50>=55%,"Y","N") -> Y | E50: 0.78 | F50: =IF(E50>=55%,"Y","N") -> Y | G50: 0.87 | H50: =IF(G50>=55%,"Y","N") -> Y | I50: 0.73 | J50: =IF(I50>=55%,"Y","N") -> Y | K50: 0.66 | L50: =IF(K50>=55%,"Y","N") -> Y | M50: 0.91 | N50: =IF(M50>=55%,"Y","N") -> Y | O50: 0.81 | P50: =IF(O50>=55%,"Y","N") -> Y
A51: M.PM - 20004 | B51: Chaudhari Vedant Dilip Vaishali | C51: 0.84 | D51: =IF(C51>=55%,"Y","N") -> Y | E51: 0.75 | F51: =IF(E51>=55%,"Y","N") -> Y | G51: 0.74 | H51: =IF(G51>=55%,"Y","N") -> Y | I51: 0.68 | J51: =IF(I51>=55%,"Y","N") -> Y | K51: 0.65 | L51: =IF(K51>=55%,"Y","N") -> Y | M51: 0.86 | N51: =IF(M51>=55%,"Y","N") -> Y | O51: 0.71 | P51: =IF(O51>=55%,"Y","N") -> Y
A52: M.PM - 20005 | B52: Dhage Yogesh Girish Minal | C52: 0.85 | D52: =IF(C52>=55%,"Y","N") -> Y | E52: 0.73 | F52: =IF(E52>=55%,"Y","N") -> Y | G52: 0.96 | H52: =IF(G52>=55%,"Y","N") -> Y | I52: 0.67 | J52: =IF(I52>=55%,"Y","N") -> Y | K52: 0.6 | L52: =IF(K52>=55%,"Y","N") -> Y | M52: 0.81 | N52: =IF(M52>=55%,"Y","N") -> Y | O52: 0.76 | P52: =IF(O52>=55%,"Y","N") -> Y
A53: M.PM - 20006 | B53: Farooqui Ubaid Shabbir Ahmad Nasreen | C53: 0.81 | D53: =IF(C53>=55%,"Y","N") -> Y | E53: 0.64 | F53: =IF(E53>=55%,"Y","N") -> Y | G53: 0.96 | H53: =IF(G53>=55%,"Y","N") -> Y | I53: 0.69 | J53: =IF(I53>=55%,"Y","N") -> Y | K53: 0.63 | L53: =IF(K53>=55%,"Y","N") -> Y | M53: 0.91 | N53: =IF(M53>=55%,"Y","N") -> Y | O53: 0.75 | P53: =IF(O53>=55%,"Y","N") -> Y
A54: M.PM - 20007 | B54: Goraksha Minal Subhash Shubhangi | C54: 0.82 | D54: =IF(C54>=55%,"Y","N") -> Y | E54: 0.8 | F54: =IF(E54>=55%,"Y","N") -> Y | G54: 0.85 | H54: =IF(G54>=55%,"Y","N") -> Y | I54: 0.8 | J54: =IF(I54>=55%,"Y","N") -> Y | K54: 0.7 | L54: =IF(K54>=55%,"Y","N") -> Y | M54: 0.91 | N54: =IF(M54>=55%,"Y","N") -> Y | O54: 0.8 | P54: =IF(O54>=55%,"Y","N") -> Y
A55: M.PM - 20008 | B55: Gosavi Mamata Ganesh Mayuri | C55: 0.8 | D55: =IF(C55>=55%,"Y","N") -> Y | E55: 0.58 | F55: =IF(E55>=55%,"Y","N") -> Y | G55: 0.65 | H55: =IF(G55>=55%,"Y","N") -> Y | I55: 0.63 | J55: =IF(I55>=55%,"Y","N") -> Y | K55: 0.08 | L55: =IF(K55>=55%,"Y","N") -> N | M55: 0.78 | N55: =IF(M55>=55%,"Y","N") -> Y | O55: 0.4 | P55: =IF(O55>=55%,"Y","N") -> N
A56: M.PM - 20009 | B56: Jain Komal Kunal Anita | C56: 0.79 | D56: =IF(C56>=55%,"Y","N") -> Y | E56: 0.66 | F56: =IF(E56>=55%,"Y","N") -> Y | G56: 0.94 | H56: =IF(G56>=55%,"Y","N") -> Y | I56: 0.63 | J56: =IF(I56>=55%,"Y","N") -> Y | K56: 0.66 | L56: =IF(K56>=55%,"Y","N") -> Y | M56: 0.81 | N56: =IF(M56>=55%,"Y","N") -> Y | O56: 0.71 | P56: =IF(O56>=55%,"Y","N") -> Y
A57: M.PM - 20010 | B57: Kandalgaonkar Sumit Hemant Sujata | C57: 0.87 | D57: =IF(C57>=55%,"Y","N") -> Y | E57: 0.76 | F57: =IF(E57>=55%,"Y","N") -> Y | G57: 0.93 | H57: =IF(G57>=55%,"Y","N") -> Y | I57: 0.7 | J57: =IF(I57>=55%,"Y","N") -> Y | K57: 0.65 | L57: =IF(K57>=55%,"Y","N") -> Y | M57: 0.82 | N57: =IF(M57>=55%,"Y","N") -> Y | O57: 0.73 | P57: =IF(O57>=55%,"Y","N") -> Y
A58: M.PM - 20011 | B58: Karani Shruti Uttam Hemaliben | C58: 0.85 | D58: =IF(C58>=55%,"Y","N") -> Y | E58: 0.75 | F58: =IF(E58>=55%,"Y","N") -> Y | G58: 0.97 | H58: =IF(G58>=55%,"Y","N") -> Y | I58: 0.75 | J58: =IF(I58>=55%,"Y","N") -> Y | K58: 0.67 | L58: =IF(K58>=55%,"Y","N") -> Y | M58: 0.86 | N58: =IF(M58>=55%,"Y","N") -> Y | O58: 0.78 | P58: =IF(O58>=55%,"Y","N") -> Y
A59: M.PM - 20012 | B59: Kokate Dhanashri Sunil Sadhana | C59: 0.81 | D59: =IF(C59>=55%,"Y","N") -> Y | E59: 0.68 | F59: =IF(E59>=55%,"Y","N") -> Y | G59: 0.85 | H59: =IF(G59>=55%,"Y","N") -> Y | I59: 0.61 | J59: =IF(I59>=55%,"Y","N") -> Y | K59: 0.53 | L59: =IF(K59>=55%,"Y","N") -> N | M59: 0.81 | N59: =IF(M59>=55%,"Y","N") -> Y | O59: 0.76 | P59: =IF(O59>=55%,"Y","N") -> Y
... A67: M.PM - 20020 | B67: Shetty Shrishti Shivaji Sunila | C67: 0.84 | D67: =IF(C67>=55%,"Y","N") -> Y | E67: 0.82 | F67: =IF(E67>=55%,"Y","N") -> Y | G67: 0.93 | H67: =IF(G67>=55%,"Y","N") -> Y | I67: 0.69 | J67: =IF(I67>=55%,"Y","N") -> Y | K67: 0.7 | L67: =IF(K67>=55%,"Y","N") -> Y | M67: 0.84 | N67: =IF(M67>=55%,"Y","N") -> Y | O67: 0.83 | P67: =IF(O67>=55%,"Y","N") -> Y
A68: No.of Students scoring 55% and Above | D68: =COUNTIF(D48:D67,"Y") -> 20 | F68: =COUNTIF(F48:F67,"Y") -> 19 | H68: =COUNTIF(H48:H67,"Y") -> 19 | J68: =COUNTIF(J48:J67,"Y") -> 20 | L68: =COUNTIF(L48:L67,"Y") -> 18 | N68: =COUNTIF(N48:N67,"Y") -> 20 | P68: =COUNTIF(P48:P67,"Y") -> 18
A69: % of Students Scoring 55% and above | D69: =(D68/20)*100 -> 100 | F69: =(F68/20)*100 -> 95 | H69: =(H68/20)*100 -> 95 | J69: =(J68/20)*100 -> 100 | L69: =(L68/20)*100 -> 90 | N69: =(N68/20)*100 -> 100 | P69: =(P68/20)*100 -> 90
A70: Attainment for PO-1 | C70: =POCO_CTES!$C$26 -> 0 | D70: =C70*($D$69/100) -> 0 | E70: =POCO_CTES!$C$27 -> 3 | F70: =E70*($F$69/100) -> 2.85 | G70: =POCO_CTES!$C$28 -> 0 | H70: =G70*($H$69/100) -> 0 | I70: =POCO_CTES!$C$29 -> 0 | J70: =I70*($J$69/100) -> 0 | K70: =POCO_CTES!$C$30 -> 0 | L70: =K70*($L$69/100) -> 0 | M70: =POCO_CTES!$C$31 -> 0 | N70: =M70*($N$69/100) -> 0 | O70: =POCO_CTES!$C$32 -> 0 | P70: =O70*($P$69/100) -> 0
A71: Attainment for PO-2 | C71: =POCO_CTES!$D$26 -> 1 | D71: =C71*($D$69/100) -> 1 | E71: =POCO_CTES!$D$27 -> 1 | F71: =E71*($F$69/100) -> 0.95 | G71: =POCO_CTES!$D$28 -> 3 | H71: =G71*($H$69/100) -> 2.85 | I71: =POCO_CTES!$D$29 -> 3 | J71: =I71*($J$69/100) -> 3 | K71: =POCO_CTES!$D$30 -> 3 | L71: =K71*($L$69/100) -> 2.7 | M71: =POCO_CTES!$D$31 -> 3 | N71: =M71*($N$69/100) -> 3 | O71: =POCO_CTES!$D$32 -> 3 | P71: =O71*($P$69/100) -> 2.7
A72: Attainment for PO-3 | C72: =POCO_CTES!$E$26 -> 3 | D72: =C72*($D$69/100) -> 3 | E72: =POCO_CTES!$E$27 -> 2 | F72: =E72*($F$69/100) -> 1.9 | G72: =POCO_CTES!$E$28 -> 3 | H72: =G72*($H$69/100) -> 2.85 | I72: =POCO_CTES!$E$29 -> 3 | J72: =I72*($J$69/100) -> 3 | K72: =POCO_CTES!$E$30 -> 3 | L72: =K72*($L$69/100) -> 2.7 | M72: =POCO_CTES!$E$31 -> 3 | N72: =M72*($N$69/100) -> 3 | O72: =POCO_CTES!$E$32 -> 3 | P72: =O72*($P$69/100) -> 2.7
A73: Attainment for PO-4 | C73: =POCO_CTES!$F$26 -> 0 | D73: =C73*($D$69/100) -> 0 | E73: =POCO_CTES!$F$27 -> 3 | F73: =E73*($F$69/100) -> 2.85 | G73: =POCO_CTES!$F$28 -> 0 | H73: =G73*($H$69/100) -> 0 | I73: =POCO_CTES!$F$29 -> 3 | J73: =I73*($J$69/100) -> 3 | K73: =POCO_CTES!$F$30 -> 3 | L73: =K73*($L$69/100) -> 2.7 | M73: =POCO_CTES!$F$31 -> 0 | N73: =M73*($N$69/100) -> 0 | O73: =POCO_CTES!$F$32 -> 0 | P73: =O73*($P$69/100) -> 0
A74: Attainment for PO-5 | C74: =POCO_CTES!$G$26 -> 2 | D74: =C74*($D$69/100) -> 2 | E74: =POCO_CTES!$G$27 -> 0 | F74: =E74*($F$69/100) -> 0 | G74: =POCO_CTES!$G$28 -> 0 | H74: =G74*($H$69/100) -> 0 | I74: =POCO_CTES!$G$29 -> 2 | J74: =I74*($J$69/100) -> 2 | K74: =POCO_CTES!$G$30 -> 3 | L74: =K74*($L$69/100) -> 2.7 | M74: =POCO_CTES!$G$31 -> 2 | N74: =M74*($N$69/100) -> 2 | O74: =POCO_CTES!$G$32 -> 3 | P74: =O74*($P$69/100) -> 2.7
A75: Attainment for PO-6 | C75: =POCO_CTES!$H$26 -> 0 | D75: =C75*($D$69/100) -> 0 | E75: =POCO_CTES!$H$27 -> 3 | F75: =E75*($F$69/100) -> 2.85 | G75: =POCO_CTES!$H$28 -> 2 | H75: =G75*($H$69/100) -> 1.9 | I75: =POCO_CTES!$H$29 -> 3 | J75: =I75*($J$69/100) -> 3 | K75: =POCO_CTES!$H$30 -> 0 | L75: =K75*($L$69/100) -> 0 | M75: =POCO_CTES!$H$31 -> 0 | N75: =M75*($N$69/100) -> 0 | O75: =POCO_CTES!$H$32 -> 0 | P75: =O75*($P$69/100) -> 0
A76: Attainment for PO-7 | C76: =POCO_CTES!$I$26 -> 3 | D76: =C76*($D$69/100) -> 3 | E76: =POCO_CTES!$I$27 -> 2 | F76: =E76*($F$69/100) -> 1.9 | G76: =POCO_CTES!$I$28 -> 0 | H76: =G76*($H$69/100) -> 0 | I76: =POCO_CTES!$I$29 -> 2 | J76: =I76*($J$69/100) -> 2 | K76: =POCO_CTES!$I$30 -> 3 | L76: =K76*($L$69/100) -> 2.7 | M76: =POCO_CTES!$I$31 -> 0 | N76: =M76*($N$69/100) -> 0 | O76: =POCO_CTES!$I$32 -> 0 | P76: =O76*($P$69/100) -> 0
A77: Attainment for PO-8 | C77: =POCO_CTES!$J$26 -> 1 | D77: =C77*($D$69/100) -> 1 | E77: =POCO_CTES!$J$27 -> 2 | F77: =E77*($F$69/100) -> 1.9 | G77: =POCO_CTES!$J$28 -> 0 | H77: =G77*($H$69/100) -> 0 | I77: =POCO_CTES!$J$29 -> 0 | J77: =I77*($J$69/100) -> 0 | K77: =POCO_CTES!$J$30 -> 3 | L77: =K77*($L$69/100) -> 2.7 | M77: =POCO_CTES!$J$31 -> 0 | N77: =M77*($N$69/100) -> 0 | O77: =POCO_CTES!$J$32 -> 0 | P77: =O77*($P$69/100) -> 0
A78: Total of the Marks obtained by all students | C78: =SUM(C48:C63) -> 13.12 | E78: =SUM(E48:E63) -> 11.34 | G78: =SUM(G48:G63) -> 13.36 | I78: =SUM(I48:I63) -> 10.95 | K78: =SUM(K48:K63) -> 9.71 | M78: =SUM(M48:M63) -> 13.6 | O78: =SUM(O48:O63) -> 11.61
A79: Teacher Attainment(Percentage) | C79: =C78/20*100 -> 65.6 | E79: =E78/20*100 -> 56.7 | G79: =G78/20*100 -> 66.8 | I79: =I78/20*100 -> 54.75 | K79: =K78/20*100 -> 48.55 | M79: =M78/20*100 -> 68 | O79: =O78/20*100 -> 58.05 | Q79: `
A81: SEMESTER-II
A82: 44774
A83: Roll No. | B83: Student Name | C83: Project Accounts & Economics (Th- 04) | E83: Law 2:Contract Management (Th- 05) | G83: Construction Equipment and Personnel Management (Th- 06) | I83: Advanced Construction Methods and Techniques (St- 03) | K83: Research Methods in Construction (St- 04) | M83: Elective 1 (El- 05) | O83: Elective 2 (El- 06)
A84: M.PM - 21001 | B84: GAIKHE ROHAN VITHOBA SUNANDA | C84: 0.7 | D84: =IF(C84>=55%,"Y","N") -> Y | E84: 0.64 | F84: =IF(E84>=55%,"Y","N") -> Y | G84: 0.77 | H84: =IF(G84>=55%,"Y","N") -> Y | I84: 0.63 | J84: =IF(I84>=55%,"Y","N") -> Y | K84: 0.66 | L84: =IF(K84>=55%,"Y","N") -> Y | M84: 0.82 | N84: =IF(M84>=55%,"Y","N") -> Y | O84: 0.84 | P84: =IF(O84>=55%,"Y","N") -> Y
A85: M.PM - 21002 | B85: GAIKWAD MADHURA VINAYAK MINAL | C85: 0.69 | D85: =IF(C85>=55%,"Y","N") -> Y | E85: 0.67 | F85: =IF(E85>=55%,"Y","N") -> Y | G85: 0.79 | H85: =IF(G85>=55%,"Y","N") -> Y | I85: 0.72 | J85: =IF(I85>=55%,"Y","N") -> Y | K85: 0.78 | L85: =IF(K85>=55%,"Y","N") -> Y | M85: 0.8 | N85: =IF(M85>=55%,"Y","N") -> Y | O85: 0.76 | P85: =IF(O85>=55%,"Y","N") -> Y
A86: M.PM - 21003 | B86: GANU PRAJAKTA PRAKASH PRACHI | C86: 0.69 | D86: =IF(C86>=55%,"Y","N") -> Y | E86: 0.7 | F86: =IF(E86>=55%,"Y","N") -> Y | G86: 0.79 | H86: =IF(G86>=55%,"Y","N") -> Y | I86: 0.82 | J86: =IF(I86>=55%,"Y","N") -> Y | K86: 0.74 | L86: =IF(K86>=55%,"Y","N") -> Y | M86: 0.88 | N86: =IF(M86>=55%,"Y","N") -> Y | O86: 0.8 | P86: =IF(O86>=55%,"Y","N") -> Y
A87: M.PM - 21004 | B87: GAWAND VINAYA VILAS VARSHA | C87: 0.71 | D87: =IF(C87>=55%,"Y","N") -> Y | E87: 0.62 | F87: =IF(E87>=55%,"Y","N") -> Y | G87: 0.73 | H87: =IF(G87>=55%,"Y","N") -> Y | I87: 0.7 | J87: =IF(I87>=55%,"Y","N") -> Y | K87: 0.7 | L87: =IF(K87>=55%,"Y","N") -> Y | M87: 0.78 | N87: =IF(M87>=55%,"Y","N") -> Y | O87: 0.76 | P87: =IF(O87>=55%,"Y","N") -> Y
A88: M.PM - 21006 | B88: KARANI NIKITA DEEPAK MANISHA | C88: 0.82 | D88: =IF(C88>=55%,"Y","N") -> Y | E88: 0.71 | F88: =IF(E88>=55%,"Y","N") -> Y | G88: 0.85 | H88: =IF(G88>=55%,"Y","N") -> Y | I88: 0.83 | J88: =IF(I88>=55%,"Y","N") -> Y | K88: 0.79 | L88: =IF(K88>=55%,"Y","N") -> Y | M88: 0.88 | N88: =IF(M88>=55%,"Y","N") -> Y | O88: 0.74 | P88: =IF(O88>=55%,"Y","N") -> Y
A89: M.PM - 21007 | B89: MIRAJKAR AQSA GAZANFAR NOORJAHAN | C89: 0.66 | D89: =IF(C89>=55%,"Y","N") -> Y | E89: 0.58 | F89: =IF(E89>=55%,"Y","N") -> Y | G89: 0.68 | H89: =IF(G89>=55%,"Y","N") -> Y | I89: 0.77 | J89: =IF(I89>=55%,"Y","N") -> Y | K89: 0.71 | L89: =IF(K89>=55%,"Y","N") -> Y | M89: 0.78 | N89: =IF(M89>=55%,"Y","N") -> Y | O89: 0.8 | P89: =IF(O89>=55%,"Y","N") -> Y
A90: M.PM - 21008 | B90: DALVI PRACHI SANIL | C90: 0.7 | D90: =IF(C90>=55%,"Y","N") -> Y | E90: 0.71 | F90: =IF(E90>=55%,"Y","N") -> Y | G90: 0.82 | H90: =IF(G90>=55%,"Y","N") -> Y | I90: 0.81 | J90: =IF(I90>=55%,"Y","N") -> Y | K90: 0.76 | L90: =IF(K90>=55%,"Y","N") -> Y | M90: 0.84 | N90: =IF(M90>=55%,"Y","N") -> Y | O90: 0.8 | P90: =IF(O90>=55%,"Y","N") -> Y
A91: M.PM - 21009 | B91: SAMPAT JINAY RAJENDRA RASHMI | C91: 0.74 | D91: =IF(C91>=55%,"Y","N") -> Y | E91: 0.68 | F91: =IF(E91>=55%,"Y","N") -> Y | G91: 0.76 | H91: =IF(G91>=55%,"Y","N") -> Y | I91: 0.7 | J91: =IF(I91>=55%,"Y","N") -> Y | K91: 0.73 | L91: =IF(K91>=55%,"Y","N") -> Y | M91: 0.82 | N91: =IF(M91>=55%,"Y","N") -> Y | O91: 0.74 | P91: =IF(O91>=55%,"Y","N") -> Y
A92: M.PM - 21011 | B92: TAPKE RASHMI VIPUL | C92: 0.71 | D92: =IF(C92>=55%,"Y","N") -> Y | E92: 0.7 | F92: =IF(E92>=55%,"Y","N") -> Y | G92: 0.81 | H92: =IF(G92>=55%,"Y","N") -> Y | I92: 0.82 | J92: =IF(I92>=55%,"Y","N") -> Y | K92: 0.82 | L92: =IF(K92>=55%,"Y","N") -> Y | M92: 0.86 | N92: =IF(M92>=55%,"Y","N") -> Y | O92: 0.76 | P92: =IF(O92>=55%,"Y","N") -> Y
A93: M.PM - 21012 | B93: TAWDE ABHIJEET BHARAT SUCHITA | C93: 0.69 | D93: =IF(C93>=55%,"Y","N") -> Y | E93: 0.66 | F93: =IF(E93>=55%,"Y","N") -> Y | G93: 0.67 | H93: =IF(G93>=55%,"Y","N") -> Y | I93: 0.69 | J93: =IF(I93>=55%,"Y","N") -> Y | K93: 0.72 | L93: =IF(K93>=55%,"Y","N") -> Y | M93: 0.8 | N93: =IF(M93>=55%,"Y","N") -> Y | O93: 0.84 | P93: =IF(O93>=55%,"Y","N") -> Y
A94: M.PM - 21013 | B94: THOMBRE SUPRIYA BALASAHEB SUNITA | C94: 0.6 | D94: =IF(C94>=55%,"Y","N") -> Y | E94: 0.6 | F94: =IF(E94>=55%,"Y","N") -> Y | G94: 0.65 | H94: =IF(G94>=55%,"Y","N") -> Y | I94: 0.71 | J94: =IF(I94>=55%,"Y","N") -> Y | K94: 0.65 | L94: =IF(K94>=55%,"Y","N") -> Y | M94: 0.86 | N94: =IF(M94>=55%,"Y","N") -> Y | O94: 0.76 | P94: =IF(O94>=55%,"Y","N") -> Y
A95: M.PM - 21014 | B95: WAGHDHARE PARIKSHIT VIJAY VAISHALI | C95: 0.77 | D95: =IF(C95>=55%,"Y","N") -> Y | E95: 0.75 | F95: =IF(E95>=55%,"Y","N") -> Y | G95: 0.74 | H95: =IF(G95>=55%,"Y","N") -> Y | I95: 0.73 | J95: =IF(I95>=55%,"Y","N") -> Y | K95: 0.73 | L95: =IF(K95>=55%,"Y","N") -> Y | M95: 0.88 | N95: =IF(M95>=55%,"Y","N") -> Y | O95: 0.76 | P95: =IF(O95>=55%,"Y","N") -> Y
A104: No.of Students scoring 55% and Above | D104: =COUNTIF(D84:D103,"Y") -> 12 | F104: =COUNTIF(F84:F103,"Y") -> 12 | H104: =COUNTIF(H84:H103,"Y") -> 12 | J104: =COUNTIF(J84:J103,"Y") -> 12 | L104: =COUNTIF(L84:L103,"Y") -> 12 | N104: =COUNTIF(N84:N103,"Y") -> 12 | P104: =COUNTIF(P84:P103,"Y") -> 12
A105: % of Students Scoring 55% and above | D105: =(D104/12)*100 -> 100 | F105: =(F104/12)*100 -> 100 | H105: =(H104/12)*100 -> 100 | J105: =(J104/12)*100 -> 100 | L105: =(L104/12)*100 -> 100 | N105: =(N104/12)*100 -> 100 | P105: =(P104/12)*100 -> 100
A106: Attainment for PO-1 | C106: =POCO_CTES!$C$19 -> 0 | D106: =C106*($D$105/100) -> 0 | E106: =POCO_CTES!$C$20 -> 3 | F106: =E106*($F$105/100) -> 3 | G106: =POCO_CTES!$C$21 -> 3 | H106: =G106*($H$105/100) -> 3 | I106: =POCO_CTES!$C$22 -> 0 | J106: =I106*($J$105/100) -> 0 | K106: =POCO_CTES!$C$23 -> 0 | L106: =K106*($L$105/100) -> 0 | M106: =POCO_CTES!$C$24 -> 0 | N106: =M106*($N$105/100) -> 0 | O106: =POCO_CTES!$C$25 -> 0 | P106: =O106*($P$105/100) -> 0
A107: Attainment for PO-2 | C107: =POCO_CTES!$D$19 -> 1 | D107: =C107*($D$105/100) -> 1 | E107: =POCO_CTES!$D$20 -> 3 | F107: =E107*($F$105/100) -> 3 | G107: =POCO_CTES!$D$21 -> 3 | H107: =G107*($H$105/100) -> 3 | I107: =POCO_CTES!$D$22 -> 3 | J107: =I107*($J$105/100) -> 3 | K107: =POCO_CTES!$D$23 -> 3 | L107: =K107*($L$105/100) -> 3 | M107: =POCO_CTES!$D$24 -> 3 | N107: =M107*($N$105/100) -> 3 | O107: =POCO_CTES!$D$25 -> 3 | P107: =O107*($P$105/100) -> 3
A108: Attainment for PO-3 | C108: =POCO_CTES!$E$19 -> 3 | D108: =C108*($D$105/100) -> 3 | E108: =POCO_CTES!$E$20 -> 0 | F108: =E108*($F$105/100) -> 0 | G108: =POCO_CTES!$E$21 -> 1 | H108: =G108*($H$105/100) -> 1 | I108: =POCO_CTES!$E$22 -> 2 | J108: =I108*($J$105/100) -> 2 | K108: =POCO_CTES!$E$23 -> 0 | L108: =K108*($L$105/100) -> 0 | M108: =POCO_CTES!$E$24 -> 3 | N108: =M108*($N$105/100) -> 3 | O108: =POCO_CTES!$E$25 -> 3 | P108: =O108*($P$105/100) -> 3
A109: Attainment for PO-4 | C109: =POCO_CTES!$F$19 -> 0 | D109: =C109*($D$105/100) -> 0 | E109: =POCO_CTES!$F$20 -> 3 | F109: =E109*($F$105/100) -> 3 | G109: =POCO_CTES!$F$21 -> 3 | H109: =G109*($H$105/100) -> 3 | I109: =POCO_CTES!$F$22 -> 3 | J109: =I109*($J$105/100) -> 3 | K109: =POCO_CTES!$F$23 -> 0 | L109: =K109*($L$105/100) -> 0 | M109: =POCO_CTES!$F$24 -> 0 | N109: =M109*($N$105/100) -> 0 | O109: =POCO_CTES!$F$25 -> 0 | P109: =O109*($P$105/100) -> 0
A110: Attainment for PO-5 | C110: =POCO_CTES!$G$19 -> 2 | D110: =C110*($D$105/100) -> 2 | E110: =POCO_CTES!$G$20 -> 0 | F110: =E110*($F$105/100) -> 0 | G110: =POCO_CTES!$G$21 -> 2 | H110: =G110*($H$105/100) -> 2 | I110: =POCO_CTES!$G$22 -> 2 | J110: =I110*($J$105/100) -> 2 | K110: =POCO_CTES!$G$23 -> 3 | L110: =K110*($L$105/100) -> 3 | M110: =POCO_CTES!$G$24 -> 2 | N110: =M110*($N$105/100) -> 2 | O110: =POCO_CTES!$G$25 -> 3 | P110: =O110*($P$105/100) -> 3
A111: Attainment for PO-6 | C111: =POCO_CTES!$H$19 -> 0 | D111: =C111*($D$105/100) -> 0 | E111: =POCO_CTES!$H$20 -> 2 | F111: =E111*($F$105/100) -> 2 | G111: =POCO_CTES!$H$21 -> 3 | H111: =G111*($H$105/100) -> 3 | I111: =POCO_CTES!$H$22 -> 3 | J111: =I111*($J$105/100) -> 3 | K111: =POCO_CTES!$H$23 -> 0 | L111: =K111*($L$105/100) -> 0 | M111: =POCO_CTES!$H$24 -> 0 | N111: =M111*($N$105/100) -> 0 | O111: =POCO_CTES!$H$25 -> 0 | P111: =O111*($P$105/100) -> 0
A112: Attainment for PO-7 | C112: =POCO_CTES!$I$19 -> 3 | D112: =C112*($D$105/100) -> 3 | E112: =POCO_CTES!$I$20 -> 2 | F112: =E112*($F$105/100) -> 2 | G112: =POCO_CTES!$I$21 -> 0 | H112: =G112*($H$105/100) -> 0 | I112: =POCO_CTES!$I$22 -> 2 | J112: =I112*($J$105/100) -> 2 | K112: =POCO_CTES!$I$23 -> 3 | L112: =K112*($L$105/100) -> 3 | M112: =POCO_CTES!$I$24 -> 0 | N112: =M112*($N$105/100) -> 0 | O112: =POCO_CTES!$I$25 -> 0 | P112: =O112*($P$105/100) -> 0
A113: Attainment for PO-8 | C113: =POCO_CTES!$J$19 -> 1 | D113: =C113*($D$105/100) -> 1 | E113: =POCO_CTES!$J$20 -> 3 | F113: =E113*($F$105/100) -> 3 | G113: =POCO_CTES!$J$21 -> 0 | H113: =G113*($H$105/100) -> 0 | I113: =POCO_CTES!$J$22 -> 0 | J113: =I113*($J$105/100) -> 0 | K113: =POCO_CTES!$J$23 -> 3 | L113: =K113*($L$105/100) -> 3 | M113: =POCO_CTES!$J$24 -> 0 | N113: =M113*($N$105/100) -> 0 | O113: =POCO_CTES!$J$25 -> 0 | P113: =O113*($P$105/100) -> 0
A114: Total of the Marks obtained by all students | C114: =SUM(C84:C104) -> 8.48 | E114: =SUM(E84:E104) -> 8.02 | G114: =SUM(G84:G104) -> 9.06 | I114: =SUM(I84:I104) -> 8.93 | K114: =SUM(K84:K104) -> 8.79 | M114: =SUM(M84:M104) -> 10 | O114: =SUM(O84:O104) -> 9.36
A115: Teacher Attainment(Percentage) | C115: =(C114/12)*100 -> 70.666667 | E115: =(E114/12)*100 -> 66.833333 | G115: =(G114/12)*100 -> 75.5 | I115: =(I114/12)*100 -> 74.416667 | K115: =(K114/12)*100 -> 73.25 | M115: =(M114/12)*100 -> 83.333333 | O115: =(O114/12)*100 -> 78
A117: SEMESTER-IV
A118: 44652
A119: Roll No. | B119: Student Name | C119: Dissertation Stage-II (St- 07) | E119: Elective 1 (El- 13) | G119: Elective 2 (El- 14)
A120: M.PM - 20001 | B120: Bansod Jagruti Sahebrao Vandana | C120: 0.604 | D120: =IF(C120>=55%,"Y","N") -> Y | E120: 0.85 | F120: =IF(E120>=55%,"Y","N") -> Y | G120: 0.62 | H120: =IF(G120>=55%,"Y","N") -> Y
A121: M.PM - 20002 | B121: Bettina Rachel Jacob Sally | C121: 0.653 | D121: =IF(C121>=55%,"Y","N") -> Y | E121: 0.87 | F121: =IF(E121>=55%,"Y","N") -> Y | G121: 0.86 | H121: =IF(G121>=55%,"Y","N") -> Y
A122: M.PM - 20003 | B122: Bijayeeni U S | C122: 0.756 | D122: =IF(C122>=55%,"Y","N") -> Y | E122: 0.9 | F122: =IF(E122>=55%,"Y","N") -> Y | G122: 0.88 | H122: =IF(G122>=55%,"Y","N") -> Y
A123: M.PM - 20004 | B123: Chaudhari Vedant Dilip Vaishali | C123: 0.66 | D123: =IF(C123>=55%,"Y","N") -> Y | E123: 0.85 | F123: =IF(E123>=55%,"Y","N") -> Y | G123: 0.62 | H123: =IF(G123>=55%,"Y","N") -> Y
A124: M.PM - 20005 | B124: Dhage Yogesh Girish Minal | C124: 0.674 | D124: =IF(C124>=55%,"Y","N") -> Y | E124: 0.83 | F124: =IF(E124>=55%,"Y","N") -> Y | G124: 0.84 | H124: =IF(G124>=55%,"Y","N") -> Y
A125: M.PM - 20006 | B125: Farooqui Ubaid Shabbir Ahmad Nasreen | C125: 0.714 | D125: =IF(C125>=55%,"Y","N") -> Y | E125: 0.79 | F125: =IF(E125>=55%,"Y","N") -> Y | G125: 0.9 | H125: =IF(G125>=55%,"Y","N") -> Y
A126: M.PM - 20007 | B126: Goraksha Minal Subhash Shubhangi | C126: 0.661 | D126: =IF(C126>=55%,"Y","N") -> Y | E126: 0.84 | F126: =IF(E126>=55%,"Y","N") -> Y | G126: 0.92 | H126: =IF(G126>=55%,"Y","N") -> Y
A127: M.PM - 20009 | B127: Jain Komal Kunal Anita | C127: 0.601 | D127: =IF(C127>=55%,"Y","N") -> Y | E127: 0.85 | F127: =IF(E127>=55%,"Y","N") -> Y | G127: 0.86 | H127: =IF(G127>=55%,"Y","N") -> Y
A128: M.PM - 20010 | B128: Kandalgaonkar Sumit Hemant Sujata | C128: 0.629 | D128: =IF(C128>=55%,"Y","N") -> Y | E128: 0.82 | F128: =IF(E128>=55%,"Y","N") -> Y | G128: 0.88 | H128: =IF(G128>=55%,"Y","N") -> Y
...

Sheet AY 22-23
C2: Chembur Trombay Education Society's
C3: CTES C O L L E G E O F A R C H I T E C T U R E | J3: CO - PO MAPPING AY 2022 - 2023
C5: N. G. Acharya Marg, Chembur, Mumbai 400071
C6: Approved by Council of Architecture
C7: (Affiliated to University of Mumbai)
A9: SEMESTER-I
A10: 44958
A11: Roll No. | B11: Student Name | C11: Management Theories - Principles & Practices (Th - 01) | E11: Law - 1 : Legal Frame work for Construction (Th - 02) | G11: Project Planning & Scheduling, Monitoring & Control (Th - 03) | I11: Construction Materials And its Management (St - 01) | K11: Computer Application in Construction Management (St-02) | M11: Elective - 1 (El -01) | O11: Elective - 2 (El -02)
A12: M.PM - 22001 | B12: CHAVAN VEDASHREE VISHWASRAO MANISHA | C12: 0.78 | D12: =IF(C12>=55%,"Y","N") -> Y | E12: 0.74 | F12: =IF(E12>=55%,"Y","N") -> Y | G12: 0.69 | H12: =IF(G12>=55%,"Y","N") -> Y | I12: 0.77 | J12: =IF(I12>=55%,"Y","N") -> Y | K12: 0.67 | L12: =IF(K12>=55%,"Y","N") -> Y | M12: 0.68 | N12: =IF(M12>=55%,"Y","N") -> Y | O12: 0.73 | P12: =IF(O12>=55%,"Y","N") -> Y
A13: M.PM - 22002 | B13: CHAVHAN AJAY SAKHARAM SUNITA | C13: 0.55 | D13: =IF(C13>=55%,"Y","N") -> Y | E13: 0.63 | F13: =IF(E13>=55%,"Y","N") -> Y | G13: 0.53 | H13: =IF(G13>=55%,"Y","N") -> N | I13: 0.73 | J13: =IF(I13>=55%,"Y","N") -> Y | K13: 0.63 | L13: =IF(K13>=55%,"Y","N") -> Y | M13: 0.74 | N13: =IF(M13>=55%,"Y","N") -> Y | O13: 0.68 | P13: =IF(O13>=55%,"Y","N") -> Y
A14: M.PM - 22003 | B14: DESAI CHETAN SURESH SNEHAL | C14: 0.74 | D14: =IF(C14>=55%,"Y","N") -> Y | E14: 0.78 | F14: =IF(E14>=55%,"Y","N") -> Y | G14: 0.76 | H14: =IF(G14>=55%,"Y","N") -> Y | I14: 0.81 | J14: =IF(I14>=55%,"Y","N") -> Y | K14: 0.69 | L14: =IF(K14>=55%,"Y","N") -> Y | M14: 0.72 | N14: =IF(M14>=55%,"Y","N") -> Y | O14: 0.76 | P14: =IF(O14>=55%,"Y","N") -> Y
A15: M.PM - 22004 | B15: DHIMAR DARSHANA AJAY DHARMISHTHA | C15: 0.68 | D15: =IF(C15>=55%,"Y","N") -> Y | E15: 0.79 | F15: =IF(E15>=55%,"Y","N") -> Y | G15: 0.63 | H15: =IF(G15>=55%,"Y","N") -> Y | I15: 0.73 | J15: =IF(I15>=55%,"Y","N") -> Y | K15: 0.64 | L15: =IF(K15>=55%,"Y","N") -> Y | M15: 0.6 | N15: =IF(M15>=55%,"Y","N") -> Y | O15: 0.76 | P15: =IF(O15>=55%,"Y","N") -> Y
A16: M.PM - 22005 | B16: KHOT PRATHAMESH SATISH SNEHA | C16: 0.6 | D16: =IF(C16>=55%,"Y","N") -> Y | E16: 0.73 | F16: =IF(E16>=55%,"Y","N") -> Y | G16: 0.55 | H16: =IF(G16>=55%,"Y","N") -> Y | I16: 0.81 | J16: =IF(I16>=55%,"Y","N") -> Y | K16: 0.69 | L16: =IF(K16>=55%,"Y","N") -> Y | M16: 0.78 | N16: =IF(M16>=55%,"Y","N") -> Y | O16: 0.83 | P16: =IF(O16>=55%,"Y","N") -> Y
A17: M.PM - 22006 | B17: KURANGALE MRUNAL KRUSHNA RADHIKA | C17: 0.54 | D17: =IF(C17>=55%,"Y","N") -> N | E17: 0.71 | F17: =IF(E17>=55%,"Y","N") -> Y | G17: 0.58 | H17: =IF(G17>=55%,"Y","N") -> Y | I17: 0.71 | J17: =IF(I17>=55%,"Y","N") -> Y | K17: 0.6 | L17: =IF(K17>=55%,"Y","N") -> Y | M17: 0.6 | N17: =IF(M17>=55%,"Y","N") -> Y | O17: 0.76 | P17: =IF(O17>=55%,"Y","N") -> Y
A18: M.PM - 22007 | B18: MATLAPURKAR MALAY MARUTI MADHAVI | C18: 0.79 | D18: =IF(C18>=55%,"Y","N") -> Y | E18: 0.75 | F18: =IF(E18>=55%,"Y","N") -> Y | G18: 0.65 | H18: =IF(G18>=55%,"Y","N") -> Y | I18: 0.76 | J18: =IF(I18>=55%,"Y","N") -> Y | K18: 0.7 | L18: =IF(K18>=55%,"Y","N") -> Y | M18: 0.92 | N18: =IF(M18>=55%,"Y","N") -> Y | O18: 0.85 | P18: =IF(O18>=55%,"Y","N") -> Y
A19: M.PM - 22008 | B19: NAMWAD SINDHU DHONDIBA SHAKUNTALA | C19: 0.68 | D19: =IF(C19>=55%,"Y","N") -> Y | E19: 0.74 | F19: =IF(E19>=55%,"Y","N") -> Y | G19: 0.64 | H19: =IF(G19>=55%,"Y","N") -> Y | I19: 0.75 | J19: =IF(I19>=55%,"Y","N") -> Y | K19: 0.59 | L19: =IF(K19>=55%,"Y","N") -> Y | M19: 0.6 | N19: =IF(M19>=55%,"Y","N") -> Y | O19: 0.75 | P19: =IF(O19>=55%,"Y","N") -> Y
A20: M.PM - 22009 | B20: PURANDARE SIDDHANT SUSHANT SHRUTI | C20: 0.56 | D20: =IF(C20>=55%,"Y","N") -> Y | E20: 0.58 | F20: =IF(E20>=55%,"Y","N") -> Y | G20: 0.54 | H20: =IF(G20>=55%,"Y","N") -> N | I20: 0.78 | J20: =IF(I20>=55%,"Y","N") -> Y | K20: 0.64 | L20: =IF(K20>=55%,"Y","N") -> Y | M20: 0.59 | N20: =IF(M20>=55%,"Y","N") -> Y | O20: 0.66 | P20: =IF(O20>=55%,"Y","N") -> Y
A21: M.PM - 22010 | B21: SHINGADIA AMISH MANISH YAMINI | C21: 0.65 | D21: =IF(C21>=55%,"Y","N") -> Y | E21: 0.61 | F21: =IF(E21>=55%,"Y","N") -> Y | G21: 0.61 | H21: =IF(G21>=55%,"Y","N") -> Y | I21: 0.8 | J21: =IF(I21>=55%,"Y","N") -> Y | K21: 0.61 | L21: =IF(K21>=55%,"Y","N") -> Y | M21: 0.68 | N21: =IF(M21>=55%,"Y","N") -> Y | O21: 0.83 | P21: =IF(O21>=55%,"Y","N") -> Y
A22: M.PM - 22011 | B22: SOLANKI SIMRAN VINOD PADMA | C22: 0.79 | D22: =IF(C22>=55%,"Y","N") -> Y | E22: 0.75 | F22: =IF(E22>=55%,"Y","N") -> Y | G22: 0.63 | H22: =IF(G22>=55%,"Y","N") -> Y | I22: 0.77 | J22: =IF(I22>=55%,"Y","N") -> Y | K22: 0.62 | L22: =IF(K22>=55%,"Y","N") -> Y | M22: 0.71 | N22: =IF(M22>=55%,"Y","N") -> Y | O22: 0.78 | P22: =IF(O22>=55%,"Y","N") -> Y
A32: No.of Students scoring 55% and Above | D32: =COUNTIF(D12:D31,"Y") -> 10 | F32: =COUNTIF(F12:F31,"Y") -> 11 | H32: =COUNTIF(H12:H31,"Y") -> 9 | J32: =COUNTIF(J12:J31,"Y") -> 11 | L32: =COUNTIF(L12:L31,"Y") -> 11 | N32: =COUNTIF(N12:N31,"Y") -> 11 | P32: =COUNTIF(P12:P31,"Y") -> 11
A33: % of Students Scoring 55% and above | D33: =(D32/11)*100 -> 90.909091 | F33: =(F32/11)*100 -> 100 | H33: =(H32/11)*100 -> 81.818182 | J33: =(J32/11)*100 -> 100 | L33: =(L32/11)*100 -> 100 | N33: =(N32/11)*100 -> 100 | P33: =(P32/11)*100 -> 100
A34: Attainment for PO-1 | C34: =POCO_CTES!$C$12 -> 0 | D34: =C34*($D$33/100) -> 0 | E34: =POCO_CTES!$C$13 -> 3 | F34: =E34*($F$33/100) -> 3 | G34: =POCO_CTES!$C$14 -> 3 | H34: =G34*($H$33/100) -> 2.4545455 | I34: =POCO_CTES!$C$15 -> 3 | J34: =I34*($J$33/100) -> 3 | K34: =POCO_CTES!$C$16 -> 0 | L34: =K34*($L$33/100) -> 0 | M34: =POCO_CTES!$C$17 -> 3 | N34: =M34*($N$33/100) -> 3 | O34: =POCO_CTES!$C$18 -> 3 | P34: =O34*($P$33/100) -> 3
A35: Attainment for PO-2 | C35: =POCO_CTES!$D$12 -> 3 | D35: =C35*($D$33/100) -> 2.7272727 | E35: =POCO_CTES!$D$13 -> 3 | F35: =E35*($F$33/100) -> 3 | G35: =POCO_CTES!$D$14 -> 0 | H35: =G35*($H$33/100) -> 0 | I35: =POCO_CTES!$D$15 -> 3 | J35: =I35*($J$33/100) -> 3 | K35: =POCO_CTES!$D$16 -> 3 | L35: =K35*($L$33/100) -> 3 | M35: =POCO_CTES!$D$17 -> 3 | N35: =M35*($N$33/100) -> 3 | O35: =POCO_CTES!$D$18 -> 3 | P35: =O35*($P$33/100) -> 3
A36: Attainment for PO-3 | C36: =POCO_CTES!$E$12 -> 0 | D36: =C36*($D$33/100) -> 0 | E36: =POCO_CTES!$E$13 -> 0 | F36: =E36*($F$33/100) -> 0 | G36: =POCO_CTES!$E$14 -> 3 | H36: =G36*($H$33/100) -> 2.4545455 | I36: =POCO_CTES!$E$15 -> 2 | J36: =I36*($J$33/100) -> 2 | K36: =POCO_CTES!$E$16 -> 0 | L36: =K36*($L$33/100) -> 0 | M36: =POCO_CTES!$E$17 -> 0 | N36: =M36*($N$33/100) -> 0 | O36: =POCO_CTES!$E$18 -> 3 | P36: =O36*($P$33/100) -> 3
A37: Attainment for PO-4 | C37: =POCO_CTES!$F$12 -> 2 | D37: =C37*($D$33/100) -> 1.8181818 | E37: =POCO_CTES!$F$13 -> 0 | F37: =E37*($F$33/100) -> 0 | G37: =POCO_CTES!$F$14 -> 0 | H37: =G37*($H$33/100) -> 0 | I37: =POCO_CTES!$F$15 -> 3 | J37: =I37*($J$33/100) -> 3 | K37: =POCO_CTES!$F$16 -> 0 | L37: =K37*($L$33/100) -> 0 | M37: =POCO_CTES!$F$17 -> 0 | N37: =M37*($N$33/100) -> 0 | O37: =POCO_CTES!$F$18 -> 0 | P37: =O37*($P$33/100) -> 0
A38: Attainment for PO-5 | C38: =POCO_CTES!$G$12 -> 0 | D38: =C38*($D$33/100) -> 0 | E38: =POCO_CTES!$G$13 -> 0 | F38: =E38*($F$33/100) -> 0 | G38: =POCO_CTES!$G$14 -> 2 | H38: =G38*($H$33/100) -> 1.6363636 | I38: =POCO_CTES!$G$15 -> 0 | J38: =I38*($J$33/100) -> 0 | K38: =POCO_CTES!$G$16 -> 3 | L38: =K38*($L$33/100) -> 3 | M38: =POCO_CTES!$G$17 -> 0 | N38: =M38*($N$33/100) -> 0 | O38: =POCO_CTES!$G$18 -> 0 | P38: =O38*($P$33/100) -> 0
A39: Attainment for PO-6 | C39: =POCO_CTES!$H$12 -> 0 | D39: =C39*($D$33/100) -> 0 | E39: =POCO_CTES!$H$13 -> 0 | F39: =E39*($F$33/100) -> 0 | G39: =POCO_CTES!$H$14 -> 0 | H39: =G39*($H$33/100) -> 0 | I39: =POCO_CTES!$H$15 -> 2 | J39: =I39*($J$33/100) -> 2 | K39: =POCO_CTES!$H$16 -> 0 | L39: =K39*($L$33/100) -> 0 | M39: =POCO_CTES!$H$17 -> 0 | N39: =M39*($N$33/100) -> 0 | O39: =POCO_CTES!$H$18 -> 0 | P39: =O39*($P$33/100) -> 0 | Q39: `
A40: Attainment for PO-7 | C40: =POCO_CTES!$I$12 -> 3 | D40: =C40*($D$33/100) -> 2.7272727 | E40: =POCO_CTES!$I$13 -> 0 | F40: =E40*($F$33/100) -> 0 | G40: =POCO_CTES!$I$14 -> 0 | H40: =G40*($H$33/100) -> 0 | I40: =POCO_CTES!$I$15 -> 0 | J40: =I40*($J$33/100) -> 0 | K40: =POCO_CTES!$I$16 -> 0 | L40: =K40*($L$33/100) -> 0 | M40: =POCO_CTES!$I$17 -> 0 | N40: =M40*($N$33/100) -> 0 | O40: =POCO_CTES!$I$18 -> 0 | P40: =O40*($P$33/100) -> 0
A41: Attainment for PO-8 | C41: =POCO_CTES!$J$12 -> 2 | D41: =C41*($D$33/100) -> 1.8181818 | E41: =POCO_CTES!$J$13 -> 3 | F41: =E41*($F$33/100) -> 3 | G41: =POCO_CTES!$J$14 -> 0 | H41: =G41*($H$33/100) -> 0 | I41: =POCO_CTES!$J$15 -> 0 | J41: =I41*($J$33/100) -> 0 | K41: =POCO_CTES!$J$16 -> 0 | L41: =K41*($L$33/100) -> 0 | M41: =POCO_CTES!$J$17 -> 0 | N41: =M41*($N$33/100) -> 0 | O41: =POCO_CTES!$J$18 -> 0 | P41: =O41*($P$33/100) -> 0
A42: Total of the Marks obtained by all students | C42: =SUM(C12:C31) -> 7.36 | E42: =SUM(E12:E31) -> 7.81 | G42: =SUM(G12:G31) -> 6.81 | I42: =SUM(I12:I31) -> 8.42 | K42: =SUM(K12:K31) -> 7.08 | M42: =SUM(M12:M31) -> 7.62 | O42: =SUM(O12:O31) -> 8.39
A43: Teacher Attainment(Percentage) | C43: =C42/11*100 -> 66.909091 | E43: =E42/11*100 -> 71 | G43: =G42/11*100 -> 61.909091 | I43: =I42/11*100 -> 76.545455 | K43: =K42/11*100 -> 64.363636 | M43: =M42/11*100 -> 69.272727 | O43: =O42/11*100 -> 76.272727 | Q43: `
A45: SEMESTER-III
A46: 44896
A47: Roll No. | B47: Student Name | C47: Project Appraisal and Finance Management (Th- 07) | E47: Construction Marketing Management (Th- 08) | G47: Managerial Decision Making (Th- 09) | I47: Construction Management Studio (St- 05) | K47: Dissertation Stage- I (St-06) | M47: Elective- 1 (El- 09) | O47: Elective- 2 (El- 10)
A48: M.PM - 21001 | B48: GAIKHE ROHAN VITHOBA SUNANDA | C48: 0.73 | D48: =IF(C48>=55%,"Y","N") -> Y | E48: 0.66 | F48: =IF(E48>=55%,"Y","N") -> Y | G48: 0.48 | H48: =IF(G48>=55%,"Y","N") -> N | I48: 0.7 | J48: =IF(I48>=55%,"Y","N") -> Y | K48: 0.61 | L48: =IF(K48>=55%,"Y","N") -> Y | M48: 0.88 | N48: =IF(M48>=55%,"Y","N") -> Y | O48: 0.75 | P48: =IF(O48>=55%,"Y","N") -> Y
A49: M.PM - 21002 | B49: GAIKWAD MADHURA VINAYAK MINAL | C49: 0.74 | D49: =IF(C49>=55%,"Y","N") -> Y | E49: 0.63 | F49: =IF(E49>=55%,"Y","N") -> Y | G49: 0.68 | H49: =IF(G49>=55%,"Y","N") -> Y | I49: 0.77 | J49: =IF(I49>=55%,"Y","N") -> Y | K49: 0.81 | L49: =IF(K49>=55%,"Y","N") -> Y | M49: 0.89 | N49: =IF(M49>=55%,"Y","N") -> Y | O49: 0.76 | P49: =IF(O49>=55%,"Y","N") -> Y
A50: M.PM - 21003 | B50: GANU PRAJAKTA PRAKASH PRACHI | C50: 0.81 | D50: =IF(C50>=55%,"Y","N") -> Y | E50: 0.76 | F50: =IF(E50>=55%,"Y","N") -> Y | G50: 0.77 | H50: =IF(G50>=55%,"Y","N") -> Y | I50: 0.8 | J50: =IF(I50>=55%,"Y","N") -> Y | K50: 0.74 | L50: =IF(K50>=55%,"Y","N") -> Y | M50: 0.87 | N50: =IF(M50>=55%,"Y","N") -> Y | O50: 0.87 | P50: =IF(O50>=55%,"Y","N") -> Y
A51: M.PM - 21004 | B51: GAWAND VINAYA VILAS VARSHA | C51: 0.68 | D51: =IF(C51>=55%,"Y","N") -> Y | E51: 0.69 | F51: =IF(E51>=55%,"Y","N") -> Y | G51: 0.47 | H51: =IF(G51>=55%,"Y","N") -> N | I51: 0.69 | J51: =IF(I51>=55%,"Y","N") -> Y | K51: 0.68 | L51: =IF(K51>=55%,"Y","N") -> Y | M51: 0.87 | N51: =IF(M51>=55%,"Y","N") -> Y | O51: 0.75 | P51: =IF(O51>=55%,"Y","N") -> Y
A52: M.PM - 21006 | B52: KARANI NIKITA DEEPAK MANISHA | C52: 0.88 | D52: =IF(C52>=55%,"Y","N") -> Y | E52: 0.79 | F52: =IF(E52>=55%,"Y","N") -> Y | G52: 0.89 | H52: =IF(G52>=55%,"Y","N") -> Y | I52: 0.69 | J52: =IF(I52>=55%,"Y","N") -> Y | K52: 0.78 | L52: =IF(K52>=55%,"Y","N") -> Y | M52: 0.94 | N52: =IF(M52>=55%,"Y","N") -> Y | O52: 0.88 | P52: =IF(O52>=55%,"Y","N") -> Y
A53: M.PM - 21007 | B53: MIRAJKAR AQSA GAZANFAR NOORJAHAN | C53: 0.77 | D53: =IF(C53>=55%,"Y","N") -> Y | E53: 0.59 | F53: =IF(E53>=55%,"Y","N") -> Y | G53: 0.6 | H53: =IF(G53>=55%,"Y","N") -> Y | I53: 0.78 | J53: =IF(I53>=55%,"Y","N") -> Y | K53: 0.73 | L53: =IF(K53>=55%,"Y","N") -> Y | M53: 0.94 | N53: =IF(M53>=55%,"Y","N") -> Y | O53: 0.73 | P53: =IF(O53>=55%,"Y","N") -> Y
A54: M.PM - 21008 | B54: DALVI PRACHI SANIL | C54: 0.82 | D54: =IF(C54>=55%,"Y","N") -> Y | E54: 0.75 | F54: =IF(E54>=55%,"Y","N") -> Y | G54: 0.65 | H54: =IF(G54>=55%,"Y","N") -> Y | I54: 0.69 | J54: =IF(I54>=55%,"Y","N") -> Y | K54: 0.82 | L54: =IF(K54>=55%,"Y","N") -> Y | M54: 0.94 | N54: =IF(M54>=55%,"Y","N") -> Y | O54: 0.8 | P54: =IF(O54>=55%,"Y","N") -> Y
A55: M.PM - 21009 | B55: SAMPAT JINAY RAJENDRA RASHMI | C55: 0.8 | D55: =IF(C55>=55%,"Y","N") -> Y | E55: 0.74 | F55: =IF(E55>=55%,"Y","N") -> Y | G55: 0.74 | H55: =IF(G55>=55%,"Y","N") -> Y | I55: 0.7 | J55: =IF(I55>=55%,"Y","N") -> Y | K55: 0.63 | L55: =IF(K55>=55%,"Y","N") -> Y | M55: 0.79 | N55: =IF(M55>=55%,"Y","N") -> Y | O55: 0.75 | P55: =IF(O55>=55%,"Y","N") -> Y
A56: M.PM - 21011 | B56: TAPKE RASHMI VIPUL | C56: 0.8 | D56: =IF(C56>=55%,"Y","N") -> Y | E56: 0.75 | F56: =IF(E56>=55%,"Y","N") -> Y | G56: 0.68 | H56: =IF(G56>=55%,"Y","N") -> Y | I56: 0.78 | J56: =IF(I56>=55%,"Y","N") -> Y | K56: 0.8 | L56: =IF(K56>=55%,"Y","N") -> Y | M56: 0.87 | N56: =IF(M56>=55%,"Y","N") -> Y | O56: 0.76 | P56: =IF(O56>=55%,"Y","N") -> Y
A57: M.PM - 21012 | B57: TAWDE ABHIJEET BHARAT SUCHITA | C57: 0.68 | D57: =IF(C57>=55%,"Y","N") -> Y | E57: 0.73 | F57: =IF(E57>=55%,"Y","N") -> Y | G57: 0.6 | H57: =IF(G57>=55%,"Y","N") -> Y | I57: 0.78 | J57: =IF(I57>=55%,"Y","N") -> Y | K57: 0.75 | L57: =IF(K57>=55%,"Y","N") -> Y | M57: 0.79 | N57: =IF(M57>=55%,"Y","N") -> Y | O57: 0.73 | P57: =IF(O57>=55%,"Y","N") -> Y
A58: M.PM - 21013 | B58: THOMBRE SUPRIYA BALASAHEB SUNITA | C58: 0.71 | D58: =IF(C58>=55%,"Y","N") -> Y | E58: 0.7 | F58: =IF(E58>=55%,"Y","N") -> Y | G58: 0.54 | H58: =IF(G58>=55%,"Y","N") -> N | I58: 0.76 | J58: =IF(I58>=55%,"Y","N") -> Y | K58: 0.67 | L58: =IF(K58>=55%,"Y","N") -> Y | M58: 0.89 | N58: =IF(M58>=55%,"Y","N") -> Y | O58: 0.74 | P58: =IF(O58>=55%,"Y","N") -> Y
A59: M.PM - 21014 | B59: WAGHDHARE PARIKSHIT VIJAY VAISHALI | C59: 0.89 | D59: =IF(C59>=55%,"Y","N") -> Y | E59: 0.77 | F59: =IF(E59>=55%,"Y","N") -> Y | G59: 0.72 | H59: =IF(G59>=55%,"Y","N") -> Y | I59: 0.79 | J59: =IF(I59>=55%,"Y","N") -> Y | K59: 0.8 | L59: =IF(K59>=55%,"Y","N") -> Y | M59: 0.88 | N59: =IF(M59>=55%,"Y","N") -> Y | O59: 0.84 | P59: =IF(O59>=55%,"Y","N") -> Y
A68: No.of Students scoring 55% and Above | D68: =COUNTIF(D48:D67,"Y") -> 12 | F68: =COUNTIF(F48:F67,"Y") -> 12 | H68: =COUNTIF(H48:H67,"Y") -> 9 | J68: =COUNTIF(J48:J67,"Y") -> 12 | L68: =COUNTIF(L48:L67,"Y") -> 12 | N68: =COUNTIF(N48:N67,"Y") -> 12 | P68: =COUNTIF(P48:P67,"Y") -> 12
A69: % of Students Scoring 55% and above | D69: =(D68/12)*100 -> 100 | F69: =(F68/12)*100 -> 100 | H69: =(H68/12)*100 -> 75 | J69: =(J68/12)*100 -> 100 | L69: =(L68/12)*100 -> 100 | N69: =(N68/12)*100 -> 100 | P69: =(P68/12)*100 -> 100
A70: Attainment for PO-1 | C70: =POCO_CTES!$C$26 -> 0 | D70: =C70*($D$69/100) -> 0 | E70: =POCO_CTES!$C$27 -> 3 | F70: =E70*($F$69/100) -> 3 | G70: =POCO_CTES!$C$28 -> 0 | H70: =G70*($H$69/100) -> 0 | I70: =POCO_CTES!$C$29 -> 0 | J70: =I70*($J$69/100) -> 0 | K70: =POCO_CTES!$C$30 -> 0 | L70: =K70*($L$69/100) -> 0 | M70: =POCO_CTES!$C$31 -> 0 | N70: =M70*($N$69/100) -> 0 | O70: =POCO_CTES!$C$32 -> 0 | P70: =O70*($P$69/100) -> 0
A71: Attainment for PO-2 | C71: =POCO_CTES!$D$26 -> 1 | D71: =C71*($D$69/100) -> 1 | E71: =POCO_CTES!$D$27 -> 1 | F71: =E71*($F$69/100) -> 1 | G71: =POCO_CTES!$D$28 -> 3 | H71: =G71*($H$69/100) -> 2.25 | I71: =POCO_CTES!$D$29 -> 3 | J71: =I71*($J$69/100) -> 3 | K71: =POCO_CTES!$D$30 -> 3 | L71: =K71*($L$69/100) -> 3 | M71: =POCO_CTES!$D$31 -> 3 | N71: =M71*($N$69/100) -> 3 | O71: =POCO_CTES!$D$32 -> 3 | P71: =O71*($P$69/100) -> 3
A72: Attainment for PO-3 | C72: =POCO_CTES!$E$26 -> 3 | D72: =C72*($D$69/100) -> 3 | E72: =POCO_CTES!$E$27 -> 2 | F72: =E72*($F$69/100) -> 2 | G72: =POCO_CTES!$E$28 -> 3 | H72: =G72*($H$69/100) -> 2.25 | I72: =POCO_CTES!$E$29 -> 3 | J72: =I72*($J$69/100) -> 3 | K72: =POCO_CTES!$E$30 -> 3 | L72: =K72*($L$69/100) -> 3 | M72: =POCO_CTES!$E$31 -> 3 | N72: =M72*($N$69/100) -> 3 | O72: =POCO_CTES!$E$32 -> 3 | P72: =O72*($P$69/100) -> 3
A73: Attainment for PO-4 | C73: =POCO_CTES!$F$26 -> 0 | D73: =C73*($D$69/100) -> 0 | E73: =POCO_CTES!$F$27 -> 3 | F73: =E73*($F$69/100) -> 3 | G73: =POCO_CTES!$F$28 -> 0 | H73: =G73*($H$69/100) -> 0 | I73: =POCO_CTES!$F$29 -> 3 | J73: =I73*($J$69/100) -> 3 | K73: =POCO_CTES!$F$30 -> 3 | L73: =K73*($L$69/100) -> 3 | M73: =POCO_CTES!$F$31 -> 0 | N73: =M73*($N$69/100) -> 0 | O73: =POCO_CTES!$F$32 -> 0 | P73: =O73*($P$69/100) -> 0
A74: Attainment for PO-5 | C74: =POCO_CTES!$G$26 -> 2 | D74: =C74*($D$69/100) -> 2 | E74: =POCO_CTES!$G$27 -> 0 | F74: =E74*($F$69/100) -> 0 | G74: =POCO_CTES!$G$28 -> 0 | H74: =G74*($H$69/100) -> 0 | I74: =POCO_CTES!$G$29 -> 2 | J74: =I74*($J$69/100) -> 2 | K74: =POCO_CTES!$G$30 -> 3 | L74: =K74*($L$69/100) -> 3 | M74: =POCO_CTES!$G$31 -> 2 | N74: =M74*($N$69/100) -> 2 | O74: =POCO_CTES!$G$32 -> 3 | P74: =O74*($P$69/100) -> 3
A75: Attainment for PO-6 | C75: =POCO_CTES!$H$26 -> 0 | D75: =C75*($D$69/100) -> 0 | E75: =POCO_CTES!$H$27 -> 3 | F75: =E75*($F$69/100) -> 3 | G75: =POCO_CTES!$H$28 -> 2 | H75: =G75*($H$69/100) -> 1.5 | I75: =POCO_CTES!$H$29 -> 3 | J75: =I75*($J$69/100) -> 3 | K75: =POCO_CTES!$H$30 -> 0 | L75: =K75*($L$69/100) -> 0 | M75: =POCO_CTES!$H$31 -> 0 | N75: =M75*($N$69/100) -> 0 | O75: =POCO_CTES!$H$32 -> 0 | P75: =O75*($P$69/100) -> 0
A76: Attainment for PO-7 | C76: =POCO_CTES!$I$26 -> 3 | D76: =C76*($D$69/100) -> 3 | E76: =POCO_CTES!$I$27 -> 2 | F76: =E76*($F$69/100) -> 2 | G76: =POCO_CTES!$I$28 -> 0 | H76: =G76*($H$69/100) -> 0 | I76: =POCO_CTES!$I$29 -> 2 | J76: =I76*($J$69/100) -> 2 | K76: =POCO_CTES!$I$30 -> 3 | L76: =K76*($L$69/100) -> 3 | M76: =POCO_CTES!$I$31 -> 0 | N76: =M76*($N$69/100) -> 0 | O76: =POCO_CTES!$I$32 -> 0 | P76: =O76*($P$69/100) -> 0
A77: Attainment for PO-8 | C77: =POCO_CTES!$J$26 -> 1 | D77: =C77*($D$69/100) -> 1 | E77: =POCO_CTES!$J$27 -> 2 | F77: =E77*($F$69/100) -> 2 | G77: =POCO_CTES!$J$28 -> 0 | H77: =G77*($H$69/100) -> 0 | I77: =POCO_CTES!$J$29 -> 0 | J77: =I77*($J$69/100) -> 0 | K77: =POCO_CTES!$J$30 -> 3 | L77: =K77*($L$69/100) -> 3 | M77: =POCO_CTES!$J$31 -> 0 | N77: =M77*($N$69/100) -> 0 | O77: =POCO_CTES!$J$32 -> 0 | P77: =O77*($P$69/100) -> 0
A78: Total of the Marks obtained by all students | C78: =SUM(C48:C63) -> 9.31 | E78: =SUM(E48:E63) -> 8.56 | G78: =SUM(G48:G63) -> 7.82 | I78: =SUM(I48:I63) -> 8.93 | K78: =SUM(K48:K63) -> 8.82 | M78: =SUM(M48:M63) -> 10.55 | O78: =SUM(O48:O63) -> 9.36
A79: Teacher Attainment(Percentage) | C79: =C78/12*100 -> 77.583333 | E79: =E78/12*100 -> 71.333333 | G79: =G78/12*100 -> 65.166667 | I79: =I78/12*100 -> 74.416667 | K79: =K78/12*100 -> 73.5 | M79: =M78/12*100 -> 87.916667 | O79: =O78/12*100 -> 78 | Q79: `
A83: SEMESTER-II
A84: 45108
A85: Roll No. | B85: Student Name | C85: Project Accounts & Economics (Th- 04) | E85: Law 2:Contract Management (Th- 05) | G85: Construction Equipment and Personnel Management (Th- 06) | I85: Advanced Construction Methods and Techniques (St- 03) | K85: Research Methods in Construction (St- 04) | M85: Elective 1 (El- 05) | O85: Elective 2 (El- 06)
A86: M.PM - 22001 | B86: CHAVAN VEDASHREE VISHWASRAO MANISHA | C86: 0.82 | D86: =IF(C86>=55%,"Y","N") -> Y | E86: 0.64 | F86: =IF(E86>=55%,"Y","N") -> Y | G86: 0.79 | H86: =IF(G86>=55%,"Y","N") -> Y | I86: 0.67 | J86: =IF(I86>=55%,"Y","N") -> Y | K86: 0.66 | L86: =IF(K86>=55%,"Y","N") -> Y | M86: 0.76 | N86: =IF(M86>=55%,"Y","N") -> Y | O86: 0.82 | P86: =IF(O86>=55%,"Y","N") -> Y
A87: M.PM - 22002 | B87: CHAVHAN AJAY SAKHARAM SUNITA | C87: 0.69 | D87: =IF(C87>=55%,"Y","N") -> Y | E87: 0.64 | F87: =IF(E87>=55%,"Y","N") -> Y | G87: 0.68 | H87: =IF(G87>=55%,"Y","N") -> Y | I87: 0.78 | J87: =IF(I87>=55%,"Y","N") -> Y | K87: 0.63 | L87: =IF(K87>=55%,"Y","N") -> Y | M87: 0.78 | N87: =IF(M87>=55%,"Y","N") -> Y | O87: 0.72 | P87: =IF(O87>=55%,"Y","N") -> Y
A88: M.PM - 22003 | B88: DESAI CHETAN SURESH SNEHAL | C88: 0.86 | D88: =IF(C88>=55%,"Y","N") -> Y | E88: 0.71 | F88: =IF(E88>=55%,"Y","N") -> Y | G88: 0.79 | H88: =IF(G88>=55%,"Y","N") -> Y | I88: 0.8 | J88: =IF(I88>=55%,"Y","N") -> Y | K88: 0.74 | L88: =IF(K88>=55%,"Y","N") -> Y | M88: 0.76 | N88: =IF(M88>=55%,"Y","N") -> Y | O88: 0.88 | P88: =IF(O88>=55%,"Y","N") -> Y
A89: M.PM - 22004 | B89: DHIMAR DARSHANA AJAY DHARMISHTHA | C89: 0.82 | D89: =IF(C89>=55%,"Y","N") -> Y | E89: 0.6 | F89: =IF(E89>=55%,"Y","N") -> Y | G89: 0.75 | H89: =IF(G89>=55%,"Y","N") -> Y | I89: 0.82 | J89: =IF(I89>=55%,"Y","N") -> Y | K89: 0.66 | L89: =IF(K89>=55%,"Y","N") -> Y | M89: 0.82 | N89: =IF(M89>=55%,"Y","N") -> Y | O89: 0.89 | P89: =IF(O89>=55%,"Y","N") -> Y
A90: M.PM - 22005 | B90: KHOT PRATHAMESH SATISH SNEHA | C90: 0.82 | D90: =IF(C90>=55%,"Y","N") -> Y | E90: 0.74 | F90: =IF(E90>=55%,"Y","N") -> Y | G90: 0.73 | H90: =IF(G90>=55%,"Y","N") -> Y | I90: 0.75 | J90: =IF(I90>=55%,"Y","N") -> Y | K90: 0.75 | L90: =IF(K90>=55%,"Y","N") -> Y | M90: 0.83 | N90: =IF(M90>=55%,"Y","N") -> Y | O90: 0.88 | P90: =IF(O90>=55%,"Y","N") -> Y
A91: M.PM - 22006 | B91: KURANGALE MRUNAL KRUSHNA RADHIKA | C91: 0.75 | D91: =IF(C91>=55%,"Y","N") -> Y | E91: 0.58 | F91: =IF(E91>=55%,"Y","N") -> Y | G91: 0.75 | H91: =IF(G91>=55%,"Y","N") -> Y | I91: 0.81 | J91: =IF(I91>=55%,"Y","N") -> Y | K91: 0.64 | L91: =IF(K91>=55%,"Y","N") -> Y | M91: 0.72 | N91: =IF(M91>=55%,"Y","N") -> Y | O91: 0.8 | P91: =IF(O91>=55%,"Y","N") -> Y
A92: M.PM - 22007 | B92: MATLAPURKAR MALAY MARUTI MADHAVI | C92: 0.84 | D92: =IF(C92>=55%,"Y","N") -> Y | E92: 0.68 | F92: =IF(E92>=55%,"Y","N") -> Y | G92: 0.78 | H92: =IF(G92>=55%,"Y","N") -> Y | I92: 0.87 | J92: =IF(I92>=55%,"Y","N") -> Y | K92: 0.77 | L92: =IF(K92>=55%,"Y","N") -> Y | M92: 0.83 | N92: =IF(M92>=55%,"Y","N") -> Y | O92: 0.88 | P92: =IF(O92>=55%,"Y","N") -> Y
A93: M.PM - 22008 | B93: NAMWAD SINDHU DHONDIBA SHAKUNTALA | C93: 0.81 | D93: =IF(C93>=55%,"Y","N") -> Y | E93: 0.72 | F93: =IF(E93>=55%,"Y","N") -> Y | G93: 0.77 | H93: =IF(G93>=55%,"Y","N") -> Y | I93: 0.7 | J93: =IF(I93>=55%,"Y","N") -> Y | K93: 0.69 | L93: =IF(K93>=55%,"Y","N") -> Y | M93: 0.76 | N93: =IF(M93>=55%,"Y","N") -> Y | O93: 0.83 | P93: =IF(O93>=55%,"Y","N") -> Y
A94: M.PM - 22009 | B94: PURANDARE SIDDHANT SUSHANT SHRUTI | C94: 0.78 | D94: =IF(C94>=55%,"Y","N") -> Y | E94: 0.54 | F94: =IF(E94>=55%,"Y","N") -> N | G94: 0.66 | H94: =IF(G94>=55%,"Y","N") -> Y | I94: 0.6 | J94: =IF(I94>=55%,"Y","N") -> Y | K94: 0.57 | L94: =IF(K94>=55%,"Y","N") -> Y | M94: 0.77 | N94: =IF(M94>=55%,"Y","N") -> Y | O94: 0.73 | P94: =IF(O94>=55%,"Y","N") -> Y
A95: M.PM - 22010 | B95: SHINGADIA AMISH MANISH YAMINI | C95: 0.8 | D95: =IF(C95>=55%,"Y","N") -> Y | E95: 0.67 | F95: =IF(E95>=55%,"Y","N") -> Y | G95: 0.69 | H95: =IF(G95>=55%,"Y","N") -> Y | I95: 0.67 | J95: =IF(I95>=55%,"Y","N") -> Y | K95: 0.63 | L95: =IF(K95>=55%,"Y","N") -> Y | M95: 0.76 | N95: =IF(M95>=55%,"Y","N") -> Y | O95: 0.86 | P95: =IF(O95>=55%,"Y","N") -> Y
A96: M.PM - 22011 | B96: SOLANKI SIMRAN VINOD PADMA | C96: 0.82 | D96: =IF(C96>=55%,"Y","N") -> Y | E96: 0.65 | F96: =IF(E96>=55%,"Y","N") -> Y | G96: 0.77 | H96: =IF(G96>=55%,"Y","N") -> Y | I96: 0.67 | J96: =IF(I96>=55%,"Y","N") -> Y | K96: 0.66 | L96: =IF(K96>=55%,"Y","N") -> Y | M96: 0.75 | N96: =IF(M96>=55%,"Y","N") -> Y | O96: 0.85 | P96: =IF(O96>=55%,"Y","N") -> Y
A106: No.of Students scoring 55% and Above | D106: =COUNTIF(D86:D105,"Y") -> 11 | F106: =COUNTIF(F86:F105,"Y") -> 10 | H106: =COUNTIF(H86:H105,"Y") -> 11 | J106: =COUNTIF(J86:J105,"Y") -> 11 | L106: =COUNTIF(L86:L105,"Y") -> 11 | N106: =COUNTIF(N86:N105,"Y") -> 11 | P106: =COUNTIF(P86:P105,"Y") -> 11
A107: % of Students Scoring 55% and above | D107: =(D106/11)*100 -> 100 | F107: =(F106/11)*100 -> 90.909091 | H107: =(H106/11)*100 -> 100 | J107: =(J106/11)*100 -> 100 | L107: =(L106/11)*100 -> 100 | N107: =(N106/11)*100 -> 100 | P107: =(P106/11)*100 -> 100
A108: Attainment for PO-1 | C108: =POCO_CTES!$C$19 -> 0 | D108: =C108*($D$107/100) -> 0 | E108: =POCO_CTES!$C$20 -> 3 | F108: =E108*($F$107/100) -> 2.7272727 | G108: =POCO_CTES!$C$21 -> 3 | H108: =G108*($H$107/100) -> 3 | I108: =POCO_CTES!$C$22 -> 0 | J108: =I108*($J$107/100) -> 0 | K108: =POCO_CTES!$C$23 -> 0 | L108: =K108*($L$107/100) -> 0 | M108: =POCO_CTES!$C$24 -> 0 | N108: =M108*($N$107/100) -> 0 | O108: =POCO_CTES!$C$25 -> 0 | P108: =O108*($P$107/100) -> 0
A109: Attainment for PO-2 | C109: =POCO_CTES!$D$19 -> 1 | D109: =C109*($D$107/100) -> 1 | E109: =POCO_CTES!$D$20 -> 3 | F109: =E109*($F$107/100) -> 2.7272727 | G109: =POCO_CTES!$D$21 -> 3 | H109: =G109*($H$107/100) -> 3 | I109: =POCO_CTES!$D$22 -> 3 | J109: =I109*($J$107/100) -> 3 | K109: =POCO_CTES!$D$23 -> 3 | L109: =K109*($L$107/100) -> 3 | M109: =POCO_CTES!$D$24 -> 3 | N109: =M109*($N$107/100) -> 3 | O109: =POCO_CTES!$D$25 -> 3 | P109: =O109*($P$107/100) -> 3
A110: Attainment for PO-3 | C110: =POCO_CTES!$E$19 -> 3 | D110: =C110*($D$107/100) -> 3 | E110: =POCO_CTES!$E$20 -> 0 | F110: =E110*($F$107/100) -> 0 | G110: =POCO_CTES!$E$21 -> 1 | H110: =G110*($H$107/100) -> 1 | I110: =POCO_CTES!$E$22 -> 2 | J110: =I110*($J$107/100) -> 2 | K110: =POCO_CTES!$E$23 -> 0 | L110: =K110*($L$107/100) -> 0 | M110: =POCO_CTES!$E$24 -> 3 | N110: =M110*($N$107/100) -> 3 | O110: =POCO_CTES!$E$25 -> 3 | P110: =O110*($P$107/100) -> 3
A111: Attainment for PO-4 | C111: =POCO_CTES!$F$19 -> 0 | D111: =C111*($D$107/100) -> 0 | E111: =POCO_CTES!$F$20 -> 3 | F111: =E111*($F$107/100) -> 2.7272727 | G111: =POCO_CTES!$F$21 -> 3 | H111: =G111*($H$107/100) -> 3 | I111: =POCO_CTES!$F$22 -> 3 | J111: =I111*($J$107/100) -> 3 | K111: =POCO_CTES!$F$23 -> 0 | L111: =K111*($L$107/100) -> 0 | M111: =POCO_CTES!$F$24 -> 0 | N111: =M111*($N$107/100) -> 0 | O111: =POCO_CTES!$F$25 -> 0 | P111: =O111*($P$107/100) -> 0
A112: Attainment for PO-5 | C112: =POCO_CTES!$G$19 -> 2 | D112: =C112*($D$107/100) -> 2 | E112: =POCO_CTES!$G$20 -> 0 | F112: =E112*($F$107/100) -> 0 | G112: =POCO_CTES!$G$21 -> 2 | H112: =G112*($H$107/100) -> 2 | I112: =POCO_CTES!$G$22 -> 2 | J112: =I112*($J$107/100) -> 2 | K112: =POCO_CTES!$G$23 -> 3 | L112: =K112*($L$107/100) -> 3 | M112: =POCO_CTES!$G$24 -> 2 | N112: =M112*($N$107/100) -> 2 | O112: =POCO_CTES!$G$25 -> 3 | P112: =O112*($P$107/100) -> 3
A113: Attainment for PO-6 | C113: =POCO_CTES!$H$19 -> 0 | D113: =C113*($D$107/100) -> 0 | E113: =POCO_CTES!$H$20 -> 2 | F113: =E113*($F$107/100) -> 1.8181818 | G113: =POCO_CTES!$H$21 -> 3 | H113: =G113*($H$107/100) -> 3 | I113: =POCO_CTES!$H$22 -> 3 | J113: =I113*($J$107/100) -> 3 | K113: =POCO_CTES!$H$23 -> 0 | L113: =K113*($L$107/100) -> 0 | M113: =POCO_CTES!$H$24 -> 0 | N113: =M113*($N$107/100) -> 0 | O113: =POCO_CTES!$H$25 -> 0 | P113: =O113*($P$107/100) -> 0
A114: Attainment for PO-7 | C114: =POCO_CTES!$I$19 -> 3 | D114: =C114*($D$107/100) -> 3 | E114: =POCO_CTES!$I$20 -> 2 | F114: =E114*($F$107/100) -> 1.8181818 | G114: =POCO_CTES!$I$21 -> 0 | H114: =G114*($H$107/100) -> 0 | I114: =POCO_CTES!$I$22 -> 2 | J114: =I114*($J$107/100) -> 2 | K114: =POCO_CTES!$I$23 -> 3 | L114: =K114*($L$107/100) -> 3 | M114: =POCO_CTES!$I$24 -> 0 | N114: =M114*($N$107/100) -> 0 | O114: =POCO_CTES!$I$25 -> 0 | P114: =O114*($P$107/100) -> 0
A115: Attainment for PO-8 | C115: =POCO_CTES!$J$19 -> 1 | D115: =C115*($D$107/100) -> 1 | E115: =POCO_CTES!$J$20 -> 3 | F115: =E115*($F$107/100) -> 2.7272727 | G115: =POCO_CTES!$J$21 -> 0 | H115: =G115*($H$107/100) -> 0 | I115: =POCO_CTES!$J$22 -> 0 | J115: =I115*($J$107/100) -> 0 | K115: =POCO_CTES!$J$23 -> 3 | L115: =K115*($L$107/100) -> 3 | M115: =POCO_CTES!$J$24 -> 0 | N115: =M115*($N$107/100) -> 0 | O115: =POCO_CTES!$J$25 -> 0 | P115: =O115*($P$107/100) -> 0
A116: Total of the Marks obtained by all students | C116: =SUM(C86:C106) -> 8.81 | E116: =SUM(E86:E106) -> 7.17 | G116: =SUM(G86:G106) -> 8.16 | I116: =SUM(I86:I106) -> 8.14 | K116: =SUM(K86:K106) -> 7.4 | M116: =SUM(M86:M106) -> 8.54 | O116: =SUM(O86:O106) -> 9.14
A117: Teacher Attainment(Percentage) | C117: =(C116/11)*100 -> 80.090909 | E117: =(E116/11)*100 -> 65.181818 | G117: =(G116/11)*100 -> 74.181818 | I117: =(I116/11)*100 -> 74 | K117: =(K116/11)*100 -> 67.272727 | M117: =(M116/11)*100 -> 77.636364 | O117: =(O116/11)*100 -> 83.090909
A119: SEMESTER-IV
A120: 45017
A121: Roll No. | B121: Student Name | C121: Dissertation Stage-II (St- 07) | E121: Elective 1 (El- 13) | G121: Elective 2 (El- 14)
A122: M.PM - 21002 | B122: GAIKWAD MADHURA VINAYAK MINAL | C122: 0.746 | D122: =IF(C122>=55%,"Y","N") -> Y | E122: 0.78 | F122: =IF(E122>=55%,"Y","N") -> Y | G122: 0.87 | H122: =IF(G122>=55%,"Y","N") -> Y
A123: M.PM - 21003 | B123: GANU PRAJAKTA PRAKASH PRACHI | C123: 0.754 | D123: =IF(C123>=55%,"Y","N") -> Y | E123: 0.83 | F123: =IF(E123>=55%,"Y","N") -> Y | G123: 0.88 | H123: =IF(G123>=55%,"Y","N") -> Y
A124: M.PM - 21004 | B124: GAWAND VINAYA VILAS VARSHA | C124: 0.5111 | D124: =IF(C124>=55%,"Y","N") -> N | E124: 0.82 | F124: =IF(E124>=55%,"Y","N") -> Y | G124: 0.88 | H124: =IF(G124>=55%,"Y","N") -> Y
A125: M.PM - 21006 | B125: KARANI NIKITA DEEPAK MANISHA | C125: 0.709 | D125: =IF(C125>=55%,"Y","N") -> Y | E125: 0.82 | F125: =IF(E125>=55%,"Y","N") -> Y | G125: 0.85 | H125: =IF(G125>=55%,"Y","N") -> Y
A126: M.PM - 21007 | B126: MIRAJKAR AQSA GAZANFAR NOORJAHAN | C126: 0.64 | D126: =IF(C126>=55%,"Y","N") -> Y | E126: 0.82 | F126: =IF(E126>=55%,"Y","N") -> Y | G126: 0.88 | H126: =IF(G126>=55%,"Y","N") -> Y
A127: M.PM - 21008 | B127: DALVI PRACHI SANIL | C127: 0.751 | D127: =IF(C127>=55%,"Y","N") -> Y | E127: 0.81 | F127: =IF(E127>=55%,"Y","N") -> Y | G127: 0.91 | H127: =IF(G127>=55%,"Y","N") -> Y
A128: M.PM - 21009 | B128: SAMPAT JINAY RAJENDRA RASHMI | C128: 0.56 | D128: =IF(C128>=55%,"Y","N") -> Y | E128: 0.78 | F128: =IF(E128>=55%,"Y","N") -> Y | G128: 0.83 | H128: =IF(G128>=55%,"Y","N") -> Y
A129: M.PM - 21011 | B129: TAPKE RASHMI VIPUL | C129: 0.717 | D129: =IF(C129>=55%,"Y","N") -> Y | E129: 0.82 | F129: =IF(E129>=55%,"Y","N") -> Y | G129: 0.87 | H129: =IF(G129>=55%,"Y","N") -> Y
A130: M.PM - 21012 | B130: TAWDE ABHIJEET BHARAT SUCHITA | C130: 0.714 | D130: =IF(C130>=55%,"Y","N") -> Y | E130: 0.78 | F130: =IF(E130>=55%,"Y","N") -> Y | G130: 0.83 | H130: =IF(G130>=55%,"Y","N") -> Y
A131: M.PM - 21013 | B131: THOMBRE SUPRIYA BALASAHEB SUNITA | C131: 0.512 | D131: =IF(C131>=55%,"Y","N") -> N | E131: 0.82 | F131: =IF(E131>=55%,"Y","N") -> Y | G131: 0.87 | H131: =IF(G131>=55%,"Y","N") -> Y
A132: M.PM - 21014 | B132: WAGHDHARE PARIKSHIT VIJAY VAISHALI | C132: 0.756 | D132: =IF(C132>=55%,"Y","N") -> Y | E132: 0.82 | F132: =IF(E132>=55%,"Y","N") -> Y | G132: 0.91 | H132: =IF(G132>=55%,"Y","N") -> Y
A142: No.of Students scoring 55% and Above | D142: =COUNTIF(D122:D140,"Y") -> 9 | F142: =COUNTIF(F122:F140,"Y") -> 11 | H142: =COUNTIF(H122:H140,"Y") -> 11
A143: % of Students Scoring 55% and above | D143: =(D142/11)*100 -> 81.818182 | F143: =(F142/11)*100 -> 100 | H143: =(H142/11)*100 -> 100
...
