Workbook

Sheet POCO_CTES
A8: CO-PO MAPPING
A9: M.ARCH.(PROJECT MANAGEMENT )
A10: SEMESTER | B10: CO | C10: PO-1 | D10: PO-2 | E10: PO-3 | F10: PO-4 | G10: PO-5 | H10: PO-6 | I10: PO-7 | J10: PO-8
C11: Domain Knowledge - Humane & Sustainable Dev. | D11: Technical Knowledge base of craft,culture & technology of the discipline | E11: Creative & Critical thinking and Problem solving | F11: Individual & Teamwork communication skills | G11: Digital Competency | H11: Leadership readiness & Professionalism | I11: Intercultural and Ethical Competence | J11: Social Responsibility
A12: SEMESTER- 1 | B12: TH-01 (Management Theories - Principles & Practices) | D12: 3 | F12: 2 | I12: 3 | J12: 2
B13: TH-02 (Law-1:Legal Framework in Construction) | C13: 3 | D13: 3 | J13: 3
B14: TH-03 (Project Planning & Sch.Monitoring & Control) | C14: 3 | E14: 3 | G14: 2
B15: ST-01 (Const.Material & its Mgmt) | C15: 3 | D15: 3 | E15: 2 | F15: 3 | H15: 2
B16: ST-02 (Comp.App.in const.) | D16: 3 | G16: 3
B17: EL-01 (Elective-1) | C17: 3 | D17: 3
B18: EL-02 (Elective-2) | C18: 3 | D18: 3 | E18: 3
A19: SEMESTER- 2 | B19: TH-04 (Project Acocunts & Economics) | D19: 1 | E19: 3 | G19: 2 | I19: 3 | J19: 1
B20: TH-05 (Law 2: Contract Management) | C20: 3 | D20: 3 | F20: 3 | H20: 2 | I20: 2 | J20: 3
B21: TH-06 (Construction Equipment & Personnel Mgmt.) | C21: 3 | D21: 3 | E21: 1 | F21: 3 | G21: 2 | H21: 3
B22: ST-03 (Advancre Construction Methods & Techniques) | D22: 3 | E22: 2 | F22: 3 | G22: 2 | H22: 3 | I22: 2
B23: ST-04 (Research Methods in Construction.) | D23: 3 | G23: 3 | I23: 3 | J23: 3
B24: EL-03 (Elective-1) | D24: 3 | E24: 3 | G24: 2
B25: EL-04 (Elective-2) | D25: 3 | E25: 3 | G25: 3
A26: SEMESTER- 3 | B26: TH-07 (Project Appraisal & Finance Management) | D26: 1 | E26: 3 | G26: 2 | I26: 3 | J26: 1
B27: TH-08 (Construction Marketing Managment) | C27: 3 | D27: 1 | E27: 2 | F27: 3 | H27: 3 | I27: 2 | J27: 2
B28: TH-09 (Managerial Decision Making) | D28: 3 | E28: 3 | H28: 2
B29: ST-05 (Construction Management Studio) | D29: 3 | E29: 3 | F29: 3 | G29: 2 | H29: 3 | I29: 2
B30: ST-06 (Dissertation Stage - I) | D30: 3 | E30: 3 | F30: 3 | G30: 3 | I30: 3 | J30: 3
B31: EL-05 (Elective-1) | D31: 3 | E31: 3 | G31: 2
B32: EL-06 (Elective-2) | D32: 3 | E32: 3 | G32: 3
A33: SEMESTER- 4 | B33: ST-07 (Dissertation Stage - II) | D33: 3 | E33: 3 | F33: 3 | G33: 3 | I33: 3 | J33: 3
B34: EL-07 (Elective-1) | D34: 3 | E34: 3 | G34: 2
B35: EL-08 (Elective-2) | D35: 3 | E35: 3 | G35: 3
C36: =SUM(C12:C35) -> 24 | D36: =SUM(D12:D35) -> 63 | E36: =SUM(E12:E35) -> 49 | F36: =SUM(F12:F35) -> 26 | G36: =SUM(G12:G35) -> 39 | H36: =SUM(H12:H35) -> 18 | I36: =SUM(I12:I35) -> 26 | J36: =SUM(J12:J35) -> 21
A37: AVG.MAPPING | C37: =C36/8 -> 3 | D37: =D36/23 -> 2.7391304 | E37: =E36/18 -> 2.7222222 | F37: =F36/9 -> 2.8888889 | G37: =G36/16 -> 2.4375 | H37: =H36/7 -> 2.5714286 | I37: =I36/10 -> 2.6 | J37: =J36/9 -> 2.3333333
L136: =L135/180*100 -> 0 | N136: =N135/180*100 -> 0 | P136: =P135/180*100 -> 0

Sheet AY 19-20
C2: Chembur Trombay Education Society's
C3: CTES C O L L E G E O F A R C H I T E C T U R E | J3: CO - PO MAPPING AY 2019 - 2020
C5: N. G. Acharya Marg, Chembur, Mumbai 400071
C6: Approved by Council of Architecture
C7: (Affiliated to University of Mumbai)
A9: SEMESTER-I
A10: 43800
A11: Roll No. | B11: Student Name | C11: Management Theories - Principles & Practices (Th - 01) | E11: Law - 1 : Legal Frame work for Construction (Th - 02) | G11: Project Planning & Scheduling, Monitoring & Control (Th - 03) | I11: Construction Materials And its Management (St - 01) | K11: Computer Application in Construction Management (St-02) | M11: Elective - 1 (El -01) | O11: Elective - 2 (El -02)
A12: M.PM-19001 | B12: Agarwal Nikunj Manmohan | C12: 0.74 | D12: =IF(C12>=55%,"Y","N") -> Y | E12: 0.52 | F12: =IF(E12>=55%,"Y","N") -> N | G12: 0.66 | H12: =IF(G12>=55%,"Y","N") -> Y | I12: 0.59 | J12: =IF(I12>=55%,"Y","N") -> Y | K12: 0.65 | L12: =IF(K12>=55%,"Y","N") -> Y | M12: 0.55 | N12: =IF(M12>=55%,"Y","N") -> Y | O12: 0.63 | P12: =IF(O12>=55%,"Y","N") -> Y
A13: M.PM-19002 | B13: Bhavsar Radha Aniket | C13: 0.63 | D13: =IF(C13>=55%,"Y","N") -> Y | E13: 0.52 | F13: =IF(E13>=55%,"Y","N") -> N | G13: 0.59 | H13: =IF(G13>=55%,"Y","N") -> Y | I13: 0.78 | J13: =IF(I13>=55%,"Y","N") -> Y | K13: 0.66 | L13: =IF(K13>=55%,"Y","N") -> Y | M13: 0.81 | N13: =IF(M13>=55%,"Y","N") -> Y | O13: 0.64 | P13: =IF(O13>=55%,"Y","N") -> Y
A14: M.PM-19004 | B14: Deshmukh Pradip Digambar | C14: 0.6 | D14: =IF(C14>=55%,"Y","N") -> Y | E14: 0.53 | F14: =IF(E14>=55%,"Y","N") -> N | G14: 0.63 | H14: =IF(G14>=55%,"Y","N") -> Y | I14: 0.67 | J14: =IF(I14>=55%,"Y","N") -> Y | K14: 0.64 | L14: =IF(K14>=55%,"Y","N") -> Y | M14: 0.57 | N14: =IF(M14>=55%,"Y","N") -> Y | O14: 0.65 | P14: =IF(O14>=55%,"Y","N") -> Y
A15: M.PM-19005 | B15: Gada Zeel Praveen | C15: 0.68 | D15: =IF(C15>=55%,"Y","N") -> Y | E15: 0.56 | F15: =IF(E15>=55%,"Y","N") -> Y | G15: 0.56 | H15: =IF(G15>=55%,"Y","N") -> Y | I15: 0.83 | J15: =IF(I15>=55%,"Y","N") -> Y | K15: 0.7 | L15: =IF(K15>=55%,"Y","N") -> Y | M15: 0.5 | N15: =IF(M15>=55%,"Y","N") -> N | O15: 0.63 | P15: =IF(O15>=55%,"Y","N") -> Y
A16: M.PM-19012 | B16: Gunjan Narsinghani | C16: 0.71 | D16: =IF(C16>=55%,"Y","N") -> Y | E16: 0.6 | F16: =IF(E16>=55%,"Y","N") -> Y | G16: 0.59 | H16: =IF(G16>=55%,"Y","N") -> Y | I16: 0.76 | J16: =IF(I16>=55%,"Y","N") -> Y | K16: 0.67 | L16: =IF(K16>=55%,"Y","N") -> Y | M16: 0.64 | N16: =IF(M16>=55%,"Y","N") -> Y | O16: 0.71 | P16: =IF(O16>=55%,"Y","N") -> Y
A17: M.PM-19006 | B17: Jain Bhavika Kushal | C17: 0.68 | D17: =IF(C17>=55%,"Y","N") -> Y | E17: 0.67 | F17: =IF(E17>=55%,"Y","N") -> Y | G17: 0.73 | H17: =IF(G17>=55%,"Y","N") -> Y | I17: 0.69 | J17: =IF(I17>=55%,"Y","N") -> Y | K17: 0.71 | L17: =IF(K17>=55%,"Y","N") -> Y | M17: 0.65 | N17: =IF(M17>=55%,"Y","N") -> Y | O17: 0.62 | P17: =IF(O17>=55%,"Y","N") -> Y
A18: M.PM-19007 | B18: Keluskar Shrutika Kiran | C18: 0.68 | D18: =IF(C18>=55%,"Y","N") -> Y | E18: 0.66 | F18: =IF(E18>=55%,"Y","N") -> Y | G18: 0.66 | H18: =IF(G18>=55%,"Y","N") -> Y | I18: 0.89 | J18: =IF(I18>=55%,"Y","N") -> Y | K18: 0.75 | L18: =IF(K18>=55%,"Y","N") -> Y | M18: 0.67 | N18: =IF(M18>=55%,"Y","N") -> Y | O18: 0.76 | P18: =IF(O18>=55%,"Y","N") -> Y
A19: M.PM-19008 | B19: Kulkarni Atharva Bipin | C19: 0.66 | D19: =IF(C19>=55%,"Y","N") -> Y | E19: 0.54 | F19: =IF(E19>=55%,"Y","N") -> N | G19: 0.54 | H19: =IF(G19>=55%,"Y","N") -> N | I19: 0.67 | J19: =IF(I19>=55%,"Y","N") -> Y | K19: 0.66 | L19: =IF(K19>=55%,"Y","N") -> Y | M19: 0.53 | N19: =IF(M19>=55%,"Y","N") -> N | O19: 0.63 | P19: =IF(O19>=55%,"Y","N") -> Y
A20: M.PM-19009 | B20: Maniyar Shahnawaz Ismail | C20: 0.74 | D20: =IF(C20>=55%,"Y","N") -> Y | E20: 0.6 | F20: =IF(E20>=55%,"Y","N") -> Y | G20: 0.58 | H20: =IF(G20>=55%,"Y","N") -> Y | I20: 0.64 | J20: =IF(I20>=55%,"Y","N") -> Y | K20: 0.67 | L20: =IF(K20>=55%,"Y","N") -> Y | M20: 0.69 | N20: =IF(M20>=55%,"Y","N") -> Y | O20: 0.63 | P20: =IF(O20>=55%,"Y","N") -> Y
A21: M.PM-19010 | B21: Merchant Muhammad Ali Mohd Jaffer | C21: 0.75 | D21: =IF(C21>=55%,"Y","N") -> Y | E21: 0.62 | F21: =IF(E21>=55%,"Y","N") -> Y | G21: 0.7 | H21: =IF(G21>=55%,"Y","N") -> Y | I21: 0.8 | J21: =IF(I21>=55%,"Y","N") -> Y | K21: 0.79 | L21: =IF(K21>=55%,"Y","N") -> Y | M21: 0.57 | N21: =IF(M21>=55%,"Y","N") -> Y | O21: 0.72 | P21: =IF(O21>=55%,"Y","N") -> Y
A22: M.PM-19011 | B22: Monteiro Roland Richard | C22: 0.77 | D22: =IF(C22>=55%,"Y","N") -> Y | E22: 0.68 | F22: =IF(E22>=55%,"Y","N") -> Y | G22: 0.62 | H22: =IF(G22>=55%,"Y","N") -> Y | I22: 0.84 | J22: =IF(I22>=55%,"Y","N") -> Y | K22: 0.72 | L22: =IF(K22>=55%,"Y","N") -> Y | M22: 0.68 | N22: =IF(M22>=55%,"Y","N") -> Y | O22: 0.65 | P22: =IF(O22>=55%,"Y","N") -> Y
A23: M.PM-19015 | B23: Nitya Pratap | C23: 0.77 | D23: =IF(C23>=55%,"Y","N") -> Y | E23: 0.65 | F23: =IF(E23>=55%,"Y","N") -> Y | G23: 0.68 | H23: =IF(G23>=55%,"Y","N") -> Y | I23: 0.8 | J23: =IF(I23>=55%,"Y","N") -> Y | K23: 0.66 | L23: =IF(K23>=55%,"Y","N") -> Y | M23: 0.63 | N23: =IF(M23>=55%,"Y","N") -> Y | O23: 0.71 | P23: =IF(O23>=55%,"Y","N") -> Y
... A27: M.PM-19017 | B27: Rooge Pallavi Avinash | C27: 0.73 | D27: =IF(C27>=55%,"Y","N") -> Y | E27: 0.57 | F27: =IF(E27>=55%,"Y","N") -> Y | G27: 0.64 | H27: =IF(G27>=55%,"Y","N") -> Y | I27: 0.6 | J27: =IF(I27>=55%,"Y","N") -> Y | K27: 0.64 | L27: =IF(K27>=55%,"Y","N") -> Y | M27: 0.51 | N27: =IF(M27>=55%,"Y","N") -> N | O27: 0.61 | P27: =IF(O27>=55%,"Y","N") -> Y
A32: No.of Students scoring 55% and Above | D32: =COUNTIF(D12:D31,"Y") -> 16 | F32: =COUNTIF(F12:F31,"Y") -> 11 | H32: =COUNTIF(H12:H31,"Y") -> 14 | J32: =COUNTIF(J12:J31,"Y") -> 16 | L32: =COUNTIF(L12:L31,"Y") -> 16 | N32: =COUNTIF(N12:N31,"Y") -> 12 | P32: =COUNTIF(P12:P31,"Y") -> 16
A33: % of Students Scoring 55% and above | D33: =(D32/16)*100 -> 100 | F33: =(F32/16)*100 -> 68.75 | H33: =(H32/16)*100 -> 87.5 | J33: =(J32/16)*100 -> 100 | L33: =(L32/16)*100 -> 100 | N33: =(N32/16)*100 -> 75 | P33: =(P32/16)*100 -> 100
A34: Attainment for PO-1 | C34: =POCO_CTES!$C$12 -> 0 | D34: =C34*($D$33/100) -> 0 | E34: =POCO_CTES!$C$13 -> 3 | F34: =E34*($F$33/100) -> 2.0625 | G34: =POCO_CTES!$C$14 -> 3 | H34: =G34*($H$33/100) -> 2.625 | I34: =POCO_CTES!$C$15 -> 3 | J34: =I34*($J$33/100) -> 3 | K34: =POCO_CTES!$C$16 -> 0 | L34: =K34*($L$33/100) -> 0 | M34: =POCO_CTES!$C$17 -> 3 | N34: =M34*($N$33/100) -> 2.25 | O34: =POCO_CTES!$C$18 -> 3 | P34: =O34*($P$33/100) -> 3
A35: Attainment for PO-2 | C35: =POCO_CTES!$D$12 -> 3 | D35: =C35*($D$33/100) -> 3 | E35: =POCO_CTES!$D$13 -> 3 | F35: =E35*($F$33/100) -> 2.0625 | G35: =POCO_CTES!$D$14 -> 0 | H35: =G35*($H$33/100) -> 0 | I35: =POCO_CTES!$D$15 -> 3 | J35: =I35*($J$33/100) -> 3 | K35: =POCO_CTES!$D$16 -> 3 | L35: =K35*($L$33/100) -> 3 | M35: =POCO_CTES!$D$17 -> 3 | N35: =M35*($N$33/100) -> 2.25 | O35: =POCO_CTES!$D$18 -> 3 | P35: =O35*($P$33/100) -> 3
A36: Attainment for PO-3 | C36: =POCO_CTES!$E$12 -> 0 | D36: =C36*($D$33/100) -> 0 | E36: =POCO_CTES!$E$13 -> 0 | F36: =E36*($F$33/100) -> 0 | G36: =POCO_CTES!$E$14 -> 3 | H36: =G36*($H$33/100) -> 2.625 | I36: =POCO_CTES!$E$15 -> 2 | J36: =I36*($J$33/100) -> 2 | K36: =POCO_CTES!$E$16 -> 0 | L36: =K36*($L$33/100) -> 0 | M36: =POCO_CTES!$E$17 -> 0 | N36: =M36*($N$33/100) -> 0 | O36: =POCO_CTES!$E$18 -> 3 | P36: =O36*($P$33/100) -> 3
A37: Attainment for PO-4 | C37: =POCO_CTES!$F$12 -> 2 | D37: =C37*($D$33/100) -> 2 | E37: =POCO_CTES!$F$13 -> 0 | F37: =E37*($F$33/100) -> 0 | G37: =POCO_CTES!$F$14 -> 0 | H37: =G37*($H$33/100) -> 0 | I37: =POCO_CTES!$F$15 -> 3 | J37: =I37*($J$33/100) -> 3 | K37: =POCO_CTES!$F$16 -> 0 | L37: =K37*($L$33/100) -> 0 | M37: =POCO_CTES!$F$17 -> 0 | N37: =M37*($N$33/100) -> 0 | O37: =POCO_CTES!$F$18 -> 0 | P37: =O37*($P$33/100) -> 0
A38: Attainment for PO-5 | C38: =POCO_CTES!$G$12 -> 0 | D38: =C38*($D$33/100) -> 0 | E38: =POCO_CTES!$G$13 -> 0 | F38: =E38*($F$33/100) -> 0 | G38: =POCO_CTES!$G$14 -> 2 | H38: =G38*($H$33/100) -> 1.75 | I38: =POCO_CTES!$G$15 -> 0 | J38: =I38*($J$33/100) -> 0 | K38: =POCO_CTES!$G$16 -> 3 | L38: =K38*($L$33/100) -> 3 | M38: =POCO_CTES!$G$17 -> 0 | N38: =M38*($N$33/100) -> 0 | O38: =POCO_CTES!$G$18 -> 0 | P38: =O38*($P$33/100) -> 0
A39: Attainment for PO-6 | C39: =POCO_CTES!$H$12 -> 0 | D39: =C39*($D$33/100) -> 0 | E39: =POCO_CTES!$H$13 -> 0 | F39: =E39*($F$33/100) -> 0 | G39: =POCO_CTES!$H$14 -> 0 | H39: =G39*($H$33/100) -> 0 | I39: =POCO_CTES!$H$15 -> 2 | J39: =I39*($J$33/100) -> 2 | K39: =POCO_CTES!$H$16 -> 0 | L39: =K39*($L$33/100) -> 0 | M39: =POCO_CTES!$H$17 -> 0 | N39: =M39*($N$33/100) -> 0 | O39: =POCO_CTES!$H$18 -> 0 | P39: =O39*($P$33/100) -> 0 | Q39: `
A40: Attainment for PO-7 | C40: =POCO_CTES!$I$12 -> 3 | D40: =C40*($D$33/100) -> 3 | E40: =POCO_CTES!$I$13 -> 0 | F40: =E40*($F$33/100) -> 0 | G40: =POCO_CTES!$I$14 -> 0 | H40: =G40*($H$33/100) -> 0 | I40: =POCO_CTES!$I$15 -> 0 | J40: =I40*($J$33/100) -> 0 | K40: =POCO_CTES!$I$16 -> 0 | L40: =K40*($L$33/100) -> 0 | M40: =POCO_CTES!$I$17 -> 0 | N40: =M40*($N$33/100) -> 0 | O40: =POCO_CTES!$I$18 -> 0 | P40: =O40*($P$33/100) -> 0
A41: Attainment for PO-8 | C41: =POCO_CTES!$J$12 -> 2 | D41: =C41*($D$33/100) -> 2 | E41: =POCO_CTES!$J$13 -> 3 | F41: =E41*($F$33/100) -> 2.0625 | G41: =POCO_CTES!$J$14 -> 0 | H41: =G41*($H$33/100) -> 0 | I41: =POCO_CTES!$J$15 -> 0 | J41: =I41*($J$33/100) -> 0 | K41: =POCO_CTES!$J$16 -> 0 | L41: =K41*($L$33/100) -> 0 | M41: =POCO_CTES!$J$17 -> 0 | N41: =M41*($N$33/100) -> 0 | O41: =POCO_CTES!$J$18 -> 0 | P41: =O41*($P$33/100) -> 0
A42: Total of the Marks obtained by all students | C42: =SUM(C12:C31) -> 11.31 | E42: =SUM(E12:E31) -> 9.47 | G42: =SUM(G12:G31) -> 9.96 | I42: =SUM(I12:I31) -> 11.71 | K42: =SUM(K12:K31) -> 10.99 | M42: =SUM(M12:M31) -> 10.02 | O42: =SUM(O12:O31) -> 10.58
A43: Teacher Attainment(Percentage) | C43: =C42/16*100 -> 70.6875 | E43: =E42/16*100 -> 59.1875 | G43: =G42/16*100 -> 62.25 | I43: =I42/16*100 -> 73.1875 | K43: =K42/16*100 -> 68.6875 | M43: =M42/16*100 -> 62.625 | O43: =O42/16*100 -> 66.125 | Q43: `
A45: SEMESTER-III
A46: DD-MM-YYYY
A47: Roll No. | B47: Student Name | C47: Project Appraisal and Finance Management (Th- 07) | E47: Construction Marketing Management (Th- 08) | G47: Managerial Decision Making (Th- 09) | I47: Construction Management Studio (St- 05) | K47: Dissertation Stage- I (St-06) | M47: Elective- 1 (El- 09) | O47: Elective- 2 (El- 10)
A68: No.of Students scoring 55% and Above | D68: =COUNTIF(D48:D67,"Y") -> 0 | F68: =COUNTIF(F48:F67,"Y") -> 0 | H68: =COUNTIF(H48:H67,"Y") -> 0 | J68: =COUNTIF(J48:J67,"Y") -> 0 | L68: =COUNTIF(L48:L67,"Y") -> 0 | N68: =COUNTIF(N48:N67,"Y") -> 0 | P68: =COUNTIF(P48:P67,"Y") -> 0
A69: % of Students Scoring 55% and above | D69: =(D68/12)*100 -> 0 | F69: =(F68/12)*100 -> 0 | H69: =(H68/12)*100 -> 0 | J69: =(J68/12)*100 -> 0 | L69: =(L68/12)*100 -> 0 | N69: =(N68/12)*100 -> 0 | P69: =(P68/12)*100 -> 0
A70: Attainment for PO-1 | C70: =POCO_CTES!$C$26 -> 0 | D70: =C70*($D$69/100) -> 0 | E70: =POCO_CTES!$C$27 -> 3 | F70: =E70*($F$69/100) -> 0 | G70: =POCO_CTES!$C$28 -> 0 | H70: =G70*($H$69/100) -> 0 | I70: =POCO_CTES!$C$29 -> 0 | J70: =I70*($J$69/100) -> 0 | K70: =POCO_CTES!$C$30 -> 0 | L70: =K70*($L$69/100) -> 0 | M70: =POCO_CTES!$C$31 -> 0 | N70: =M70*($N$69/100) -> 0 | O70: =POCO_CTES!$C$32 -> 0 | P70: =O70*($P$69/100) -> 0
A71: Attainment for PO-2 | C71: =POCO_CTES!$D$26 -> 1 | D71: =C71*($D$69/100) -> 0 | E71: =POCO_CTES!$D$27 -> 1 | F71: =E71*($F$69/100) -> 0 | G71: =POCO_CTES!$D$28 -> 3 | H71: =G71*($H$69/100) -> 0 | I71: =POCO_CTES!$D$29 -> 3 | J71: =I71*($J$69/100) -> 0 | K71: =POCO_CTES!$D$30 -> 3 | L71: =K71*($L$69/100) -> 0 | M71: =POCO_CTES!$D$31 -> 3 | N71: =M71*($N$69/100) -> 0 | O71: =POCO_CTES!$D$32 -> 3 | P71: =O71*($P$69/100) -> 0
...

Sheet AY 20-21
C2: Chembur Trombay Education Society's
C3: CTES C O L L E G E O F A R C H I T E C T U R E | J3: CO - PO MAPPING AY 2020 - 2021
C5: N. G. Acharya Marg, Chembur, Mumbai 400071
C6: Approved by Council of Architecture
C7: (Affiliated to University of Mumbai)
A9: SEMESTER-I
A10: 44317
A11: Roll No. | B11: Student Name | C11: Management Theories - Principles & Practices (Th - 01) | E11: Law - 1 : Legal Frame work for Construction (Th - 02) | G11: Project Planning & Scheduling, Monitoring & Control (Th - 03) | I11: Construction Materials And its Management (St - 01) | K11: Computer Application in Construction Management (St-02) | M11: Elective - 1 (El -01) | O11: Elective - 2 (El -02)
A12: M.PM - 20001 | B12: Bansod Jagruti Sahebrao Vandana | C12: 0.63 | D12: =IF(C12>=55%,"Y","N") -> Y | E12: 0.64 | F12: =IF(E12>=55%,"Y","N") -> Y | G12: 0.73 | H12: =IF(G12>=55%,"Y","N") -> Y | I12: 0.67 | J12: =IF(I12>=55%,"Y","N") -> Y | K12: 0.665 | L12: =IF(K12>=55%,"Y","N") -> Y | M12: 0.725 | N12: =IF(M12>=55%,"Y","N") -> Y | O12: 0.72 | P12: =IF(O12>=55%,"Y","N") -> Y
A13: M.PM - 20002 | B13: Bettina Rachel Jacob Sally | C13: 0.75 | D13: =IF(C13>=55%,"Y","N") -> Y | E13: 0.645 | F13: =IF(E13>=55%,"Y","N") -> Y | G13: 0.85 | H13: =IF(G13>=55%,"Y","N") -> Y | I13: 0.73 | J13: =IF(I13>=55%,"Y","N") -> Y | K13: 0.7 | L13: =IF(K13>=55%,"Y","N") -> Y | M13: 0.705 | N13: =IF(M13>=55%,"Y","N") -> Y | O13: 0.76 | P13: =IF(O13>=55%,"Y","N") -> Y
A14: M.PM - 20003 | B14: Bijayeeni U S | C14: 0.72 | D14: =IF(C14>=55%,"Y","N") -> Y | E14: 0.72 | F14: =IF(E14>=55%,"Y","N") -> Y | G14: 0.82 | H14: =IF(G14>=55%,"Y","N") -> Y | I14: 0.67 | J14: =IF(I14>=55%,"Y","N") -> Y | K14: 0.7 | L14: =IF(K14>=55%,"Y","N") -> Y | M14: 0.725 | N14: =IF(M14>=55%,"Y","N") -> Y | O14: 0.81 | P14: =IF(O14>=55%,"Y","N") -> Y
A15: M.PM - 20004 | B15: Chaudhari Vedant Dilip Vaishali | C15: 0.72 | D15: =IF(C15>=55%,"Y","N") -> Y | E15: 0.61 | F15: =IF(E15>=55%,"Y","N") -> Y | G15: 0.69 | H15: =IF(G15>=55%,"Y","N") -> Y | I15: 0.73 | J15: =IF(I15>=55%,"Y","N") -> Y | K15: 0.67 | L15: =IF(K15>=55%,"Y","N") -> Y | M15: 0.705 | N15: =IF(M15>=55%,"Y","N") -> Y | O15: 0.66 | P15: =IF(O15>=55%,"Y","N") -> Y
A16: M.PM - 20005 | B16: Dhage Yogesh Girish Minal | C16: 0.73 | D16: =IF(C16>=55%,"Y","N") -> Y | E16: 0.67 | F16: =IF(E16>=55%,"Y","N") -> Y | G16: 0.72 | H16: =IF(G16>=55%,"Y","N") -> Y | I16: 0.75 | J16: =IF(I16>=55%,"Y","N") -> Y | K16: 0.725 | L16: =IF(K16>=55%,"Y","N") -> Y | M16: 0.675 | N16: =IF(M16>=55%,"Y","N") -> Y | O16: 0.65 | P16: =IF(O16>=55%,"Y","N") -> Y
A17: M.PM - 20006 | B17: Farooqui Ubaid Shabbir Ahmad Nasreen | C17: 0.63 | D17: =IF(C17>=55%,"Y","N") -> Y | E17: 0.66 | F17: =IF(E17>=55%,"Y","N") -> Y | G17: 0.77 | H17: =IF(G17>=55%,"Y","N") -> Y | I17: 0.71 | J17: =IF(I17>=55%,"Y","N") -> Y | K17: 0.685 | L17: =IF(K17>=55%,"Y","N") -> Y | M17: 0.83 | N17: =IF(M17>=55%,"Y","N") -> Y | O17: 0.74 | P17: =IF(O17>=55%,"Y","N") -> Y
A18: M.PM - 20007 | B18: Goraksha Minal Subhash Shubhangi | C18: 0.77 | D18: =IF(C18>=55%,"Y","N") -> Y | E18: 0.72 | F18: =IF(E18>=55%,"Y","N") -> Y | G18: 0.81 | H18: =IF(G18>=55%,"Y","N") -> Y | I18: 0.71 | J18: =IF(I18>=55%,"Y","N") -> Y | K18: 0.69 | L18: =IF(K18>=55%,"Y","N") -> Y | M18: 0.83 | N18: =IF(M18>=55%,"Y","N") -> Y | O18: 0.76 | P18: =IF(O18>=55%,"Y","N") -> Y
A19: M.PM - 20008 | B19: Gosavi Mamata Ganesh Mayuri | C19: 0.65 | D19: =IF(C19>=55%,"Y","N") -> Y | E19: 0.68 | F19: =IF(E19>=55%,"Y","N") -> Y | G19: 0.67 | H19: =IF(G19>=55%,"Y","N") -> Y | I19: 0.67 | J19: =IF(I19>=55%,"Y","N") -> Y | K19: 0.645 | L19: =IF(K19>=55%,"Y","N") -> Y | M19: 0.695 | N19: =IF(M19>=55%,"Y","N") -> Y | O19: 0.74 | P19: =IF(O19>=55%,"Y","N") -> Y
A20: M.PM - 20009 | B20: Jain Komal Kunal Anita | C20: 0.65 | D20: =IF(C20>=55%,"Y","N") -> Y | E20: 0.65 | F20: =IF(E20>=55%,"Y","N") -> Y | G20: 0.67 | H20: =IF(G20>=55%,"Y","N") -> Y | I20: 0.75 | J20: =IF(I20>=55%,"Y","N") -> Y | K20: 0.655 | L20: =IF(K20>=55%,"Y","N") -> Y | M20: 0.675 | N20: =IF(M20>=55%,"Y","N") -> Y | O20: 0.64 | P20: =IF(O20>=55%,"Y","N") -> Y
A21: M.PM - 20010 | B21: Kandalgaonkar Sumit Hemant Sujata | C21: 0.72 | D21: =IF(C21>=55%,"Y","N") -> Y | E21: 0.625 | F21: =IF(E21>=55%,"Y","N") -> Y | G21: 0.76 | H21: =IF(G21>=55%,"Y","N") -> Y | I21: 0.73 | J21: =IF(I21>=55%,"Y","N") -> Y | K21: 0.69 | L21: =IF(K21>=55%,"Y","N") -> Y | M21: 0.695 | N21: =IF(M21>=55%,"Y","N") -> Y | O21: 0.63 | P21: =IF(O21>=55%,"Y","N") -> Y
A22: M.PM - 20011 | B22: Karani Shruti Uttam Hemaliben | C22: 0.71 | D22: =IF(C22>=55%,"Y","N") -> Y | E22: 0.69 | F22: =IF(E22>=55%,"Y","N") -> Y | G22: 0.88 | H22: =IF(G22>=55%,"Y","N") -> Y | I22: 0.71 | J22: =IF(I22>=55%,"Y","N") -> Y | K22: 0.7 | L22: =IF(K22>=55%,"Y","N") -> Y | M22: 0.83 | N22: =IF(M22>=55%,"Y","N") -> Y | O22: 0.62 | P22: =IF(O22>=55%,"Y","N") -> Y
A23: M.PM - 20012 | B23: Kokate Dhanashri Sunil Sadhana | C23: 0.65 | D23: =IF(C23>=55%,"Y","N") -> Y | E23: 0.6 | F23: =IF(E23>=55%,"Y","N") -> Y | G23: 0.58 | H23: =IF(G23>=55%,"Y","N") -> Y | I23: 0.67 | J23: =IF(I23>=55%,"Y","N") -> Y | K23: 0.68 | L23: =IF(K23>=55%,"Y","N") -> Y | M23: 0.715 | N23: =IF(M23>=55%,"Y","N") -> Y | O23: 0.61 | P23: =IF(O23>=55%,"Y","N") -> Y
... A31: M.PM - 20020 | B31: Shetty Shrishti Shivaji Sunila | C31: 0.69 | D31: =IF(C31>=55%,"Y","N") -> Y | E31: 0.655 | F31: =IF(E31>=55%,"Y","N") -> Y | G31: 0.62 | H31: =IF(G31>=55%,"Y","N") -> Y | I31: 0.75 | J31: =IF(I31>=55%,"Y","N") -> Y | K31: 0.705 | L31: =IF(K31>=55%,"Y","N") -> Y | M31: 0.67 | N31: =IF(M31>=55%,"Y","N") -> Y | O31: 0.72 | P31: =IF(O31>=55%,"Y","N") -> Y
A32: No.of Students scoring 55% and Above | D32: =COUNTIF(D12:D31,"Y") -> 20 | F32: =COUNTIF(F12:F31,"Y") -> 19 | H32: =COUNTIF(H12:H31,"Y") -> 20 | J32: =COUNTIF(J12:J31,"Y") -> 20 | L32: =COUNTIF(L12:L31,"Y") -> 20 | N32: =COUNTIF(N12:N31,"Y") -> 20 | P32: =COUNTIF(P12:P31,"Y") -> 19
A33: % of Students Scoring 55% and above | D33: =(D32/20)*100 -> 100 | F33: =(F32/20)*100 -> 95 | H33: =(H32/20)*100 -> 100 | J33: =(J32/20)*100 -> 100 | L33: =(L32/20)*100 -> 100 | N33: =(N32/20)*100 -> 100 | P33: =(P32/20)*100 -> 95
A34: Attainment for PO-1 | C34: =POCO_CTES!$C$12 -> 0 | D34: =C34*($D$33/100) -> 0 | E34: =POCO_CTES!$C$13 -> 3 | F34: =E34*($F$33/100) -> 2.85 | G34: =POCO_CTES!$C$14 -> 3 | H34: =G34*($H$33/100) -> 3 | I34: =POCO_CTES!$C$15 -> 3 | J34: =I34*($J$33/100) -> 3 | K34: =POCO_CTES!$C$16 -> 0 | L34: =K34*($L$33/100) -> 0 | M34: =POCO_CTES!$C$17 -> 3 | N34: =M34*($N$33/100) -> 3 | O34: =POCO_CTES!$C$18 -> 3 | P34: =O34*($P$33/100) -> 2.85
A35: Attainment for PO-2 | C35: =POCO_CTES!$D$12 -> 3 | D35: =C35*($D$33/100) -> 3 | E35: =POCO_CTES!$D$13 -> 3 | F35: =E35*($F$33/100) -> 2.85 | G35: =POCO_CTES!$D$14 -> 0 | H35: =G35*($H$33/100) -> 0 | I35: =POCO_CTES!$D$15 -> 3 | J35: =I35*($J$33/100) -> 3 | K35: =POCO_CTES!$D$16 -> 3 | L35: =K35*($L$33/100) -> 3 | M35: =POCO_CTES!$D$17 -> 3 | N35: =M35*($N$33/100) -> 3 | O35: =POCO_CTES!$D$18 -> 3 | P35: =O35*($P$33/100) -> 2.85
A36: Attainment for PO-3 | C36: =POCO_CTES!$E$12 -> 0 | D36: =C36*($D$33/100) -> 0 | E36: =POCO_CTES!$E$13 -> 0 | F36: =E36*($F$33/100) -> 0 | G36: =POCO_CTES!$E$14 -> 3 | H36: =G36*($H$33/100) -> 3 | I36: =POCO_CTES!$E$15 -> 2 | J36: =I36*($J$33/100) -> 2 | K36: =POCO_CTES!$E$16 -> 0 | L36: =K36*($L$33/100) -> 0 | M36: =POCO_CTES!$E$17 -> 0 | N36: =M36*($N$33/100) -> 0 | O36: =POCO_CTES!$E$18 -> 3 | P36: =O36*($P$33/100) -> 2.85
A37: Attainment for PO-4 | C37: =POCO_CTES!$F$12 -> 2 | D37: =C37*($D$33/100) -> 2 | E37: =POCO_CTES!$F$13 -> 0 | F37: =E37*($F$33/100) -> 0 | G37: =POCO_CTES!$F$14 -> 0 | H37: =G37*($H$33/100) -> 0 | I37: =POCO_CTES!$F$15 -> 3 | J37: =I37*($J$33/100) -> 3 | K37: =POCO_CTES!$F$16 -> 0 | L37: =K37*($L$33/100) -> 0 | M37: =POCO_CTES!$F$17 -> 0 | N37: =M37*($N$33/100) -> 0 | O37: =POCO_CTES!$F$18 -> 0 | P37: =O37*($P$33/100) -> 0
A38: Attainment for PO-5 | C38: =POCO_CTES!$G$12 -> 0 | D38: =C38*($D$33/100) -> 0 | E38: =POCO_CTES!$G$13 -> 0 | F38: =E38*($F$33/100) -> 0 | G38: =POCO_CTES!$G$14 -> 2 | H38: =G38*($H$33/100) -> 2 | I38: =POCO_CTES!$G$15 -> 0 | J38: =I38*($J$33/100) -> 0 | K38: =POCO_CTES!$G$16 -> 3 | L38: =K38*($L$33/100) -> 3 | M38: =POCO_CTES!$G$17 -> 0 | N38: =M38*($N$33/100) -> 0 | O38: =POCO_CTES!$G$18 -> 0 | P38: =O38*($P$33/100) -> 0
A39: Attainment for PO-6 | C39: =POCO_CTES!$H$12 -> 0 | D39: =C39*($D$33/100) -> 0 | E39: =POCO_CTES!$H$13 -> 0 | F39: =E39*($F$33/100) -> 0 | G39: =POCO_CTES!$H$14 -> 0 | H39: =G39*($H$33/100) -> 0 | I39: =POCO_CTES!$H$15 -> 2 | J39: =I39*($J$33/100) -> 2 | K39: =POCO_CTES!$H$16 -> 0 | L39: =K39*($L$33/100) -> 0 | M39: =POCO_CTES!$H$17 -> 0 | N39: =M39*($N$33/100) -> 0 | O39: =POCO_CTES!$H$18 -> 0 | P39: =O39*($P$33/100) -> 0 | Q39: `
A40: Attainment for PO-7 | C40: =POCO_CTES!$I$12 -> 3 | D40: =C40*($D$33/100) -> 3 | E40: =POCO_CTES!$I$13 -> 0 | F40: =E40*($F$33/100) -> 0 | G40: =POCO_CTES!$I$14 -> 0 | H40: =G40*($H$33/100) -> 0 | I40: =POCO_CTES!$I$15 -> 0 | J40: =I40*($J$33/100) -> 0 | K40: =POCO_CTES!$I$16 -> 0 | L40: =K40*($L$33/100) -> 0 | M40: =POCO_CTES!$I$17 -> 0 | N40: =M40*($N$33/100) -> 0 | O40: =POCO_CTES!$I$18 -> 0 | P40: =O40*($P$33/100) -> 0
A41: Attainment for PO-8 | C41: =POCO_CTES!$J$12 -> 2 | D41: =C41*($D$33/100) -> 2 | E41: =POCO_CTES!$J$13 -> 3 | F41: =E41*($F$33/100) -> 2.85 | G41: =POCO_CTES!$J$14 -> 0 | H41: =G41*($H$33/100) -> 0 | I41: =POCO_CTES!$J$15 -> 0 | J41: =I41*($J$33/100) -> 0 | K41: =POCO_CTES!$J$16 -> 0 | L41: =K41*($L$33/100) -> 0 | M41: =POCO_CTES!$J$17 -> 0 | N41: =M41*($N$33/100) -> 0 | O41: =POCO_CTES!$J$18 -> 0 | P41: =O41*($P$33/100) -> 0
A42: Total of the Marks obtained by all students | C42: =SUM(C12:C31) -> 14.08 | E42: =SUM(E12:E31) -> 13.05 | G42: =SUM(G12:G31) -> 14.77 | I42: =SUM(I12:I31) -> 14.3 | K42: =SUM(K12:K31) -> 13.755 | M42: =SUM(M12:M31) -> 14.595 | O42: =SUM(O12:O31) -> 13.62
A43: Teacher Attainment(Percentage) | C43: =C42/20*100 -> 70.4 | E43: =E42/20*100 -> 65.25 | G43: =G42/20*100 -> 73.85 | I43: =I42/20*100 -> 71.5 | K43: =K42/20*100 -> 68.775 | M43: =M42/20*100 -> 72.975 | O43: =O42/20*100 -> 68.1 | Q43: `
A45: SEMESTER-III
A46: 44166
A47: Roll No. | B47: Student Name | C47: Project Appraisal and Finance Management (Th- 07) | E47: Construction Marketing Management (Th- 08) | G47: Managerial Decision Making (Th- 09) | I47: Construction Management Studio (St- 05) | K47: Dissertation Stage- I (St-06) | M47: Elective- 1 (El- 09) | O47: Elective- 2 (El- 10)
A48: M.PM-19001 | B48: Agarwal Nikunj Manmohan | C48: 0.69 | D48: =IF(C48>=55%,"Y","N") -> Y | E48: 0.77 | F48: =IF(E48>=55%,"Y","N") -> Y | G48: 0.58 | H48: =IF(G48>=55%,"Y","N") -> Y | I48: 0.63 | J48: =IF(I48>=55%,"Y","N") -> Y | K48: 0.57 | L48: =IF(K48>=50%,"Y","N") -> Y | M48: 0.62 | N48: =IF(M48>=55%,"Y","N") -> Y | O48: 0.65 | P48: =IF(O48>=55%,"Y","N") -> Y
A49: M.PM-19002 | B49: Bhavsar Radha Aniket | C49: 0.68 | D49: =IF(C49>=55%,"Y","N") -> Y | E49: 0.73 | F49: =IF(E49>=55%,"Y","N") -> Y | G49: 0.68 | H49: =IF(G49>=55%,"Y","N") -> Y | I49: 0.74 | J49: =IF(I49>=55%,"Y","N") -> Y | K49: 0.62 | L49: =IF(K49>=55%,"Y","N") -> Y | M49: 0.74 | N49: =IF(M49>=55%,"Y","N") -> Y | O49: 0.74 | P49: =IF(O49>=55%,"Y","N") -> Y
A50: M.PM-19004 | B50: Deshmukh Pradip Digambar | C50: 0.7 | D50: =IF(C50>=55%,"Y","N") -> Y | E50: 0.79 | F50: =IF(E50>=55%,"Y","N") -> Y | G50: 0.46 | H50: =IF(G50>=55%,"Y","N") -> N | I50: 0.63 | J50: =IF(I50>=55%,"Y","N") -> Y | K50: 0.55 | L50: =IF(K50>=55%,"Y","N") -> Y | M50: 0.6 | N50: =IF(M50>=55%,"Y","N") -> Y | O50: 0.68 | P50: =IF(O50>=55%,"Y","N") -> Y
A51: M.PM-19005 | B51: Gada Zeel Praveen | C51: 0.62 | D51: =IF(C51>=55%,"Y","N") -> Y | E51: 0.73 | F51: =IF(E51>=55%,"Y","N") -> Y | G51: 0.57 | H51: =IF(G51>=55%,"Y","N") -> Y | I51: 0.71 | J51: =IF(I51>=55%,"Y","N") -> Y | K51: 0.6 | L51: =IF(K51>=55%,"Y","N") -> Y | M51: 0.77 | N51: =IF(M51>=55%,"Y","N") -> Y | O51: 0.76 | P51: =IF(O51>=55%,"Y","N") -> Y
...

Sheet AY 21-22
C2: Chembur Trombay Education Society's
C3: CTES C O L L E G E O F A R C H I T E C T U R E | J3: CO - PO MAPPING AY 2021- 2022
C5: N. G. Acharya Marg, Chembur, Mumbai 400071
C6: Approved by Council of Architecture
C7: (Affiliated to University of Mumbai)
A9: SEMESTER-I
A10: 44652
A11: Roll No. | B11: Student Name | C11: Management Theories - Principles & Practices (Th - 01) | E11: Law - 1 : Legal Frame work for Construction (Th - 02) | G11: Project Planning & Scheduling, Monitoring & Control (Th - 03) | I11: Construction Materials And its Management (St - 01) | K11: Computer Application in Construction Management (St-02) | M11: Elective - 1 (El -01) | O11: Elective - 2 (El -02)
A12: M.PM - 21001 | B12: GAIKHE ROHAN VITHOBA SUNANDA | C12: 0.68 | D12: =IF(C12>=55%,"Y","N") -> Y | E12: 0.6 | F12: =IF(E12>=55%,"Y","N") -> Y | G12: 0.68 | H12: =IF(G12>=55%,"Y","N") -> Y | I12: 0.74 | J12: =IF(I12>=55%,"Y","N") -> Y | K12: 0.72 | L12: =IF(K12>=55%,"Y","N") -> Y | M12: 0.7 | N12: =IF(M12>=55%,"Y","N") -> Y | O12: 0.72 | P12: =IF(O12>=55%,"Y","N") -> Y
A13: M.PM - 21002 | B13: GAIKWAD MADHURA VINAYAK MINAL | C13: 0.75 | D13: =IF(C13>=55%,"Y","N") -> Y | E13: 0.73 | F13: =IF(E13>=55%,"Y","N") -> Y | G13: 0.77 | H13: =IF(G13>=55%,"Y","N") -> Y | I13: 0.73 | J13: =IF(I13>=55%,"Y","N") -> Y | K13: 0.7 | L13: =IF(K13>=55%,"Y","N") -> Y | M13: 0.78 | N13: =IF(M13>=55%,"Y","N") -> Y | O13: 0.69 | P13: =IF(O13>=55%,"Y","N") -> Y
A14: M.PM - 21003 | B14: GANU PRAJAKTA PRAKASH PRACHI | C14: 0.63 | D14: =IF(C14>=55%,"Y","N") -> Y | E14: 0.65 | F14: =IF(E14>=55%,"Y","N") -> Y | G14: 0.83 | H14: =IF(G14>=55%,"Y","N") -> Y | I14: 0.54 | J14: =IF(I14>=55%,"Y","N") -> N | K14: 0.76 | L14: =IF(K14>=55%,"Y","N") -> Y | M14: 0.78 | N14: =IF(M14>=55%,"Y","N") -> Y | O14: 0.73 | P14: =IF(O14>=55%,"Y","N") -> Y
A15: M.PM - 21004 | B15: GAWAND VINAYA VILAS VARSHA | C15: 0.6 | D15: =IF(C15>=55%,"Y","N") -> Y | E15: 0.65 | F15: =IF(E15>=55%,"Y","N") -> Y | G15: 0.67 | H15: =IF(G15>=55%,"Y","N") -> Y | I15: 0.54 | J15: =IF(I15>=55%,"Y","N") -> N | K15: 0.7 | L15: =IF(K15>=55%,"Y","N") -> Y | M15: 0.74 | N15: =IF(M15>=55%,"Y","N") -> Y | O15: 0.7 | P15: =IF(O15>=55%,"Y","N") -> Y
A16: M.PM - 21005 | B16: KAKAD AARTI SUNIL SADHANA | C16: 0.54 | D16: =IF(C16>=55%,"Y","N") -> N | E16: 0.65 | F16: =IF(E16>=55%,"Y","N") -> Y | G16: 0.65 | H16: =IF(G16>=55%,"Y","N") -> Y | I16: 0.57 | J16: =IF(I16>=55%,"Y","N") -> Y | K16: 0.7 | L16: =IF(K16>=55%,"Y","N") -> Y | M16: 0.62 | N16: =IF(M16>=55%,"Y","N") -> Y | O16: 0.62 | P16: =IF(O16>=55%,"Y","N") -> Y
A17: M.PM - 21006 | B17: KARANI NIKITA DEEPAK MANISHA | C17: 0.71 | D17: =IF(C17>=55%,"Y","N") -> Y | E17: 0.79 | F17: =IF(E17>=55%,"Y","N") -> Y | G17: 0.84 | H17: =IF(G17>=55%,"Y","N") -> Y | I17: 0.55 | J17: =IF(I17>=55%,"Y","N") -> Y | K17: 0.83 | L17: =IF(K17>=55%,"Y","N") -> Y | M17: 0.82 | N17: =IF(M17>=55%,"Y","N") -> Y | O17: 0.67 | P17: =IF(O17>=55%,"Y","N") -> Y
A18: M.PM - 21007 | B18: MIRAJKAR AQSA GAZANFAR NOORJAHAN | C18: 0.7 | D18: =IF(C18>=55%,"Y","N") -> Y | E18: 0.77 | F18: =IF(E18>=55%,"Y","N") -> Y | G18: 0.74 | H18: =IF(G18>=55%,"Y","N") -> Y | I18: 0.74 | J18: =IF(I18>=55%,"Y","N") -> Y | K18: 0.7 | L18: =IF(K18>=55%,"Y","N") -> Y | M18: 0.78 | N18: =IF(M18>=55%,"Y","N") -> Y | O18: 0.7 | P18: =IF(O18>=55%,"Y","N") -> Y
A19: M.PM - 21008 | B19: DALVI PRACHI SANIL | C19: 0.78 | D19: =IF(C19>=55%,"Y","N") -> Y | E19: 0.83 | F19: =IF(E19>=55%,"Y","N") -> Y | G19: 0.71 | H19: =IF(G19>=55%,"Y","N") -> Y | I19: 0.66 | J19: =IF(I19>=55%,"Y","N") -> Y | K19: 0.75 | L19: =IF(K19>=55%,"Y","N") -> Y | M19: 0.78 | N19: =IF(M19>=55%,"Y","N") -> Y | O19: 0.68 | P19: =IF(O19>=55%,"Y","N") -> Y
A20: M.PM - 21009 | B20: SAMPAT JINAY RAJENDRA RASHMI | C20: 0.78 | D20: =IF(C20>=55%,"Y","N") -> Y | E20: 0.72 | F20: =IF(E20>=55%,"Y","N") -> Y | G20: 0.74 | H20: =IF(G20>=55%,"Y","N") -> Y | I20: 0.66 | J20: =IF(I20>=55%,"Y","N") -> Y | K20: 0.79 | L20: =IF(K20>=55%,"Y","N") -> Y | M20: 0.78 | N20: =IF(M20>=55%,"Y","N") -> Y | O20: 0.66 | P20: =IF(O20>=55%,"Y","N") -> Y
A21: M.PM - 21010 | B21: TAKLIKAR SHRADDHA SHRIKANT SHAILAJA | C21: 0.57 | D21: =IF(C21>=55%,"Y","N") -> Y | E21: 0.67 | F21: =IF(E21>=55%,"Y","N") -> Y | G21: 0.63 | H21: =IF(G21>=55%,"Y","N") -> Y | I21: 0.64 | J21: =IF(I21>=55%,"Y","N") -> Y | K21: 0.71 | L21: =IF(K21>=55%,"Y","N") -> Y | M21: 0.74 | N21: =IF(M21>=55%,"Y","N") -> Y | O21: 0.67 | P21: =IF(O21>=55%,"Y","N") -> Y
A22: M.PM - 21011 | B22: TAPKE RASHMI VIPUL | C22: 0.72 | D22: =IF(C22>=55%,"Y","N") -> Y | E22: 0.64 | F22: =IF(E22>=55%,"Y","N") -> Y | G22: 0.71 | H22: =IF(G22>=55%,"Y","N") -> Y | I22: 0.55 | J22: =IF(I22>=55%,"Y","N") -> Y | K22: 0.77 | L22: =IF(K22>=55%,"Y","N") -> Y | M22: 0.74 | N22: =IF(M22>=55%,"Y","N") -> Y | O22: 0.75 | P22: =IF(O22>=55%,"Y","N") -> Y
A23: M.PM - 21012 | B23: TAWDE ABHIJEET BHARAT SUCHITA | C23: 0.69 | D23: =IF(C23>=55%,"Y","N") -> Y | E23: 0.6 | F23: =IF(E23>=55%,"Y","N") -> Y | G23: 0.75 | H23: =IF(G23>=55%,"Y","N") -> Y | I23: 0.65 | J23: =IF(I23>=55%,"Y","N") -> Y | K23: 0.73 | L23: =IF(K23>=55%,"Y","N") -> Y | M23: 0.7 | N23: =IF(M23>=55%,"Y","N") -> Y | O23: 0.7 | P23: =IF(O23>=55%,"Y","N") -> Y
... A25: M.PM - 21014 | B25: WAGHDHARE PARIKSHIT VIJAY VAISHALI | C25: 0.77 | D25: =IF(C25>=55%,"Y","N") -> Y | E25: 0.82 | F25: =IF(E25>=55%,"Y","N") -> Y | G25: 0.85 | H25: =IF(G25>=55%,"Y","N") -> Y | I25: 0.77 | J25: =IF(I25>=55%,"Y","N") -> Y | K25: 0.74 | L25: =IF(K25>=55%,"Y","N") -> Y | M25: 0.82 | N25: =IF(M25>=55%,"Y","N") -> Y | O25: 0.74 | P25: =IF(O25>=55%,"Y","N") -> Y
A32: No.of Students scoring 55% and Above | D32: =COUNTIF(D12:D31,"Y") -> 13 | F32: =COUNTIF(F12:F31,"Y") -> 14 | H32: =COUNTIF(H12:H31,"Y") -> 14 | J32: =COUNTIF(J12:J31,"Y") -> 12 | L32: =COUNTIF(L12:L31,"Y") -> 14 | N32: =COUNTIF(N12:N31,"Y") -> 14 | P32: =COUNTIF(P12:P31,"Y") -> 14
A33: % of Students Scoring 55% and above | D33: =(D32/14)*100 -> 92.857143 | F33: =(F32/14)*100 -> 100 | H33: =(H32/14)*100 -> 100 | J33: =(J32/14)*100 -> 85.714286 | L33: =(L32/14)*100 -> 100 | N33: =(N32/14)*100 -> 100 | P33: =(P32/14)*100 -> 100
A34: Attainment for PO-1 | C34: =POCO_CTES!$C$12 -> 0 | D34: =C34*($D$33/100) -> 0 | E34: =POCO_CTES!$C$13 -> 3 | F34: =E34*($F$33/100) -> 3 | G34: =POCO_CTES!$C$14 -> 3 | H34: =G34*($H$33/100) -> 3 | I34: =POCO_CTES!$C$15 -> 3 | J34: =I34*($J$33/100) -> 2.5714286 | K34: =POCO_CTES!$C$16 -> 0 | L34: =K34*($L$33/100) -> 0 | M34: =POCO_CTES!$C$17 -> 3 | N34: =M34*($N$33/100) -> 3 | O34: =POCO_CTES!$C$18 -> 3 | P34: =O34*($P$33/100) -> 3
A35: Attainment for PO-2 | C35: =POCO_CTES!$D$12 -> 3 | D35: =C35*($D$33/100) -> 2.7857143 | E35: =POCO_CTES!$D$13 -> 3 | F35: =E35*($F$33/100) -> 3 | G35: =POCO_CTES!$D$14 -> 0 | H35: =G35*($H$33/100) -> 0 | I35: =POCO_CTES!$D$15 -> 3 | J35: =I35*($J$33/100) -> 2.5714286 | K35: =POCO_CTES!$D$16 -> 3 | L35: =K35*($L$33/100) -> 3 | M35: =POCO_CTES!$D$17 -> 3 | N35: =M35*($N$33/100) -> 3 | O35: =POCO_CTES!$D$18 -> 3 | P35: =O35*($P$33/100) -> 3
A36: Attainment for PO-3 | C36: =POCO_CTES!$E$12 -> 0 | D36: =C36*($D$33/100) -> 0 | E36: =POCO_CTES!$E$13 -> 0 | F36: =E36*($F$33/100) -> 0 | G36: =POCO_CTES!$E$14 -> 3 | H36: =G36*($H$33/100) -> 3 | I36: =POCO_CTES!$E$15 -> 2 | J36: =I36*($J$33/100) -> 1.7142857 | K36: =POCO_CTES!$E$16 -> 0 | L36: =K36*($L$33/100) -> 0 | M36: =POCO_CTES!$E$17 -> 0 | N36: =M36*($N$33/100) -> 0 | O36: =POCO_CTES!$E$18 -> 3 | P36: =O36*($P$33/100) -> 3
A37: Attainment for PO-4 | C37: =POCO_CTES!$F$12 -> 2 | D37: =C37*($D$33/100) -> 1.8571429 | E37: =POCO_CTES!$F$13 -> 0 | F37: =E37*($F$33/100) -> 0 | G37: =POCO_CTES!$F$14 -> 0 | H37: =G37*($H$33/100) -> 0 | I37: =POCO_CTES!$F$15 -> 3 | J37: =I37*($J$33/100) -> 2.5714286 | K37: =POCO_CTES!$F$16 -> 0 | L37: =K37*($L$33/100) -> 0 | M37: =POCO_CTES!$F$17 -> 0 | N37: =M37*($N$33/100) -> 0 | O37: =POCO_CTES!$F$18 -> 0 | P37: =O37*($P$33/100) -> 0
A38: Attainment for PO-5 | C38: =POCO_CTES!$G$12 -> 0 | D38: =C38*($D$33/100) -> 0 | E38: =POCO_CTES!$G$13 -> 0 | F38: =E38*($F$33/100) -> 0 | G38: =POCO_CTES!$G$14 -> 2 | H38: =G38*($H$33/100) -> 2 | I38: =POCO_CTES!$G$15 -> 0 | J38: =I38*($J$33/100) -> 0 | K38: =POCO_CTES!$G$16 -> 3 | L38: =K38*($L$33/100) -> 3 | M38: =POCO_CTES!$G$17 -> 0 | N38: =M38*($N$33/100) -> 0 | O38: =POCO_CTES!$G$18 -> 0 | P38: =O38*($P$33/100) -> 0
A39: Attainment for PO-6 | C39: =POCO_CTES!$H$12 -> 0 | D39: =C39*($D$33/100) -> 0 | E39: =POCO_CTES!$H$13 -> 0 | F39: =E39*($F$33/100) -> 0 | G39: =POCO_CTES!$H$14 -> 0 | H39: =G39*($H$33/100) -> 0 | I39: =POCO_CTES!$H$15 -> 2 | J39: =I39*($J$33/100) -> 1.7142857 | K39: =POCO_CTES!$H$16 -> 0 | L39: =K39*($L$33/100) -> 0 | M39: =POCO_CTES!$H$17 -> 0 | N39: =M39*($N$33/100) -> 0 | O39: =POCO_CTES!$H$18 -> 0 | P39: =O39*($P$33/100) -> 0 | Q39: `
A40: Attainment for PO-7 | C40: =POCO_CTES!$I$12 -> 3 | D40: =C40*($D$33/100) -> 2.7857143 | E40: =POCO_CTES!$I$13 -> 0 | F40: =E40*($F$33/100) -> 0 | G40: =POCO_CTES!$I$14 -> 0 | H40: =G40*($H$33/100) -> 0 | I40: =POCO_CTES!$I$15 -> 0 | J40: =I40*($J$33/100) -> 0 | K40: =POCO_CTES!$I$16 -> 0 | L40: =K40*($L$33/100) -> 0 | M40: =POCO_CTES!$I$17 -> 0 | N40: =M40*($N$33/100) -> 0 | O40: =POCO_CTES!$I$18 -> 0 | P40: =O40*($P$33/100) -> 0
A41: Attainment for PO-8 | C41: =POCO_CTES!$J$12 -> 2 | D41: =C41*($D$33/100) -> 1.8571429 | E41: =POCO_CTES!$J$13 -> 3 | F41: =E41*($F$33/100) -> 3 | G41: =POCO_CTES!$J$14 -> 0 | H41: =G41*($H$33/100) -> 0 | I41: =POCO_CTES!$J$15 -> 0 | J41: =I41*($J$33/100) -> 0 | K41: =POCO_CTES!$J$16 -> 0 | L41: =K41*($L$33/100) -> 0 | M41: =POCO_CTES!$J$17 -> 0 | N41: =M41*($N$33/100) -> 0 | O41: =POCO_CTES!$J$18 -> 0 | P41: =O41*($P$33/100) -> 0
A42: Total of the Marks obtained by all students | C42: =SUM(C12:C31) -> 9.57 | E42: =SUM(E12:E31) -> 9.77 | G42: =SUM(G12:G31) -> 10.31 | I42: =SUM(I12:I31) -> 8.93 | K42: =SUM(K12:K31) -> 10.31 | M42: =SUM(M12:M31) -> 10.6 | O42: =SUM(O12:O31) -> 9.69
A43: Teacher Attainment(Percentage) | C43: =C42/14*100 -> 68.357143 | E43: =E42/14*100 -> 69.785714 | G43: =G42/14*100 -> 73.642857 | I43: =I42/14*100 -> 63.785714 | K43: =K42/14*100 -> 73.642857 | M43: =M42/14*100 -> 75.714286 | O43: =O42/14*100 -> 69.214286 | Q43: `
A45: SEMESTER-III
A46: 44562
A47: Roll No. | B47: Student Name | C47: Project Appraisal and Finance Management (Th- 07) | E47: Construction Marketing Management (Th- 08) | G47: Managerial Decision Making (Th- 09) | I47: Construction Management Studio (St- 05) | K47: Dissertation Stage- I (St-06) | M47: Elective- 1 (El- 09) | O47: Elective- 2 (El- 10)
A48: M.PM - 20001 | B48: Bansod Jagruti Sahebrao Vandana | C48: 0.8 | D48: =IF(C48>=55%,"Y","N") -> Y | E48: 0.71 | F48: =IF(E48>=55%,"Y","N") -> Y | G48: 0.66 | H48: =IF(G48>=55%,"Y","N") -> Y | I48: 0.68 | J48: =IF(I48>=55%,"Y","N") -> Y | K48: 0.55 | L48: =IF(K48>=55%,"Y","N") -> Y | M48: 0.81 | N48: =IF(M48>=55%,"Y","N") -> Y | O48: 0.72 | P48: =IF(O48>=55%,"Y","N") -> Y
A49: M.PM - 20002 | B49: Bettina Rachel Jacob Sally | C49: 0.82 | D49: =IF(C49>=55%,"Y","N") -> Y | E49: 0.83 | F49: =IF(E49>=55%,"Y","N") -> Y | G49: 0.84 | H49: =IF(G49>=55%,"Y","N") -> Y | I49: 0.76 | J49: =IF(I49>=55%,"Y","N") -> Y | K49: 0.65 | L49: =IF(K49>=55%,"Y","N") -> Y | M49: 0.91 | N49: =IF(M49>=55%,"Y","N") -> Y | O49: 0.82 | P49: =IF(O49>=55%,"Y","N") -> Y
A50: M.PM - 20003 | B50: Bijayeeni U S | C50: 0.82 | D50: =IF(C50>=55%,"Y","N") -> Y | E50: 0.78 | F50: =IF(E50>=55%,"Y","N") -> Y | G50: 0.87 | H50: =IF(G50>=55%,"Y","N") -> Y | I50: 0.73 | J50: =IF(I50>=55%,"Y","N") -> Y | K50: 0.66 | L50: =IF(K50>=55%,"Y","N") -> Y | M50: 0.91 | N50: =IF(M50>=55%,"Y","N") -> Y | O50: 0.81 | P50: =IF(O50>=55%,"Y","N") -> Y
A51: M.PM - 20004 | B51: Chaudhari Vedant Dilip Vaishali | C51: 0.84 | D51: =IF(C51>=55%,"Y","N") -> Y | E51: 0.75 | F51: =IF(E51>=55%,"Y","N") -> Y | G51: 0.74 | H51: =IF(G51>=55%,"Y","N") -> Y | I51: 0.68 | J51: =IF(I51>=55%,"Y","N") -> Y | K51: 0.65 | L51: =IF(K51>=55%,"Y","N") -> Y | M51: 0.86 | N51: =IF(M51>=55%,"Y","N") -> Y | O51: 0.71 | P51: =IF(O51>=55%,"Y","N") -> Y
...

Sheet AY 22-23
C2: Chembur Trombay Education Society's
C3: CTES C O L L E G E O F A R C H I T E C T U R E | J3: CO - PO MAPPING AY 2022 - 2023
C5: N. G. Acharya Marg, Chembur, Mumbai 400071
C6: Approved by Council of Architecture
C7: (Affiliated to University of Mumbai)
A9: SEMESTER-I
A10: 44958
A11: Roll No. | B11: Student Name | C11: Management Theories - Principles & Practices (Th - 01) | E11: Law - 1 : Legal Frame work for Construction (Th - 02) | G11: Project Planning & Scheduling, Monitoring & Control (Th - 03) | I11: Construction Materials And its Management (St - 01) | K11: Computer Application in Construction Management (St-02) | M11: Elective - 1 (El -01) | O11: Elective - 2 (El -02)
A12: M.PM - 22001 | B12: CHAVAN VEDASHREE VISHWASRAO MANISHA | C12: 0.78 | D12: =IF(C12>=55%,"Y","N") -> Y | E12: 0.74 | F12: =IF(E12>=55%,"Y","N") -> Y | G12: 0.69 | H12: =IF(G12>=55%,"Y","N") -> Y | I12: 0.77 | J12: =IF(I12>=55%,"Y","N") -> Y | K12: 0.67 | L12: =IF(K12>=55%,"Y","N") -> Y | M12: 0.68 | N12: =IF(M12>=55%,"Y","N") -> Y | O12: 0.73 | P12: =IF(O12>=55%,"Y","N") -> Y
A13: M.PM - 22002 | B13: CHAVHAN AJAY SAKHARAM SUNITA | C13: 0.55 | D13: =IF(C13>=55%,"Y","N") -> Y | E13: 0.63 | F13: =IF(E13>=55%,"Y","N") -> Y | G13: 0.53 | H13: =IF(G13>=55%,"Y","N") -> N | I13: 0.73 | J13: =IF(I13>=55%,"Y","N") -> Y | K13: 0.63 | L13: =IF(K13>=55%,"Y","N") -> Y | M13: 0.74 | N13: =IF(M13>=55%,"Y","N") -> Y | O13: 0.68 | P13: =IF(O13>=55%,"Y","N") -> Y
A14: M.PM - 22003 | B14: DESAI CHETAN SURESH SNEHAL | C14: 0.74 | D14: =IF(C14>=55%,"Y","N") -> Y | E14: 0.78 | F14: =IF(E14>=55%,"Y","N") -> Y | G14: 0.76 | H14: =IF(G14>=55%,"Y","N") -> Y | I14: 0.81 | J14: =IF(I14>=55%,"Y","N") -> Y | K14: 0.69 | L14: =IF(K14>=55%,"Y","N") -> Y | M14: 0.72 | N14: =IF(M14>=55%,"Y","N") -> Y | O14: 0.76 | P14: =IF(O14>=55%,"Y","N") -> Y
A15: M.PM - 22004 | B15: DHIMAR DARSHANA AJAY DHARMISHTHA | C15: 0.68 | D15: =IF(C15>=55%,"Y","N") -> Y | E15: 0.79 | F15: =IF(E15>=55%,"Y","N") -> Y | G15: 0.63 | H15: =IF(G15>=55%,"Y","N") -> Y | I15: 0.73 | J15: =IF(I15>=55%,"Y","N") -> Y | K15: 0.64 | L15: =IF(K15>=55%,"Y","N") -> Y | M15: 0.6 | N15: =IF(M15>=55%,"Y","N") -> Y | O15: 0.76 | P15: =IF(O15>=55%,"Y","N") -> Y
A16: M.PM - 22005 | B16: KHOT PRATHAMESH SATISH SNEHA | C16: 0.6 | D16: =IF(C16>=55%,"Y","N") -> Y | E16: 0.73 | F16: =IF(E16>=55%,"Y","N") -> Y | G16: 0.55 | H16: =IF(G16>=55%,"Y","N") -> Y | I16: 0.81 | J16: =IF(I16>=55%,"Y","N") -> Y | K16: 0.69 | L16: =IF(K16>=55%,"Y","N") -> Y | M16: 0.78 | N16: =IF(M16>=55%,"Y","N") -> Y | O16: 0.83 | P16: =IF(O16>=55%,"Y","N") -> Y
A17: M.PM - 22006 | B17: KURANGALE MRUNAL KRUSHNA RADHIKA | C17: 0.54 | D17: =IF(C17>=55%,"Y","N") -> N | E17: 0.71 | F17: =IF(E17>=55%,"Y","N") -> Y | G17: 0.58 | H17: =IF(G17>=55%,"Y","N") -> Y | I17: 0.71 | J17: =IF(I17>=55%,"Y","N") -> Y | K17: 0.6 | L17: =IF(K17>=55%,"Y","N") -> Y | M17: 0.6 | N17: =IF(M17>=55%,"Y","N") -> Y | O17: 0.76 | P17: =IF(O17>=55%,"Y","N") -> Y
A18: M.PM - 22007 | B18: MATLAPURKAR MALAY MARUTI MADHAVI | C18: 0.79 | D18: =IF(C18>=55%,"Y","N") -> Y | E18: 0.75 | F18: =IF(E18>=55%,"Y","N") -> Y | G18: 0.65 | H18: =IF(G18>=55%,"Y","N") -> Y | I18: 0.76 | J18: =IF(I18>=55%,"Y","N") -> Y | K18: 0.7 | L18: =IF(K18>=55%,"Y","N") -> Y | M18: 0.92 | N18: =IF(M18>=55%,"Y","N") -> Y | O18: 0.85 | P18: =IF(O18>=55%,"Y","N") -> Y
A19: M.PM - 22008 | B19: NAMWAD SINDHU DHONDIBA SHAKUNTALA | C19: 0.68 | D19: =IF(C19>=55%,"Y","N") -> Y | E19: 0.74 | F19: =IF(E19>=55%,"Y","N") -> Y | G19: 0.64 | H19: =IF(G19>=55%,"Y","N") -> Y | I19: 0.75 | J19: =IF(I19>=55%,"Y","N") -> Y | K19: 0.59 | L19: =IF(K19>=55%,"Y","N") -> Y | M19: 0.6 | N19: =IF(M19>=55%,"Y","N") -> Y | O19: 0.75 | P19: =IF(O19>=55%,"Y","N") -> Y
A20: M.PM - 22009 | B20: PURANDARE SIDDHANT SUSHANT SHRUTI | C20: 0.56 | D20: =IF(C20>=55%,"Y","N") -> Y | E20: 0.58 | F20: =IF(E20>=55%,"Y","N") -> Y | G20: 0.54 | H20: =IF(G20>=55%,"Y","N") -> N | I20: 0.78 | J20: =IF(I20>=55%,"Y","N") -> Y | K20: 0.64 | L20: =IF(K20>=55%,"Y","N") -> Y | M20: 0.59 | N20: =IF(M20>=55%,"Y","N") -> Y | O20: 0.66 | P20: =IF(O20>=55%,"Y","N") -> Y
A21: M.PM - 22010 | B21: SHINGADIA AMISH MANISH YAMINI | C21: 0.65 | D21: =IF(C21>=55%,"Y","N") -> Y | E21: 0.61 | F21: =IF(E21>=55%,"Y","N") -> Y | G21: 0.61 | H21: =IF(G21>=55%,"Y","N") -> Y | I21: 0.8 | J21: =IF(I21>=55%,"Y","N") -> Y | K21: 0.61 | L21: =IF(K21>=55%,"Y","N") -> Y | M21: 0.68 | N21: =IF(M21>=55%,"Y","N") -> Y | O21: 0.83 | P21: =IF(O21>=55%,"Y","N") -> Y
A22: M.PM - 22011 | B22: SOLANKI SIMRAN VINOD PADMA | C22: 0.79 | D22: =IF(C22>=55%,"Y","N") -> Y | E22: 0.75 | F22: =IF(E22>=55%,"Y","N") -> Y | G22: 0.63 | H22: =IF(G22>=55%,"Y","N") -> Y | I22: 0.77 | J22: =IF(I22>=55%,"Y","N") -> Y | K22: 0.62 | L22: =IF(K22>=55%,"Y","N") -> Y | M22: 0.71 | N22: =IF(M22>=55%,"Y","N") -> Y | O22: 0.78 | P22: =IF(O22>=55%,"Y","N") -> Y
A32: No.of Students scoring 55% and Above | D32: =COUNTIF(D12:D31,"Y") -> 10 | F32: =COUNTIF(F12:F31,"Y") -> 11 | H32: =COUNTIF(H12:H31,"Y") -> 9 | J32: =COUNTIF(J12:J31,"Y") -> 11 | L32: =COUNTIF(L12:L31,"Y") -> 11 | N32: =COUNTIF(N12:N31,"Y") -> 11 | P32: =COUNTIF(P12:P31,"Y") -> 11
A33: % of Students Scoring 55% and above | D33: =(D32/11)*100 -> 90.909091 | F33: =(F32/11)*100 -> 100 | H33: =(H32/11)*100 -> 81.818182 | J33: =(J32/11)*100 -> 100 | L33: =(L32/11)*100 -> 100 | N33: =(N32/11)*100 -> 100 | P33: =(P32/11)*100 -> 100
A34: Attainment for PO-1 | C34: =POCO_CTES!$C$12 -> 0 | D34: =C34*($D$33/100) -> 0 | E34: =POCO_CTES!$C$13 -> 3 | F34: =E34*($F$33/100) -> 3 | G34: =POCO_CTES!$C$14 -> 3 | H34: =G34*($H$33/100) -> 2.4545455 | I34: =POCO_CTES!$C$15 -> 3 | J34: =I34*($J$33/100) -> 3 | K34: =POCO_CTES!$C$16 -> 0 | L34: =K34*($L$33/100) -> 0 | M34: =POCO_CTES!$C$17 -> 3 | N34: =M34*($N$33/100) -> 3 | O34: =POCO_CTES!$C$18 -> 3 | P34: =O34*($P$33/100) -> 3
A35: Attainment for PO-2 | C35: =POCO_CTES!$D$12 -> 3 | D35: =C35*($D$33/100) -> 2.7272727 | E35: =POCO_CTES!$D$13 -> 3 | F35: =E35*($F$33/100) -> 3 | G35: =POCO_CTES!$D$14 -> 0 | H35: =G35*($H$33/100) -> 0 | I35: =POCO_CTES!$D$15 -> 3 | J35: =I35*($J$33/100) -> 3 | K35: =POCO_CTES!$D$16 -> 3 | L35: =K35*($L$33/100) -> 3 | M35: =POCO_CTES!$D$17 -> 3 | N35: =M35*($N$33/100) -> 3 | O35: =POCO_CTES!$D$18 -> 3 | P35: =O35*($P$33/100) -> 3
A36: Attainment for PO-3 | C36: =POCO_CTES!$E$12 -> 0 | D36: =C36*($D$33/100) -> 0 | E36: =POCO_CTES!$E$13 -> 0 | F36: =E36*($F$33/100) -> 0 | G36: =POCO_CTES!$E$14 -> 3 | H36: =G36*($H$33/100) -> 2.4545455 | I36: =POCO_CTES!$E$15 -> 2 | J36: =I36*($J$33/100) -> 2 | K36: =POCO_CTES!$E$16 -> 0 | L36: =K36*($L$33/100) -> 0 | M36: =POCO_CTES!$E$17 -> 0 | N36: =M36*($N$33/100) -> 0 | O36: =POCO_CTES!$E$18 -> 3 | P36: =O36*($P$33/100) -> 3
A37: Attainment for PO-4 | C37: =POCO_CTES!$F$12 -> 2 | D37: =C37*($D$33/100) -> 1.8181818 | E37: =POCO_CTES!$F$13 -> 0 | F37: =E37*($F$33/100) -> 0 | G37: =POCO_CTES!$F$14 -> 0 | H37: =G37*($H$33/100) -> 0 | I37: =POCO_CTES!$F$15 -> 3 | J37: =I37*($J$33/100) -> 3 | K37: =POCO_CTES!$F$16 -> 0 | L37: =K37*($L$33/100) -> 0 | M37: =POCO_CTES!$F$17 -> 0 | N37: =M37*($N$33/100) -> 0 | O37: =POCO_CTES!$F$18 -> 0 | P37: =O37*($P$33/100) -> 0
A38: Attainment for PO-5 | C38: =POCO_CTES!$G$12 -> 0 | D38: =C38*($D$33/100) -> 0 | E38: =POCO_CTES!$G$13 -> 0 | F38: =E38*($F$33/100) -> 0 | G38: =POCO_CTES!$G$14 -> 2 | H38: =G38*($H$33/100) -> 1.6363636 | I38: =POCO_CTES!$G$15 -> 0 | J38: =I38*($J$33/100) -> 0 | K38: =POCO_CTES!$G$16 -> 3 | L38: =K38*($L$33/100) -> 3 | M38: =POCO_CTES!$G$17 -> 0 | N38: =M38*($N$33/100) -> 0 | O38: =POCO_CTES!$G$18 -> 0 | P38: =O38*($P$33/100) -> 0
A39: Attainment for PO-6 | C39: =POCO_CTES!$H$12 -> 0 | D39: =C39*($D$33/100) -> 0 | E39: =POCO_CTES!$H$13 -> 0 | F39: =E39*($F$33/100) -> 0 | G39: =POCO_CTES!$H$14 -> 0 | H39: =G39*($H$33/100) -> 0 | I39: =POCO_CTES!$H$15 -> 2 | J39: =I39*($J$33/100) -> 2 | K39: =POCO_CTES!$H$16 -> 0 | L39: =K39*($L$33/100) -> 0 | M39: =POCO_CTES!$H$17 -> 0 | N39: =M39*($N$33/100) -> 0 | O39: =POCO_CTES!$H$18 -> 0 | P39: =O39*($P$33/100) -> 0 | Q39: `
A40: Attainment for PO-7 | C40: =POCO_CTES!$I$12 -> 3 | D40: =C40*($D$33/100) -> 2.7272727 | E40: =POCO_CTES!$I$13 -> 0 | F40: =E40*($F$33/100) -> 0 | G40: =POCO_CTES!$I$14 -> 0 | H40: =G40*($H$33/100) -> 0 | I40: =POCO_CTES!$I$15 -> 0 | J40: =I40*($J$33/100) -> 0 | K40: =POCO_CTES!$I$16 -> 0 | L40: =K40*($L$33/100) -> 0 | M40: =POCO_CTES!$I$17 -> 0 | N40: =M40*($N$33/100) -> 0 | O40: =POCO_CTES!$I$18 -> 0 | P40: =O40*($P$33/100) -> 0
A41: Attainment for PO-8 | C41: =POCO_CTES!$J$12 -> 2 | D41: =C41*($D$33/100) -> 1.8181818 | E41: =POCO_CTES!$J$13 -> 3 | F41: =E41*($F$33/100) -> 3 | G41: =POCO_CTES!$J$14 -> 0 | H41: =G41*($H$33/100) -> 0 | I41: =POCO_CTES!$J$15 -> 0 | J41: =I41*($J$33/100) -> 0 | K41: =POCO_CTES!$J$16 -> 0 | L41: =K41*($L$33/100) -> 0 | M41: =POCO_CTES!$J$17 -> 0 | N41: =M41*($N$33/100) -> 0 | O41: =POCO_CTES!$J$18 -> 0 | P41: =O41*($P$33/100) -> 0
A42: Total of the Marks obtained by all students | C42: =SUM(C12:C31) -> 7.36 | E42: =SUM(E12:E31) -> 7.81 | G42: =SUM(G12:G31) -> 6.81 | I42: =SUM(I12:I31) -> 8.42 | K42: =SUM(K12:K31) -> 7.08 | M42: =SUM(M12:M31) -> 7.62 | O42: =SUM(O12:O31) -> 8.39
A43: Teacher Attainment(Percentage) | C43: =C42/11*100 -> 66.909091 | E43: =E42/11*100 -> 71 | G43: =G42/11*100 -> 61.909091 | I43: =I42/11*100 -> 76.545455 | K43: =K42/11*100 -> 64.363636 | M43: =M42/11*100 -> 69.272727 | O43: =O42/11*100 -> 76.272727 | Q43: `
A45: SEMESTER-III
A46: 44896
A47: Roll No. | B47: Student Name | C47: Project Appraisal and Finance Management (Th- 07) | E47: Construction Marketing Management (Th- 08) | G47: Managerial Decision Making (Th- 09) | I47: Construction Management Studio (St- 05) | K47: Dissertation Stage- I (St-06) | M47: Elective- 1 (El- 09) | O47: Elective- 2 (El- 10)
A48: M.PM - 21001 | B48: GAIKHE ROHAN VITHOBA SUNANDA | C48: 0.73 | D48: =IF(C48>=55%,"Y","N") -> Y | E48: 0.66 | F48: =IF(E48>=55%,"Y","N") -> Y | G48: 0.48 | H48: =IF(G48>=55%,"Y","N") -> N | I48: 0.7 | J48: =IF(I48>=55%,"Y","N") -> Y | K48: 0.61 | L48: =IF(K48>=55%,"Y","N") -> Y | M48: 0.88 | N48: =IF(M48>=55%,"Y","N") -> Y | O48: 0.75 | P48: =IF(O48>=55%,"Y","N") -> Y
A49: M.PM - 21002 | B49: GAIKWAD MADHURA VINAYAK MINAL | C49: 0.74 | D49: =IF(C49>=55%,"Y","N") -> Y | E49: 0.63 | F49: =IF(E49>=55%,"Y","N") -> Y | G49: 0.68 | H49: =IF(G49>=55%,"Y","N") -> Y | I49: 0.77 | J49: =IF(I49>=55%,"Y","N") -> Y | K49: 0.81 | L49: =IF(K49>=55%,"Y","N") -> Y | M49: 0.89 | N49: =IF(M49>=55%,"Y","N") -> Y | O49: 0.76 | P49: =IF(O49>=55%,"Y","N") -> Y
A50: M.PM - 21003 | B50: GANU PRAJAKTA PRAKASH PRACHI | C50: 0.81 | D50: =IF(C50>=55%,"Y","N") -> Y | E50: 0.76 | F50: =IF(E50>=55%,"Y","N") -> Y | G50: 0.77 | H50: =IF(G50>=55%,"Y","N") -> Y | I50: 0.8 | J50: =IF(I50>=55%,"Y","N") -> Y | K50: 0.74 | L50: =IF(K50>=55%,"Y","N") -> Y | M50: 0.87 | N50: =IF(M50>=55%,"Y","N") -> Y | O50: 0.87 | P50: =IF(O50>=55%,"Y","N") -> Y
A51: M.PM - 21004 | B51: GAWAND VINAYA VILAS VARSHA | C51: 0.68 | D51: =IF(C51>=55%,"Y","N") -> Y | E51: 0.69 | F51: =IF(E51>=55%,"Y","N") -> Y | G51: 0.47 | H51: =IF(G51>=55%,"Y","N") -> N | I51: 0.69 | J51: =IF(I51>=55%,"Y","N") -> Y | K51: 0.68 | L51: =IF(K51>=55%,"Y","N") -> Y | M51: 0.87 | N51: =IF(M51>=55%,"Y","N") -> Y | O51: 0.75 | P51: =IF(O51>=55%,"Y","N") -> Y
A52: M.PM - 21006 | B52: KARANI NIKITA DEEPAK MANISHA | C52: 0.88 | D52: =IF(C52>=55%,"Y","N") -> Y | E52: 0.79 | F52: =IF(E52>=55%,"Y","N") -> Y | G52: 0.89 | H52: =IF(G52>=55%,"Y","N") -> Y | I52: 0.69 | J52: =IF(I52>=55%,"Y","N") -> Y | K52: 0.78 | L52: =IF(K52>=55%,"Y","N") -> Y | M52: 0.94 | N52: =IF(M52>=55%,"Y","N") -> Y | O52: 0.88 | P52: =IF(O52>=55%,"Y","N") -> Y
A53: M.PM - 21007 | B53: MIRAJKAR AQSA GAZANFAR NOORJAHAN | C53: 0.77 | D53: =IF(C53>=55%,"Y","N") -> Y | E53: 0.59 | F53: =IF(E53>=55%,"Y","N") -> Y | G53: 0.6 | H53: =IF(G53>=55%,"Y","N") -> Y | I53: 0.78 | J53: =IF(I53>=55%,"Y","N") -> Y | K53: 0.73 | L53: =IF(K53>=55%,"Y","N") -> Y | M53: 0.94 | N53: =IF(M53>=55%,"Y","N") -> Y | O53: 0.73 | P53: =IF(O53>=55%,"Y","N") -> Y
...
